Workbook
Name サービス提供時間: #REF!
Name サービス提供時間1: #REF!
Name サービス提供時間2: #REF!
Name サービス提供時間3: #REF!
Name サービス提供時間4: #REF!
Name サービス提供時間5: #REF!
Name サービス提供時間6: #REF!
Name 介護度: #REF!

Sheet 基本情報入力シート
A2: 基 本 情 報 入 力 シ ー ト （訪問介護事業所用）
A3: 特別地域加算対象地域内に居住する利用者を対象に行う場合用
A5: 1.基本情報
A6: 事業者 | I6: フリガナ
I7: 名称
A8: 事業者 所在地 | I8: 〒 | Z8: -
I9: 住所１（番地・住居番号まで）
I10: 住所２（建物名等）
A11: 事業者 代表者 | I11: 職名
I12: 氏名
A13: 法人番号
A14: 書類作成 担当者 | I14: フリガナ
I15: 氏名
A16: 連絡先 | I16: 電話番号
I17: E-mail
A18: 事業所名
A19: 事業所所在地
A20: サービス種別 | V20: 訪問介護
A21: 補助対象事業区分 | V21: 別表第1の1 区分2 移動に片道20分以上の時間を要するサービ（特別地域加算対象地域内に所在する事業者が中山間地域等に居住する利用者を対象に行う場合）

Sheet (附表１－３)年間実施計画
A1: 附表１－３ | H1: 令和 年 月 日
A2: 吉備中央町長 様 | R2: 対象者人数 | S2: サービス 提供回数
Q3: 広面 | R3: =COUNTIF($C$16:$C$45,Q3)+COUNTIF($C$50:$C$64,Q3)+COUNTIF($C$69:$C$98,Q3)+COUNTIF($C$103:$C$107,Q3) -> 0 | S3: =SUMIF($C$16:$C$45,Q3,$G$16:$G$45)+SUMIF($C$50:$C$64,Q3,$G$50:$G$64)+SUMIF($C$69:$C$98,Q3,$G$69:$G$98)+SUMIF($C$103:$C$107,Q3,$F$103:$F$107) -> 0
A4: 年 間 実 施 計 画 （訪問介護事業所用） | Q4: 上加茂 | R4: =COUNTIF($C$16:$C$45,Q4)+COUNTIF($C$50:$C$64,Q4)+COUNTIF($C$69:$C$98,Q4)+COUNTIF($C$103:$C$107,Q4) -> 0 | S4: =SUMIF($C$16:$C$45,Q4,$G$16:$G$45)+SUMIF($C$50:$C$64,Q4,$G$50:$G$64)+SUMIF($C$69:$C$98,Q4,$G$69:$G$98)+SUMIF($C$103:$C$107,Q4,$F$103:$F$107) -> 0
Q5: 下加茂 | R5: =COUNTIF($C$16:$C$45,Q5)+COUNTIF($C$50:$C$64,Q5)+COUNTIF($C$69:$C$98,Q5)+COUNTIF($C$103:$C$107,Q5) -> 0 | S5: =SUMIF($C$16:$C$45,Q5,$G$16:$G$45)+SUMIF($C$50:$C$64,Q5,$G$50:$G$64)+SUMIF($C$69:$C$98,Q5,$G$69:$G$98)+SUMIF($C$103:$C$107,Q5,$F$103:$F$107) -> 0
A6: 1.事業所情報 | Q6: 美原 | R6: =COUNTIF($C$16:$C$45,Q6)+COUNTIF($C$50:$C$64,Q6)+COUNTIF($C$69:$C$98,Q6)+COUNTIF($C$103:$C$107,Q6) -> 0 | S6: =SUMIF($C$16:$C$45,Q6,$G$16:$G$45)+SUMIF($C$50:$C$64,Q6,$G$50:$G$64)+SUMIF($C$69:$C$98,Q6,$G$69:$G$98)+SUMIF($C$103:$C$107,Q6,$F$103:$F$107) -> 0
A7: 事業者名 | B7: =IF(基本情報入力シート!V7="","",基本情報入力シート!V7) | Q7: 加茂市場 | R7: =COUNTIF($C$16:$C$45,Q7)+COUNTIF($C$50:$C$64,Q7)+COUNTIF($C$69:$C$98,Q7)+COUNTIF($C$103:$C$107,Q7) -> 0 | S7: =SUMIF($C$16:$C$45,Q7,$G$16:$G$45)+SUMIF($C$50:$C$64,Q7,$G$50:$G$64)+SUMIF($C$69:$C$98,Q7,$G$69:$G$98)+SUMIF($C$103:$C$107,Q7,$F$103:$F$107) -> 0
A8: 事業所名 | B8: =IF(基本情報入力シート!V18="","",基本情報入力シート!V18) | Q8: 高谷 | R8: =COUNTIF($C$16:$C$45,Q8)+COUNTIF($C$50:$C$64,Q8)+COUNTIF($C$69:$C$98,Q8)+COUNTIF($C$103:$C$107,Q8) -> 0 | S8: =SUMIF($C$16:$C$45,Q8,$G$16:$G$45)+SUMIF($C$50:$C$64,Q8,$G$50:$G$64)+SUMIF($C$69:$C$98,Q8,$G$69:$G$98)+SUMIF($C$103:$C$107,Q8,$F$103:$F$107) -> 0
A9: 事業所所在地 | B9: =IF(基本情報入力シート!V19="","",基本情報入力シート!V19) | Q9: 平岡 | R9: =COUNTIF($C$16:$C$45,Q9)+COUNTIF($C$50:$C$64,Q9)+COUNTIF($C$69:$C$98,Q9)+COUNTIF($C$103:$C$107,Q9) -> 0 | S9: =SUMIF($C$16:$C$45,Q9,$G$16:$G$45)+SUMIF($C$50:$C$64,Q9,$G$50:$G$64)+SUMIF($C$69:$C$98,Q9,$G$69:$G$98)+SUMIF($C$103:$C$107,Q9,$F$103:$F$107) -> 0
A10: サービス種別 | B10: =IF(基本情報入力シート!V20="","",基本情報入力シート!V20) -> 訪問介護 | Q10: 上野 | R10: =COUNTIF($C$16:$C$45,Q10)+COUNTIF($C$50:$C$64,Q10)+COUNTIF($C$69:$C$98,Q10)+COUNTIF($C$103:$C$107,Q10) -> 0 | S10: =SUMIF($C$16:$C$45,Q10,$G$16:$G$45)+SUMIF($C$50:$C$64,Q10,$G$50:$G$64)+SUMIF($C$69:$C$98,Q10,$G$69:$G$98)+SUMIF($C$103:$C$107,Q10,$F$103:$F$107) -> 0
A11: 補助対象事業区分 | B11: =IF(基本情報入力シート!V21="","",基本情報入力シート!V21) -> 別表第1の1 区分2 移動に片道20分以上の時間を要するサービ（特別地域加算対象地域内に所在する事業者が中山間地域等に居住する利用者を対象に行う場合） | Q11: 竹部 | R11: =COUNTIF($C$16:$C$45,Q11)+COUNTIF($C$50:$C$64,Q11)+COUNTIF($C$69:$C$98,Q11)+COUNTIF($C$103:$C$107,Q11) -> 0 | S11: =SUMIF($C$16:$C$45,Q11,$G$16:$G$45)+SUMIF($C$50:$C$64,Q11,$G$50:$G$64)+SUMIF($C$69:$C$98,Q11,$G$69:$G$98)+SUMIF($C$103:$C$107,Q11,$F$103:$F$107) -> 0
Q12: 上田東 | R12: =COUNTIF($C$16:$C$45,Q12)+COUNTIF($C$50:$C$64,Q12)+COUNTIF($C$69:$C$98,Q12)+COUNTIF($C$103:$C$107,Q12) -> 0 | S12: =SUMIF($C$16:$C$45,Q12,$G$16:$G$45)+SUMIF($C$50:$C$64,Q12,$G$50:$G$64)+SUMIF($C$69:$C$98,Q12,$G$69:$G$98)+SUMIF($C$103:$C$107,Q12,$F$103:$F$107) -> 0
A13: 2.年間実施計画明細 | Q13: 細田 | R13: =COUNTIF($C$16:$C$45,Q13)+COUNTIF($C$50:$C$64,Q13)+COUNTIF($C$69:$C$98,Q13)+COUNTIF($C$103:$C$107,Q13) -> 0 | S13: =SUMIF($C$16:$C$45,Q13,$G$16:$G$45)+SUMIF($C$50:$C$64,Q13,$G$50:$G$64)+SUMIF($C$69:$C$98,Q13,$G$69:$G$98)+SUMIF($C$103:$C$107,Q13,$F$103:$F$107) -> 0
A14: イ 身体介護が中心である場合 | Q14: 三納谷 | R14: =COUNTIF($C$16:$C$45,Q14)+COUNTIF($C$50:$C$64,Q14)+COUNTIF($C$69:$C$98,Q14)+COUNTIF($C$103:$C$107,Q14) -> 0 | S14: =SUMIF($C$16:$C$45,Q14,$G$16:$G$45)+SUMIF($C$50:$C$64,Q14,$G$50:$G$64)+SUMIF($C$69:$C$98,Q14,$G$69:$G$98)+SUMIF($C$103:$C$107,Q14,$F$103:$F$107) -> 0
A15: 被保険者番号 | B15: 被保険者氏名 | C15: 地区名 | D15: 事業所から 利用者宅までの 距離（km） | E15: 事業所から 利用者宅までの 所要時間（分） | F15: サービス提供時間 | G15: 月間予定回数 (月平均回数) | H15: 基本報酬 （月単位数） | I15: 基準額(月) | J15: 基準額(年) | Q15: 上田西 | R15: =COUNTIF($C$16:$C$45,Q15)+COUNTIF($C$50:$C$64,Q15)+COUNTIF($C$69:$C$98,Q15)+COUNTIF($C$103:$C$107,Q15) -> 0 | S15: =SUMIF($C$16:$C$45,Q15,$G$16:$G$45)+SUMIF($C$50:$C$64,Q15,$G$50:$G$64)+SUMIF($C$69:$C$98,Q15,$G$69:$G$98)+SUMIF($C$103:$C$107,Q15,$F$103:$F$107) -> 0
H16: =IF(AND(A16<>"",B16<>"",C16<>"",D16<>"",E16<>"",F16<>"",G16<>""),VLOOKUP($F16,訪問介護費!$A$5:$B$8,2,0),0) -> 0 | I16: =(H16*G16)*0.1*10 -> 0 | J16: =I16*12 -> 0 | Q16: 円城 | R16: =COUNTIF($C$16:$C$45,Q16)+COUNTIF($C$50:$C$64,Q16)+COUNTIF($C$69:$C$98,Q16)+COUNTIF($C$103:$C$107,Q16) -> 0 | S16: =SUMIF($C$16:$C$45,Q16,$G$16:$G$45)+SUMIF($C$50:$C$64,Q16,$G$50:$G$64)+SUMIF($C$69:$C$98,Q16,$G$69:$G$98)+SUMIF($C$103:$C$107,Q16,$F$103:$F$107) -> 0
H17: =IF(AND(A17<>"",B17<>"",C17<>"",D17<>"",E17<>"",F17<>"",G17<>""),VLOOKUP($F17,訪問介護費!$A$5:$B$8,2,0),0) -> 0 | I17: =(H17*G17)*0.1*10 -> 0 | J17: =I17*12 -> 0 | Q17: 案田 | R17: =COUNTIF($C$16:$C$45,Q17)+COUNTIF($C$50:$C$64,Q17)+COUNTIF($C$69:$C$98,Q17)+COUNTIF($C$103:$C$107,Q17) -> 0 | S17: =SUMIF($C$16:$C$45,Q17,$G$16:$G$45)+SUMIF($C$50:$C$64,Q17,$G$50:$G$64)+SUMIF($C$69:$C$98,Q17,$G$69:$G$98)+SUMIF($C$103:$C$107,Q17,$F$103:$F$107) -> 0
H18: =IF(AND(A18<>"",B18<>"",C18<>"",D18<>"",E18<>"",F18<>"",G18<>""),VLOOKUP($F18,訪問介護費!$A$5:$B$8,2,0),0) -> 0 | I18: =(H18*G18)*0.1*10 -> 0 | J18: =I18*12 -> 0 | Q18: 高富 | R18: =COUNTIF($C$16:$C$45,Q18)+COUNTIF($C$50:$C$64,Q18)+COUNTIF($C$69:$C$98,Q18)+COUNTIF($C$103:$C$107,Q18) -> 0 | S18: =SUMIF($C$16:$C$45,Q18,$G$16:$G$45)+SUMIF($C$50:$C$64,Q18,$G$50:$G$64)+SUMIF($C$69:$C$98,Q18,$G$69:$G$98)+SUMIF($C$103:$C$107,Q18,$F$103:$F$107) -> 0
H19: =IF(AND(A19<>"",B19<>"",C19<>"",D19<>"",E19<>"",F19<>"",G19<>""),VLOOKUP($F19,訪問介護費!$A$5:$B$8,2,0),0) -> 0 | I19: =(H19*G19)*0.1*10 -> 0 | J19: =I19*12 -> 0 | Q19: 神瀬 | R19: =COUNTIF($C$16:$C$45,Q19)+COUNTIF($C$50:$C$64,Q19)+COUNTIF($C$69:$C$98,Q19)+COUNTIF($C$103:$C$107,Q19) -> 0 | S19: =SUMIF($C$16:$C$45,Q19,$G$16:$G$45)+SUMIF($C$50:$C$64,Q19,$G$50:$G$64)+SUMIF($C$69:$C$98,Q19,$G$69:$G$98)+SUMIF($C$103:$C$107,Q19,$F$103:$F$107) -> 0
H20: =IF(AND(A20<>"",B20<>"",C20<>"",D20<>"",E20<>"",F20<>"",G20<>""),VLOOKUP($F20,訪問介護費!$A$5:$B$8,2,0),0) -> 0 | I20: =(H20*G20)*0.1*10 -> 0 | J20: =I20*12 -> 0 | Q20: 小森 | R20: =COUNTIF($C$16:$C$45,Q20)+COUNTIF($C$50:$C$64,Q20)+COUNTIF($C$69:$C$98,Q20)+COUNTIF($C$103:$C$107,Q20) -> 0 | S20: =SUMIF($C$16:$C$45,Q20,$G$16:$G$45)+SUMIF($C$50:$C$64,Q20,$G$50:$G$64)+SUMIF($C$69:$C$98,Q20,$G$69:$G$98)+SUMIF($C$103:$C$107,Q20,$F$103:$F$107) -> 0
H21: =IF(AND(A21<>"",B21<>"",C21<>"",D21<>"",E21<>"",F21<>"",G21<>""),VLOOKUP($F21,訪問介護費!$A$5:$B$8,2,0),0) -> 0 | I21: =(H21*G21)*0.1*10 -> 0 | J21: =I21*12 -> 0 | Q21: 尾原 | R21: =COUNTIF($C$16:$C$45,Q21)+COUNTIF($C$50:$C$64,Q21)+COUNTIF($C$69:$C$98,Q21)+COUNTIF($C$103:$C$107,Q21) -> 0 | S21: =SUMIF($C$16:$C$45,Q21,$G$16:$G$45)+SUMIF($C$50:$C$64,Q21,$G$50:$G$64)+SUMIF($C$69:$C$98,Q21,$G$69:$G$98)+SUMIF($C$103:$C$107,Q21,$F$103:$F$107) -> 0
H22: =IF(AND(A22<>"",B22<>"",C22<>"",D22<>"",E22<>"",F22<>"",G22<>""),VLOOKUP($F22,訪問介護費!$A$5:$B$8,2,0),0) -> 0 | I22: =(H22*G22)*0.1*10 -> 0 | J22: =I22*12 -> 0 | Q22: 笹目 | R22: =COUNTIF($C$16:$C$45,Q22)+COUNTIF($C$50:$C$64,Q22)+COUNTIF($C$69:$C$98,Q22)+COUNTIF($C$103:$C$107,Q22) -> 0 | S22: =SUMIF($C$16:$C$45,Q22,$G$16:$G$45)+SUMIF($C$50:$C$64,Q22,$G$50:$G$64)+SUMIF($C$69:$C$98,Q22,$G$69:$G$98)+SUMIF($C$103:$C$107,Q22,$F$103:$F$107) -> 0
H23: =IF(AND(A23<>"",B23<>"",C23<>"",D23<>"",E23<>"",F23<>"",G23<>""),VLOOKUP($F23,訪問介護費!$A$5:$B$8,2,0),0) -> 0 | I23: =(H23*G23)*0.1*10 -> 0 | J23: =I23*12 -> 0 | Q23: 福沢 | R23: =COUNTIF($C$16:$C$45,Q23)+COUNTIF($C$50:$C$64,Q23)+COUNTIF($C$69:$C$98,Q23)+COUNTIF($C$103:$C$107,Q23) -> 0 | S23: =SUMIF($C$16:$C$45,Q23,$G$16:$G$45)+SUMIF($C$50:$C$64,Q23,$G$50:$G$64)+SUMIF($C$69:$C$98,Q23,$G$69:$G$98)+SUMIF($C$103:$C$107,Q23,$F$103:$F$107) -> 0
H24: =IF(AND(A24<>"",B24<>"",C24<>"",D24<>"",E24<>"",F24<>"",G24<>""),VLOOKUP($F24,訪問介護費!$A$5:$B$8,2,0),0) -> 0 | I24: =(H24*G24)*0.1*10 -> 0 | J24: =I24*12 -> 0 | Q24: 溝部 | R24: =COUNTIF($C$16:$C$45,Q24)+COUNTIF($C$50:$C$64,Q24)+COUNTIF($C$69:$C$98,Q24)+COUNTIF($C$103:$C$107,Q24) -> 0 | S24: =SUMIF($C$16:$C$45,Q24,$G$16:$G$45)+SUMIF($C$50:$C$64,Q24,$G$50:$G$64)+SUMIF($C$69:$C$98,Q24,$G$69:$G$98)+SUMIF($C$103:$C$107,Q24,$F$103:$F$107) -> 0
H25: =IF(AND(A25<>"",B25<>"",C25<>"",D25<>"",E25<>"",F25<>"",G25<>""),VLOOKUP($F25,訪問介護費!$A$5:$B$8,2,0),0) -> 0 | I25: =(H25*G25)*0.1*10 -> 0 | J25: =I25*12 -> 0 | Q25: 富永 | R25: =COUNTIF($C$16:$C$45,Q25)+COUNTIF($C$50:$C$64,Q25)+COUNTIF($C$69:$C$98,Q25)+COUNTIF($C$103:$C$107,Q25) -> 0 | S25: =SUMIF($C$16:$C$45,Q25,$G$16:$G$45)+SUMIF($C$50:$C$64,Q25,$G$50:$G$64)+SUMIF($C$69:$C$98,Q25,$G$69:$G$98)+SUMIF($C$103:$C$107,Q25,$F$103:$F$107) -> 0
H26: =IF(AND(A26<>"",B26<>"",C26<>"",D26<>"",E26<>"",F26<>"",G26<>""),VLOOKUP($F26,訪問介護費!$A$5:$B$8,2,0),0) -> 0 | I26: =(H26*G26)*0.1*10 -> 0 | J26: =I26*12 -> 0 | Q26: 下土井 | R26: =COUNTIF($C$16:$C$45,Q26)+COUNTIF($C$50:$C$64,Q26)+COUNTIF($C$69:$C$98,Q26)+COUNTIF($C$103:$C$107,Q26) -> 0 | S26: =SUMIF($C$16:$C$45,Q26,$G$16:$G$45)+SUMIF($C$50:$C$64,Q26,$G$50:$G$64)+SUMIF($C$69:$C$98,Q26,$G$69:$G$98)+SUMIF($C$103:$C$107,Q26,$F$103:$F$107) -> 0
H27: =IF(AND(A27<>"",B27<>"",C27<>"",D27<>"",E27<>"",F27<>"",G27<>""),VLOOKUP($F27,訪問介護費!$A$5:$B$8,2,0),0) -> 0 | I27: =(H27*G27)*0.1*10 -> 0 | J27: =I27*12 -> 0 | Q27: 和田 | R27: =COUNTIF($C$16:$C$45,Q27)+COUNTIF($C$50:$C$64,Q27)+COUNTIF($C$69:$C$98,Q27)+COUNTIF($C$103:$C$107,Q27) -> 0 | S27: =SUMIF($C$16:$C$45,Q27,$G$16:$G$45)+SUMIF($C$50:$C$64,Q27,$G$50:$G$64)+SUMIF($C$69:$C$98,Q27,$G$69:$G$98)+SUMIF($C$103:$C$107,Q27,$F$103:$F$107) -> 0
... H45: =IF(AND(A45<>"",B45<>"",C45<>"",D45<>"",E45<>"",F45<>"",G45<>""),VLOOKUP($F45,訪問介護費!$A$5:$B$8,2,0),0) -> 0 | I45: =(H45*G45)*0.1*10 -> 0 | J45: =I45*12 -> 0 | Q45: 岨谷 | R45: =COUNTIF($C$16:$C$45,Q45)+COUNTIF($C$50:$C$64,Q45)+COUNTIF($C$69:$C$98,Q45)+COUNTIF($C$103:$C$107,Q45) -> 0 | S45: =SUMIF($C$16:$C$45,Q45,$G$16:$G$45)+SUMIF($C$50:$C$64,Q45,$G$50:$G$64)+SUMIF($C$69:$C$98,Q45,$G$69:$G$98)+SUMIF($C$103:$C$107,Q45,$F$103:$F$107) -> 0
A46: 合計 | G46: =SUMIF(G16:G45,"<>#N/A") -> 0 | H46: =SUMIF(H16:H45,"<>#N/A") -> 0 | I46: =SUMIF(I16:I45,"<>#N/A") -> 0 | J46: =SUMIF(J16:J45,"<>#N/A") -> 0 | Q46: 宮地 | R46: =COUNTIF($C$16:$C$45,Q46)+COUNTIF($C$50:$C$64,Q46)+COUNTIF($C$69:$C$98,Q46)+COUNTIF($C$103:$C$107,Q46) -> 0 | S46: =SUMIF($C$16:$C$45,Q46,$G$16:$G$45)+SUMIF($C$50:$C$64,Q46,$G$50:$G$64)+SUMIF($C$69:$C$98,Q46,$G$69:$G$98)+SUMIF($C$103:$C$107,Q46,$F$103:$F$107) -> 0
Q47: 西 | R47: =COUNTIF($C$16:$C$45,Q47)+COUNTIF($C$50:$C$64,Q47)+COUNTIF($C$69:$C$98,Q47)+COUNTIF($C$103:$C$107,Q47) -> 0 | S47: =SUMIF($C$16:$C$45,Q47,$G$16:$G$45)+SUMIF($C$50:$C$64,Q47,$G$50:$G$64)+SUMIF($C$69:$C$98,Q47,$G$69:$G$98)+SUMIF($C$103:$C$107,Q47,$F$103:$F$107) -> 0
A48: イ 身体介護が中心である場合 ※サービス提供時間が所要時間1時間以上の場合 | R48: =SUM(R3:R47) -> 0 | S48: =SUM(S3:S47) -> 0
A49: 被保険者番号 | B49: 被保険者氏名 | C49: 地区名 | D49: 事業所から 利用者宅までの 距離（km） | E49: 事業所から 利用者宅までの 所要時間（分） | F49: サービス提供時間 | G49: 月間予定回数 (月平均回数) | H49: 基本報酬 （月単位数） | I49: 基準額(月) | J49: 基準額(年)
F50: ④所要時間1時間以上の場合 | I50: =IF(AND(A50<>"",B50<>"",C50<>"",D50<>"",E50<>""),((H50*G50)*0.1*10),0) -> 0 | J50: =I50*12 -> 0
F51: ④所要時間1時間以上の場合 | I51: =IF(AND(A51<>"",B51<>"",C51<>"",D51<>"",E51<>""),((H51*G51)*0.1*10),0) -> 0 | J51: =I51*12 -> 0
F52: ④所要時間1時間以上の場合 | I52: =IF(AND(A52<>"",B52<>"",C52<>"",D52<>"",E52<>""),((H52*G52)*0.1*10),0) -> 0 | J52: =I52*12 -> 0
F53: ④所要時間1時間以上の場合 | I53: =IF(AND(A53<>"",B53<>"",C53<>"",D53<>"",E53<>""),((H53*G53)*0.1*10),0) -> 0 | J53: =I53*12 -> 0
F54: ④所要時間1時間以上の場合 | I54: =IF(AND(A54<>"",B54<>"",C54<>"",D54<>"",E54<>""),((H54*G54)*0.1*10),0) -> 0 | J54: =I54*12 -> 0
F55: ④所要時間1時間以上の場合 | I55: =IF(AND(A55<>"",B55<>"",C55<>"",D55<>"",E55<>""),((H55*G55)*0.1*10),0) -> 0 | J55: =I55*12 -> 0
F56: ④所要時間1時間以上の場合 | I56: =IF(AND(A56<>"",B56<>"",C56<>"",D56<>"",E56<>""),((H56*G56)*0.1*10),0) -> 0 | J56: =I56*12 -> 0
F57: ④所要時間1時間以上の場合 | I57: =IF(AND(A57<>"",B57<>"",C57<>"",D57<>"",E57<>""),((H57*G57)*0.1*10),0) -> 0 | J57: =I57*12 -> 0
...

Sheet (附表１－１)(附表１－２)補助金所要額調
A1: 附表１－１
B2: 吉備中央町中山間特別地域訪問介護サービス等支援事業 補助金所要額調
CC4: 事業者名 | CJ4: =IF(基本情報入力シート!V7="","",基本情報入力シート!V7)
B6: 事業所名 | N6: サービス種別 | Z6: 補助対象事業区分 | BI6: 地区数 | BS6: 対象者数 | CC6: サービス 提供回数 | CM6: 基準額 | CW6: 補助金所要額
B7: =IF(基本情報入力シート!V18="","",基本情報入力シート!V18) | N7: =IF(基本情報入力シート!V20="","",基本情報入力シート!V20) -> 訪問介護 | Z7: =IF(基本情報入力シート!V21="","",基本情報入力シート!V21) -> 別表第1の1 区分2 移動に片道20分以上の時間を要するサービ（特別地域加算対象地域内に所在する事業者が中山間地域等に居住する利用者を対象に行う場合） | BI7: ='(附表１－３)年間実施計画'!A112 -> 0 | BS7: ='(附表１－３)年間実施計画'!B112 -> 0 | CC7: ='(附表１－３)年間実施計画'!C112 -> 0 | CM7: =IF('(附表１－３)年間実施計画'!E112<>"",'(附表１－３)年間実施計画'!E112,0) -> 0 | CW7: =ROUNDDOWN(CM7,-3) -> 0
B9: （注）補助金所要額欄は、事業所ごとに千円未満の額を切り捨てた額を記入すること。
A11: 附表１－２
B12: 年間計画内訳 | BJ12: 事業者名 | BQ12: =IF(基本情報入力シート!V7="","",基本情報入力シート!V7)
BJ13: 事業所名 | BQ13: =IF(基本情報入力シート!V18="","",基本情報入力シート!V18)
B15: 地域名 | H15: 対象人数 | O15: サービス 提供回数 | V15: 地域名 | AB15: 対象人数 | AI15: サービス 提供回数 | AP15: 地域名 | AV15: 対象人数 | BC15: サービス 提供回数 | BJ15: 地域名 | BP15: 対象人数 | BW15: サービス 提供回数 | CD15: 地域名 | CJ15: 対象人数 | CQ15: サービス 提供回数
B16: 広面 | H16: ='(附表１－３)年間実施計画'!R3 -> 0 | O16: ='(附表１－３)年間実施計画'!S3 -> 0 | V16: 細田 | AB16: ='(附表１－３)年間実施計画'!R13 -> 0 | AI16: ='(附表１－３)年間実施計画'!S13 -> 0 | AP16: 福沢 | AV16: ='(附表１－３)年間実施計画'!R23 -> 0 | BC16: ='(附表１－３)年間実施計画'!S23 -> 0 | BJ16: 杉谷 | BP16: ='(附表１－３)年間実施計画'!R33 -> 0 | BW16: ='(附表１－３)年間実施計画'!S33 -> 0 | CD16: 黒山 | CJ16: ='(附表１－３)年間実施計画'!R43 -> 0 | CQ16: ='(附表１－３)年間実施計画'!S43 -> 0
B17: 上加茂 | H17: ='(附表１－３)年間実施計画'!R4 -> 0 | O17: ='(附表１－３)年間実施計画'!S4 -> 0 | V17: 未納谷 | AB17: ='(附表１－３)年間実施計画'!R14 -> 0 | AI17: ='(附表１－３)年間実施計画'!S14 -> 0 | AP17: 溝部 | AV17: ='(附表１－３)年間実施計画'!R24 -> 0 | BC17: ='(附表１－３)年間実施計画'!S24 -> 0 | BJ17: 粟井谷 | BP17: ='(附表１－３)年間実施計画'!R34 -> 0 | BW17: ='(附表１－３)年間実施計画'!S34 -> 0 | CD17: 北 | CJ17: ='(附表１－３)年間実施計画'!R44 -> 0 | CQ17: ='(附表１－３)年間実施計画'!S44 -> 0
B18: 下加茂 | H18: ='(附表１－３)年間実施計画'!R5 -> 0 | O18: ='(附表１－３)年間実施計画'!S5 -> 0 | V18: 上田西 | AB18: ='(附表１－３)年間実施計画'!R15 -> 0 | AI18: ='(附表１－３)年間実施計画'!S15 -> 0 | AP18: 富永 | AV18: ='(附表１－３)年間実施計画'!R25 -> 0 | BC18: ='(附表１－３)年間実施計画'!S25 -> 0 | BJ18: 上竹 | BP18: ='(附表１－３)年間実施計画'!R35 -> 0 | BW18: ='(附表１－３)年間実施計画'!S35 -> 0 | CD18: 岨谷 | CJ18: ='(附表１－３)年間実施計画'!R45 -> 0 | CQ18: ='(附表１－３)年間実施計画'!S45 -> 0
B19: 美原 | H19: ='(附表１－３)年間実施計画'!R6 -> 0 | O19: ='(附表１－３)年間実施計画'!S6 -> 0 | V19: 円城 | AB19: ='(附表１－３)年間実施計画'!R16 -> 0 | AI19: ='(附表１－３)年間実施計画'!S16 -> 0 | AP19: 下土井 | AV19: ='(附表１－３)年間実施計画'!R26 -> 0 | BC19: ='(附表１－３)年間実施計画'!S26 -> 0 | BJ19: 納地 | BP19: ='(附表１－３)年間実施計画'!R36 -> 0 | BW19: ='(附表１－３)年間実施計画'!S36 -> 0 | CD19: 宮地 | CJ19: ='(附表１－３)年間実施計画'!R46 -> 0 | CQ19: ='(附表１－３)年間実施計画'!S46 -> 0
B20: 加茂市場 | H20: ='(附表１－３)年間実施計画'!R7 -> 0 | O20: ='(附表１－３)年間実施計画'!S7 -> 0 | V20: 案田 | AB20: ='(附表１－３)年間実施計画'!R17 -> 0 | AI20: ='(附表１－３)年間実施計画'!S17 -> 0 | AP20: 和田 | AV20: ='(附表１－３)年間実施計画'!R27 -> 0 | BC20: ='(附表１－３)年間実施計画'!S27 -> 0 | BJ20: 豊野 | BP20: ='(附表１－３)年間実施計画'!R37 -> 0 | BW20: ='(附表１－３)年間実施計画'!S37 -> 0 | CD20: 西 | CJ20: ='(附表１－３)年間実施計画'!R47 -> 0 | CQ20: ='(附表１－３)年間実施計画'!S47 -> 0
B21: 高谷 | H21: ='(附表１－３)年間実施計画'!R8 -> 0 | O21: ='(附表１－３)年間実施計画'!S8 -> 0 | V21: 高富 | AB21: ='(附表１－３)年間実施計画'!R18 -> 0 | AI21: ='(附表１－３)年間実施計画'!S18 -> 0 | AP21: 井原 | AV21: ='(附表１－３)年間実施計画'!R28 -> 0 | BC21: ='(附表１－３)年間実施計画'!S28 -> 0 | BJ21: 竹荘 | BP21: ='(附表１－３)年間実施計画'!R38 -> 0 | BW21: ='(附表１－３)年間実施計画'!S38 -> 0 | CD21: 合計 | CJ21: =SUM(H16:N25,AB16:AH25,AV16:BB25,BP16:BV25,CJ16:CP20) -> 0 | CQ21: =SUM(O16:U25,AI16:AO25,BC16:BI25,BW16:CC25,CQ16:CW20) -> 0
B22: 平岡 | H22: ='(附表１－３)年間実施計画'!R9 -> 0 | O22: ='(附表１－３)年間実施計画'!S9 -> 0 | V22: 神瀬 | AB22: ='(附表１－３)年間実施計画'!R19 -> 0 | AI22: ='(附表１－３)年間実施計画'!S19 -> 0 | AP22: 豊岡下 | AV22: ='(附表１－３)年間実施計画'!R29 -> 0 | BC22: ='(附表１－３)年間実施計画'!S29 -> 0 | BJ22: 黒土 | BP22: ='(附表１－３)年間実施計画'!R39 -> 0 | BW22: ='(附表１－３)年間実施計画'!S39 -> 0
B23: 上野 | H23: ='(附表１－３)年間実施計画'!R10 -> 0 | O23: ='(附表１－３)年間実施計画'!S10 -> 0 | V23: 小森 | AB23: ='(附表１－３)年間実施計画'!R20 -> 0 | AI23: ='(附表１－３)年間実施計画'!S20 -> 0 | AP23: 三谷 | AV23: ='(附表１－３)年間実施計画'!R30 -> 0 | BC23: ='(附表１－３)年間実施計画'!S30 -> 0 | BJ23: 田土 | BP23: ='(附表１－３)年間実施計画'!R40 -> 0 | BW23: ='(附表１－３)年間実施計画'!S40 -> 0
B24: 竹部 | H24: ='(附表１－３)年間実施計画'!R11 -> 0 | O24: ='(附表１－３)年間実施計画'!S11 -> 0 | V24: 尾原 | AB24: ='(附表１－３)年間実施計画'!R21 -> 0 | AI24: ='(附表１－３)年間実施計画'!S21 -> 0 | AP24: 大木 | AV24: ='(附表１－３)年間実施計画'!R31 -> 0 | BC24: ='(附表１－３)年間実施計画'!S31 -> 0 | BJ24: 湯山 | BP24: ='(附表１－３)年間実施計画'!R41 -> 0 | BW24: ='(附表１－３)年間実施計画'!S41 -> 0
B25: 上田東 | H25: ='(附表１－３)年間実施計画'!R12 -> 0 | O25: ='(附表１－３)年間実施計画'!S12 -> 0 | V25: 笹目 | AB25: ='(附表１－３)年間実施計画'!R22 -> 0 | AI25: ='(附表１－３)年間実施計画'!S22 -> 0 | AP25: 豊岡上 | AV25: ='(附表１－３)年間実施計画'!R32 -> 0 | BC25: ='(附表１－３)年間実施計画'!S32 -> 0 | BJ25: 吉川 | BP25: ='(附表１－３)年間実施計画'!R42 -> 0 | BW25: ='(附表１－３)年間実施計画'!S42 -> 0

Sheet (附表2)実施状況報告（４月）
A1: 附表2 | G1: 令和 年 月 日
A2: 吉備中央町長 様 | R2: 対象者人数 | S2: サービス 提供回数
Q3: 広面 | R3: =COUNTIF($C$16:$C$30,Q3)+COUNTIF($C$35:$C$39,Q3)+COUNTIF($C$44:$C$58,Q3)+COUNTIF($C$63:$C$65,Q3) -> 0 | S3: =SUMIF($C$16:$C$30,Q3,$G$16:$G$30)+SUMIF($C$35:$C$39,Q3,$G$35:$G$39)+SUMIF($C$44:$C$58,Q3,$G$44:$G$58)+SUMIF($C$63:$C$65,Q3,$F$63:$F$65) -> 0
A4: 実 施 状 況 報 告 明 細 書 （訪問介護事業所用） 令和８年４月分 | Q4: 上加茂 | R4: =COUNTIF($C$16:$C$30,Q4)+COUNTIF($C$35:$C$39,Q4)+COUNTIF($C$44:$C$58,Q4)+COUNTIF($C$63:$C$65,Q4) -> 0 | S4: =SUMIF($C$16:$C$30,Q4,$G$16:$G$30)+SUMIF($C$35:$C$39,Q4,$G$35:$G$39)+SUMIF($C$44:$C$58,Q4,$G$44:$G$58)+SUMIF($C$63:$C$65,Q4,$F$63:$F$65) -> 0
Q5: 下加茂 | R5: =COUNTIF($C$16:$C$30,Q5)+COUNTIF($C$35:$C$39,Q5)+COUNTIF($C$44:$C$58,Q5)+COUNTIF($C$63:$C$65,Q5) -> 0 | S5: =SUMIF($C$16:$C$30,Q5,$G$16:$G$30)+SUMIF($C$35:$C$39,Q5,$G$35:$G$39)+SUMIF($C$44:$C$58,Q5,$G$44:$G$58)+SUMIF($C$63:$C$65,Q5,$F$63:$F$65) -> 0
A6: 1.事業所情報 | Q6: 美原 | R6: =COUNTIF($C$16:$C$30,Q6)+COUNTIF($C$35:$C$39,Q6)+COUNTIF($C$44:$C$58,Q6)+COUNTIF($C$63:$C$65,Q6) -> 0 | S6: =SUMIF($C$16:$C$30,Q6,$G$16:$G$30)+SUMIF($C$35:$C$39,Q6,$G$35:$G$39)+SUMIF($C$44:$C$58,Q6,$G$44:$G$58)+SUMIF($C$63:$C$65,Q6,$F$63:$F$65) -> 0
A7: 事業者名 | B7: =IF(基本情報入力シート!V7="","",基本情報入力シート!V7) | Q7: 加茂市場 | R7: =COUNTIF($C$16:$C$30,Q7)+COUNTIF($C$35:$C$39,Q7)+COUNTIF($C$44:$C$58,Q7)+COUNTIF($C$63:$C$65,Q7) -> 0 | S7: =SUMIF($C$16:$C$30,Q7,$G$16:$G$30)+SUMIF($C$35:$C$39,Q7,$G$35:$G$39)+SUMIF($C$44:$C$58,Q7,$G$44:$G$58)+SUMIF($C$63:$C$65,Q7,$F$63:$F$65) -> 0
A8: 事業所名 | B8: =IF(基本情報入力シート!V18="","",基本情報入力シート!V18) | Q8: 高谷 | R8: =COUNTIF($C$16:$C$30,Q8)+COUNTIF($C$35:$C$39,Q8)+COUNTIF($C$44:$C$58,Q8)+COUNTIF($C$63:$C$65,Q8) -> 0 | S8: =SUMIF($C$16:$C$30,Q8,$G$16:$G$30)+SUMIF($C$35:$C$39,Q8,$G$35:$G$39)+SUMIF($C$44:$C$58,Q8,$G$44:$G$58)+SUMIF($C$63:$C$65,Q8,$F$63:$F$65) -> 0
A9: 事業所所在地 | B9: =IF(基本情報入力シート!V19="","",基本情報入力シート!V19) | Q9: 平岡 | R9: =COUNTIF($C$16:$C$30,Q9)+COUNTIF($C$35:$C$39,Q9)+COUNTIF($C$44:$C$58,Q9)+COUNTIF($C$63:$C$65,Q9) -> 0 | S9: =SUMIF($C$16:$C$30,Q9,$G$16:$G$30)+SUMIF($C$35:$C$39,Q9,$G$35:$G$39)+SUMIF($C$44:$C$58,Q9,$G$44:$G$58)+SUMIF($C$63:$C$65,Q9,$F$63:$F$65) -> 0
A10: サービス種別 | B10: =IF(基本情報入力シート!V20="","",基本情報入力シート!V20) -> 訪問介護 | Q10: 上野 | R10: =COUNTIF($C$16:$C$30,Q10)+COUNTIF($C$35:$C$39,Q10)+COUNTIF($C$44:$C$58,Q10)+COUNTIF($C$63:$C$65,Q10) -> 0 | S10: =SUMIF($C$16:$C$30,Q10,$G$16:$G$30)+SUMIF($C$35:$C$39,Q10,$G$35:$G$39)+SUMIF($C$44:$C$58,Q10,$G$44:$G$58)+SUMIF($C$63:$C$65,Q10,$F$63:$F$65) -> 0
A11: 補助対象事業区分 | B11: =IF(基本情報入力シート!V21="","",基本情報入力シート!V21) -> 別表第1の1 区分2 移動に片道20分以上の時間を要するサービ（特別地域加算対象地域内に所在する事業者が中山間地域等に居住する利用者を対象に行う場合） | Q11: 竹部 | R11: =COUNTIF($C$16:$C$30,Q11)+COUNTIF($C$35:$C$39,Q11)+COUNTIF($C$44:$C$58,Q11)+COUNTIF($C$63:$C$65,Q11) -> 0 | S11: =SUMIF($C$16:$C$30,Q11,$G$16:$G$30)+SUMIF($C$35:$C$39,Q11,$G$35:$G$39)+SUMIF($C$44:$C$58,Q11,$G$44:$G$58)+SUMIF($C$63:$C$65,Q11,$F$63:$F$65) -> 0
Q12: 上田東 | R12: =COUNTIF($C$16:$C$30,Q12)+COUNTIF($C$35:$C$39,Q12)+COUNTIF($C$44:$C$58,Q12)+COUNTIF($C$63:$C$65,Q12) -> 0 | S12: =SUMIF($C$16:$C$30,Q12,$G$16:$G$30)+SUMIF($C$35:$C$39,Q12,$G$35:$G$39)+SUMIF($C$44:$C$58,Q12,$G$44:$G$58)+SUMIF($C$63:$C$65,Q12,$F$63:$F$65) -> 0
A13: 2. 実績内訳 | Q13: 細田 | R13: =COUNTIF($C$16:$C$30,Q13)+COUNTIF($C$35:$C$39,Q13)+COUNTIF($C$44:$C$58,Q13)+COUNTIF($C$63:$C$65,Q13) -> 0 | S13: =SUMIF($C$16:$C$30,Q13,$G$16:$G$30)+SUMIF($C$35:$C$39,Q13,$G$35:$G$39)+SUMIF($C$44:$C$58,Q13,$G$44:$G$58)+SUMIF($C$63:$C$65,Q13,$F$63:$F$65) -> 0
A14: イ 身体介護が中心である場合 | Q14: 三納谷 | R14: =COUNTIF($C$16:$C$30,Q14)+COUNTIF($C$35:$C$39,Q14)+COUNTIF($C$44:$C$58,Q14)+COUNTIF($C$63:$C$65,Q14) -> 0 | S14: =SUMIF($C$16:$C$30,Q14,$G$16:$G$30)+SUMIF($C$35:$C$39,Q14,$G$35:$G$39)+SUMIF($C$44:$C$58,Q14,$G$44:$G$58)+SUMIF($C$63:$C$65,Q14,$F$63:$F$65) -> 0
A15: 被保険者番号 | B15: 被保険者氏名 | C15: 地区名 | D15: 事業所から 利用者宅までの 距離（km） | E15: 事業所から 利用者宅までの 所要時間（分） | F15: サービス提供時間 | G15: サービス 提供回数 | H15: 基本報酬 （月単位数） | I15: 基準額(月) | Q15: 上田西 | R15: =COUNTIF($C$16:$C$30,Q15)+COUNTIF($C$35:$C$39,Q15)+COUNTIF($C$44:$C$58,Q15)+COUNTIF($C$63:$C$65,Q15) -> 0 | S15: =SUMIF($C$16:$C$30,Q15,$G$16:$G$30)+SUMIF($C$35:$C$39,Q15,$G$35:$G$39)+SUMIF($C$44:$C$58,Q15,$G$44:$G$58)+SUMIF($C$63:$C$65,Q15,$F$63:$F$65) -> 0
A16: 111 | H16: =IF(AND(A16<>"",B16<>"",C16<>"",D16<>"",E16<>"",F16<>"",G16<>""),VLOOKUP(F16,訪問介護費!$A$4:$B$7,2,0),0) -> 0 | I16: =(H16*G16)*0.1*10 -> 0 | Q16: 円城 | R16: =COUNTIF($C$16:$C$30,Q16)+COUNTIF($C$35:$C$39,Q16)+COUNTIF($C$44:$C$58,Q16)+COUNTIF($C$63:$C$65,Q16) -> 0 | S16: =SUMIF($C$16:$C$30,Q16,$G$16:$G$30)+SUMIF($C$35:$C$39,Q16,$G$35:$G$39)+SUMIF($C$44:$C$58,Q16,$G$44:$G$58)+SUMIF($C$63:$C$65,Q16,$F$63:$F$65) -> 0
A17: 1 | H17: =IF(AND(A17<>"",B17<>"",C17<>"",D17<>"",E17<>"",F17<>"",G17<>""),VLOOKUP(F17,訪問介護費!$A$4:$B$7,2,0),0) -> 0 | I17: =(H17*G17)*0.1*10 -> 0 | Q17: 案田 | R17: =COUNTIF($C$16:$C$30,Q17)+COUNTIF($C$35:$C$39,Q17)+COUNTIF($C$44:$C$58,Q17)+COUNTIF($C$63:$C$65,Q17) -> 0 | S17: =SUMIF($C$16:$C$30,Q17,$G$16:$G$30)+SUMIF($C$35:$C$39,Q17,$G$35:$G$39)+SUMIF($C$44:$C$58,Q17,$G$44:$G$58)+SUMIF($C$63:$C$65,Q17,$F$63:$F$65) -> 0
A18: 1 | H18: =IF(AND(A18<>"",B18<>"",C18<>"",D18<>"",E18<>"",F18<>"",G18<>""),VLOOKUP(F18,訪問介護費!$A$4:$B$7,2,0),0) -> 0 | I18: =(H18*G18)*0.1*10 -> 0 | Q18: 高富 | R18: =COUNTIF($C$16:$C$30,Q18)+COUNTIF($C$35:$C$39,Q18)+COUNTIF($C$44:$C$58,Q18)+COUNTIF($C$63:$C$65,Q18) -> 0 | S18: =SUMIF($C$16:$C$30,Q18,$G$16:$G$30)+SUMIF($C$35:$C$39,Q18,$G$35:$G$39)+SUMIF($C$44:$C$58,Q18,$G$44:$G$58)+SUMIF($C$63:$C$65,Q18,$F$63:$F$65) -> 0
H19: =IF(AND(A19<>"",B19<>"",C19<>"",D19<>"",E19<>"",F19<>"",G19<>""),VLOOKUP(F19,訪問介護費!$A$4:$B$7,2,0),0) -> 0 | I19: =(H19*G19)*0.1*10 -> 0 | Q19: 神瀬 | R19: =COUNTIF($C$16:$C$30,Q19)+COUNTIF($C$35:$C$39,Q19)+COUNTIF($C$44:$C$58,Q19)+COUNTIF($C$63:$C$65,Q19) -> 0 | S19: =SUMIF($C$16:$C$30,Q19,$G$16:$G$30)+SUMIF($C$35:$C$39,Q19,$G$35:$G$39)+SUMIF($C$44:$C$58,Q19,$G$44:$G$58)+SUMIF($C$63:$C$65,Q19,$F$63:$F$65) -> 0
H20: =IF(AND(A20<>"",B20<>"",C20<>"",D20<>"",E20<>"",F20<>"",G20<>""),VLOOKUP(F20,訪問介護費!$A$4:$B$7,2,0),0) -> 0 | I20: =(H20*G20)*0.1*10 -> 0 | Q20: 小森 | R20: =COUNTIF($C$16:$C$30,Q20)+COUNTIF($C$35:$C$39,Q20)+COUNTIF($C$44:$C$58,Q20)+COUNTIF($C$63:$C$65,Q20) -> 0 | S20: =SUMIF($C$16:$C$30,Q20,$G$16:$G$30)+SUMIF($C$35:$C$39,Q20,$G$35:$G$39)+SUMIF($C$44:$C$58,Q20,$G$44:$G$58)+SUMIF($C$63:$C$65,Q20,$F$63:$F$65) -> 0
H21: =IF(AND(A21<>"",B21<>"",C21<>"",D21<>"",E21<>"",F21<>"",G21<>""),VLOOKUP(F21,訪問介護費!$A$4:$B$7,2,0),0) -> 0 | I21: =(H21*G21)*0.1*10 -> 0 | Q21: 尾原 | R21: =COUNTIF($C$16:$C$30,Q21)+COUNTIF($C$35:$C$39,Q21)+COUNTIF($C$44:$C$58,Q21)+COUNTIF($C$63:$C$65,Q21) -> 0 | S21: =SUMIF($C$16:$C$30,Q21,$G$16:$G$30)+SUMIF($C$35:$C$39,Q21,$G$35:$G$39)+SUMIF($C$44:$C$58,Q21,$G$44:$G$58)+SUMIF($C$63:$C$65,Q21,$F$63:$F$65) -> 0
H22: =IF(AND(A22<>"",B22<>"",C22<>"",D22<>"",E22<>"",F22<>"",G22<>""),VLOOKUP(F22,訪問介護費!$A$4:$B$7,2,0),0) -> 0 | I22: =(H22*G22)*0.1*10 -> 0 | Q22: 笹目 | R22: =COUNTIF($C$16:$C$30,Q22)+COUNTIF($C$35:$C$39,Q22)+COUNTIF($C$44:$C$58,Q22)+COUNTIF($C$63:$C$65,Q22) -> 0 | S22: =SUMIF($C$16:$C$30,Q22,$G$16:$G$30)+SUMIF($C$35:$C$39,Q22,$G$35:$G$39)+SUMIF($C$44:$C$58,Q22,$G$44:$G$58)+SUMIF($C$63:$C$65,Q22,$F$63:$F$65) -> 0
H23: =IF(AND(A23<>"",B23<>"",C23<>"",D23<>"",E23<>"",F23<>"",G23<>""),VLOOKUP(F23,訪問介護費!$A$4:$B$7,2,0),0) -> 0 | I23: =(H23*G23)*0.1*10 -> 0 | Q23: 福沢 | R23: =COUNTIF($C$16:$C$30,Q23)+COUNTIF($C$35:$C$39,Q23)+COUNTIF($C$44:$C$58,Q23)+COUNTIF($C$63:$C$65,Q23) -> 0 | S23: =SUMIF($C$16:$C$30,Q23,$G$16:$G$30)+SUMIF($C$35:$C$39,Q23,$G$35:$G$39)+SUMIF($C$44:$C$58,Q23,$G$44:$G$58)+SUMIF($C$63:$C$65,Q23,$F$63:$F$65) -> 0
H24: =IF(AND(A24<>"",B24<>"",C24<>"",D24<>"",E24<>"",F24<>"",G24<>""),VLOOKUP(F24,訪問介護費!$A$4:$B$7,2,0),0) -> 0 | I24: =(H24*G24)*0.1*10 -> 0 | Q24: 溝部 | R24: =COUNTIF($C$16:$C$30,Q24)+COUNTIF($C$35:$C$39,Q24)+COUNTIF($C$44:$C$58,Q24)+COUNTIF($C$63:$C$65,Q24) -> 0 | S24: =SUMIF($C$16:$C$30,Q24,$G$16:$G$30)+SUMIF($C$35:$C$39,Q24,$G$35:$G$39)+SUMIF($C$44:$C$58,Q24,$G$44:$G$58)+SUMIF($C$63:$C$65,Q24,$F$63:$F$65) -> 0
H25: =IF(AND(A25<>"",B25<>"",C25<>"",D25<>"",E25<>"",F25<>"",G25<>""),VLOOKUP(F25,訪問介護費!$A$4:$B$7,2,0),0) -> 0 | I25: =(H25*G25)*0.1*10 -> 0 | Q25: 富永 | R25: =COUNTIF($C$16:$C$30,Q25)+COUNTIF($C$35:$C$39,Q25)+COUNTIF($C$44:$C$58,Q25)+COUNTIF($C$63:$C$65,Q25) -> 0 | S25: =SUMIF($C$16:$C$30,Q25,$G$16:$G$30)+SUMIF($C$35:$C$39,Q25,$G$35:$G$39)+SUMIF($C$44:$C$58,Q25,$G$44:$G$58)+SUMIF($C$63:$C$65,Q25,$F$63:$F$65) -> 0
H26: =IF(AND(A26<>"",B26<>"",C26<>"",D26<>"",E26<>"",F26<>"",G26<>""),VLOOKUP(F26,訪問介護費!$A$4:$B$7,2,0),0) -> 0 | I26: =(H26*G26)*0.1*10 -> 0 | Q26: 下土井 | R26: =COUNTIF($C$16:$C$30,Q26)+COUNTIF($C$35:$C$39,Q26)+COUNTIF($C$44:$C$58,Q26)+COUNTIF($C$63:$C$65,Q26) -> 0 | S26: =SUMIF($C$16:$C$30,Q26,$G$16:$G$30)+SUMIF($C$35:$C$39,Q26,$G$35:$G$39)+SUMIF($C$44:$C$58,Q26,$G$44:$G$58)+SUMIF($C$63:$C$65,Q26,$F$63:$F$65) -> 0
H27: =IF(AND(A27<>"",B27<>"",C27<>"",D27<>"",E27<>"",F27<>"",G27<>""),VLOOKUP(F27,訪問介護費!$A$4:$B$7,2,0),0) -> 0 | I27: =(H27*G27)*0.1*10 -> 0 | Q27: 和田 | R27: =COUNTIF($C$16:$C$30,Q27)+COUNTIF($C$35:$C$39,Q27)+COUNTIF($C$44:$C$58,Q27)+COUNTIF($C$63:$C$65,Q27) -> 0 | S27: =SUMIF($C$16:$C$30,Q27,$G$16:$G$30)+SUMIF($C$35:$C$39,Q27,$G$35:$G$39)+SUMIF($C$44:$C$58,Q27,$G$44:$G$58)+SUMIF($C$63:$C$65,Q27,$F$63:$F$65) -> 0
H28: =IF(AND(A28<>"",B28<>"",C28<>"",D28<>"",E28<>"",F28<>"",G28<>""),VLOOKUP(F28,訪問介護費!$A$4:$B$7,2,0),0) -> 0 | I28: =(H28*G28)*0.1*10 -> 0 | Q28: 井原 | R28: =COUNTIF($C$16:$C$30,Q28)+COUNTIF($C$35:$C$39,Q28)+COUNTIF($C$44:$C$58,Q28)+COUNTIF($C$63:$C$65,Q28) -> 0 | S28: =SUMIF($C$16:$C$30,Q28,$G$16:$G$30)+SUMIF($C$35:$C$39,Q28,$G$35:$G$39)+SUMIF($C$44:$C$58,Q28,$G$44:$G$58)+SUMIF($C$63:$C$65,Q28,$F$63:$F$65) -> 0
H29: =IF(AND(A29<>"",B29<>"",C29<>"",D29<>"",E29<>"",F29<>"",G29<>""),VLOOKUP(F29,訪問介護費!$A$4:$B$7,2,0),0) -> 0 | I29: =(H29*G29)*0.1*10 -> 0 | Q29: 豊岡下 | R29: =COUNTIF($C$16:$C$30,Q29)+COUNTIF($C$35:$C$39,Q29)+COUNTIF($C$44:$C$58,Q29)+COUNTIF($C$63:$C$65,Q29) -> 0 | S29: =SUMIF($C$16:$C$30,Q29,$G$16:$G$30)+SUMIF($C$35:$C$39,Q29,$G$35:$G$39)+SUMIF($C$44:$C$58,Q29,$G$44:$G$58)+SUMIF($C$63:$C$65,Q29,$F$63:$F$65) -> 0
H30: =IF(AND(A30<>"",B30<>"",C30<>"",D30<>"",E30<>"",F30<>"",G30<>""),VLOOKUP(F30,訪問介護費!$A$4:$B$7,2,0),0) -> 0 | I30: =(H30*G30)*0.1*10 -> 0 | Q30: 三谷 | R30: =COUNTIF($C$16:$C$30,Q30)+COUNTIF($C$35:$C$39,Q30)+COUNTIF($C$44:$C$58,Q30)+COUNTIF($C$63:$C$65,Q30) -> 0 | S30: =SUMIF($C$16:$C$30,Q30,$G$16:$G$30)+SUMIF($C$35:$C$39,Q30,$G$35:$G$39)+SUMIF($C$44:$C$58,Q30,$G$44:$G$58)+SUMIF($C$63:$C$65,Q30,$F$63:$F$65) -> 0
A31: 合計 | G31: =SUMIF(G16:G30,"<>#N/A") -> 0 | H31: =SUMIF(H16:H30,"<>#N/A") -> 0 | I31: =SUMIF(I16:I30,"<>#N/A") -> 0 | Q31: 大木 | R31: =COUNTIF($C$16:$C$30,Q31)+COUNTIF($C$35:$C$39,Q31)+COUNTIF($C$44:$C$58,Q31)+COUNTIF($C$63:$C$65,Q31) -> 0 | S31: =SUMIF($C$16:$C$30,Q31,$G$16:$G$30)+SUMIF($C$35:$C$39,Q31,$G$35:$G$39)+SUMIF($C$44:$C$58,Q31,$G$44:$G$58)+SUMIF($C$63:$C$65,Q31,$F$63:$F$65) -> 0
Q32: 豊岡上 | R32: =COUNTIF($C$16:$C$30,Q32)+COUNTIF($C$35:$C$39,Q32)+COUNTIF($C$44:$C$58,Q32)+COUNTIF($C$63:$C$65,Q32) -> 0 | S32: =SUMIF($C$16:$C$30,Q32,$G$16:$G$30)+SUMIF($C$35:$C$39,Q32,$G$35:$G$39)+SUMIF($C$44:$C$58,Q32,$G$44:$G$58)+SUMIF($C$63:$C$65,Q32,$F$63:$F$65) -> 0
A33: イ 身体介護が中心である場合 ※サービス提供時間が所要時間1時間以上の場合 | Q33: 杉谷 | R33: =COUNTIF($C$16:$C$30,Q33)+COUNTIF($C$35:$C$39,Q33)+COUNTIF($C$44:$C$58,Q33)+COUNTIF($C$63:$C$65,Q33) -> 0 | S33: =SUMIF($C$16:$C$30,Q33,$G$16:$G$30)+SUMIF($C$35:$C$39,Q33,$G$35:$G$39)+SUMIF($C$44:$C$58,Q33,$G$44:$G$58)+SUMIF($C$63:$C$65,Q33,$F$63:$F$65) -> 0
A34: 被保険者番号 | B34: 被保険者氏名 | C34: 地区名 | D34: 事業所から 利用者宅までの 距離（km） | E34: 事業所から 利用者宅までの 所要時間（分） | F34: サービス提供時間 | G34: サービス 提供回数 | H34: 基本報酬 （月単位数） | I34: 補助 申請額(月) | Q34: 粟井谷 | R34: =COUNTIF($C$16:$C$30,Q34)+COUNTIF($C$35:$C$39,Q34)+COUNTIF($C$44:$C$58,Q34)+COUNTIF($C$63:$C$65,Q34) -> 0 | S34: =SUMIF($C$16:$C$30,Q34,$G$16:$G$30)+SUMIF($C$35:$C$39,Q34,$G$35:$G$39)+SUMIF($C$44:$C$58,Q34,$G$44:$G$58)+SUMIF($C$63:$C$65,Q34,$F$63:$F$65) -> 0
F35: ④所要時間1時間以上の場合 | I35: =IF(AND(A35<>"",B35<>"",C35<>"",D35<>"",E35<>"",G35<>"",H35<>""),(H35*G35)*0.1*10,0) -> 0 | Q35: 上竹 | R35: =COUNTIF($C$16:$C$30,Q35)+COUNTIF($C$35:$C$39,Q35)+COUNTIF($C$44:$C$58,Q35)+COUNTIF($C$63:$C$65,Q35) -> 0 | S35: =SUMIF($C$16:$C$30,Q35,$G$16:$G$30)+SUMIF($C$35:$C$39,Q35,$G$35:$G$39)+SUMIF($C$44:$C$58,Q35,$G$44:$G$58)+SUMIF($C$63:$C$65,Q35,$F$63:$F$65) -> 0
F36: ④所要時間1時間以上の場合 | I36: =IF(AND(A36<>"",B36<>"",C36<>"",D36<>"",E36<>"",G36<>"",H36<>""),(H36*G36)*0.1*10,0) -> 0 | Q36: 納地 | R36: =COUNTIF($C$16:$C$30,Q36)+COUNTIF($C$35:$C$39,Q36)+COUNTIF($C$44:$C$58,Q36)+COUNTIF($C$63:$C$65,Q36) -> 0 | S36: =SUMIF($C$16:$C$30,Q36,$G$16:$G$30)+SUMIF($C$35:$C$39,Q36,$G$35:$G$39)+SUMIF($C$44:$C$58,Q36,$G$44:$G$58)+SUMIF($C$63:$C$65,Q36,$F$63:$F$65) -> 0
F37: ④所要時間1時間以上の場合 | I37: =IF(AND(A37<>"",B37<>"",C37<>"",D37<>"",E37<>"",G37<>"",H37<>""),(H37*G37)*0.1*10,0) -> 0 | Q37: 豊野 | R37: =COUNTIF($C$16:$C$30,Q37)+COUNTIF($C$35:$C$39,Q37)+COUNTIF($C$44:$C$58,Q37)+COUNTIF($C$63:$C$65,Q37) -> 0 | S37: =SUMIF($C$16:$C$30,Q37,$G$16:$G$30)+SUMIF($C$35:$C$39,Q37,$G$35:$G$39)+SUMIF($C$44:$C$58,Q37,$G$44:$G$58)+SUMIF($C$63:$C$65,Q37,$F$63:$F$65) -> 0
F38: ④所要時間1時間以上の場合 | I38: =IF(AND(A38<>"",B38<>"",C38<>"",D38<>"",E38<>"",G38<>"",H38<>""),(H38*G38)*0.1*10,0) -> 0 | Q38: 竹荘 | R38: =COUNTIF($C$16:$C$30,Q38)+COUNTIF($C$35:$C$39,Q38)+COUNTIF($C$44:$C$58,Q38)+COUNTIF($C$63:$C$65,Q38) -> 0 | S38: =SUMIF($C$16:$C$30,Q38,$G$16:$G$30)+SUMIF($C$35:$C$39,Q38,$G$35:$G$39)+SUMIF($C$44:$C$58,Q38,$G$44:$G$58)+SUMIF($C$63:$C$65,Q38,$F$63:$F$65) -> 0
F39: ④所要時間1時間以上の場合 | I39: =IF(AND(A39<>"",B39<>"",C39<>"",D39<>"",E39<>"",G39<>"",H39<>""),(H39*G39)*0.1*10,0) -> 0 | Q39: 黒土 | R39: =COUNTIF($C$16:$C$30,Q39)+COUNTIF($C$35:$C$39,Q39)+COUNTIF($C$44:$C$58,Q39)+COUNTIF($C$63:$C$65,Q39) -> 0 | S39: =SUMIF($C$16:$C$30,Q39,$G$16:$G$30)+SUMIF($C$35:$C$39,Q39,$G$35:$G$39)+SUMIF($C$44:$C$58,Q39,$G$44:$G$58)+SUMIF($C$63:$C$65,Q39,$F$63:$F$65) -> 0
A40: 合計 | G40: =SUMIF(G35:G39,"<>#N/A") -> 0 | H40: =SUMIF(H35:H39,"<>#N/A") -> 0 | I40: =SUMIF(I35:I39,"<>#N/A") -> 0 | Q40: 田土 | R40: =COUNTIF($C$16:$C$30,Q40)+COUNTIF($C$35:$C$39,Q40)+COUNTIF($C$44:$C$58,Q40)+COUNTIF($C$63:$C$65,Q40) -> 0 | S40: =SUMIF($C$16:$C$30,Q40,$G$16:$G$30)+SUMIF($C$35:$C$39,Q40,$G$35:$G$39)+SUMIF($C$44:$C$58,Q40,$G$44:$G$58)+SUMIF($C$63:$C$65,Q40,$F$63:$F$65) -> 0
...

Sheet (附表2)実施状況報告（５月）
A1: 附表2 | G1: 令和 年 月 日
A2: 吉備中央町長 様 | R2: 対象者人数 | S2: サービス 提供回数
Q3: 広面 | R3: =COUNTIF($C$16:$C$30,Q3)+COUNTIF($C$35:$C$39,Q3)+COUNTIF($C$44:$C$58,Q3)+COUNTIF($C$63:$C$65,Q3) -> 0 | S3: =SUMIF($C$16:$C$30,Q3,$G$16:$G$30)+SUMIF($C$35:$C$39,Q3,$G$35:$G$39)+SUMIF($C$44:$C$58,Q3,$G$44:$G$58)+SUMIF($C$63:$C$65,Q3,$F$63:$F$65) -> 0
A4: 実 施 状 況 報 告 明 細 書 （訪問介護事業所用） 令和８年５月分 | Q4: 上加茂 | R4: =COUNTIF($C$16:$C$30,Q4)+COUNTIF($C$35:$C$39,Q4)+COUNTIF($C$44:$C$58,Q4)+COUNTIF($C$63:$C$65,Q4) -> 0 | S4: =SUMIF($C$16:$C$30,Q4,$G$16:$G$30)+SUMIF($C$35:$C$39,Q4,$G$35:$G$39)+SUMIF($C$44:$C$58,Q4,$G$44:$G$58)+SUMIF($C$63:$C$65,Q4,$F$63:$F$65) -> 0
Q5: 下加茂 | R5: =COUNTIF($C$16:$C$30,Q5)+COUNTIF($C$35:$C$39,Q5)+COUNTIF($C$44:$C$58,Q5)+COUNTIF($C$63:$C$65,Q5) -> 0 | S5: =SUMIF($C$16:$C$30,Q5,$G$16:$G$30)+SUMIF($C$35:$C$39,Q5,$G$35:$G$39)+SUMIF($C$44:$C$58,Q5,$G$44:$G$58)+SUMIF($C$63:$C$65,Q5,$F$63:$F$65) -> 0
A6: 1.事業所情報 | Q6: 美原 | R6: =COUNTIF($C$16:$C$30,Q6)+COUNTIF($C$35:$C$39,Q6)+COUNTIF($C$44:$C$58,Q6)+COUNTIF($C$63:$C$65,Q6) -> 0 | S6: =SUMIF($C$16:$C$30,Q6,$G$16:$G$30)+SUMIF($C$35:$C$39,Q6,$G$35:$G$39)+SUMIF($C$44:$C$58,Q6,$G$44:$G$58)+SUMIF($C$63:$C$65,Q6,$F$63:$F$65) -> 0
A7: 事業者名 | B7: =IF(基本情報入力シート!V7="","",基本情報入力シート!V7) | Q7: 加茂市場 | R7: =COUNTIF($C$16:$C$30,Q7)+COUNTIF($C$35:$C$39,Q7)+COUNTIF($C$44:$C$58,Q7)+COUNTIF($C$63:$C$65,Q7) -> 0 | S7: =SUMIF($C$16:$C$30,Q7,$G$16:$G$30)+SUMIF($C$35:$C$39,Q7,$G$35:$G$39)+SUMIF($C$44:$C$58,Q7,$G$44:$G$58)+SUMIF($C$63:$C$65,Q7,$F$63:$F$65) -> 0
A8: 事業所名 | B8: =IF(基本情報入力シート!V18="","",基本情報入力シート!V18) | Q8: 高谷 | R8: =COUNTIF($C$16:$C$30,Q8)+COUNTIF($C$35:$C$39,Q8)+COUNTIF($C$44:$C$58,Q8)+COUNTIF($C$63:$C$65,Q8) -> 0 | S8: =SUMIF($C$16:$C$30,Q8,$G$16:$G$30)+SUMIF($C$35:$C$39,Q8,$G$35:$G$39)+SUMIF($C$44:$C$58,Q8,$G$44:$G$58)+SUMIF($C$63:$C$65,Q8,$F$63:$F$65) -> 0
A9: 事業所所在地 | B9: =IF(基本情報入力シート!V19="","",基本情報入力シート!V19) | Q9: 平岡 | R9: =COUNTIF($C$16:$C$30,Q9)+COUNTIF($C$35:$C$39,Q9)+COUNTIF($C$44:$C$58,Q9)+COUNTIF($C$63:$C$65,Q9) -> 0 | S9: =SUMIF($C$16:$C$30,Q9,$G$16:$G$30)+SUMIF($C$35:$C$39,Q9,$G$35:$G$39)+SUMIF($C$44:$C$58,Q9,$G$44:$G$58)+SUMIF($C$63:$C$65,Q9,$F$63:$F$65) -> 0
A10: サービス種別 | B10: =IF(基本情報入力シート!V20="","",基本情報入力シート!V20) -> 訪問介護 | Q10: 上野 | R10: =COUNTIF($C$16:$C$30,Q10)+COUNTIF($C$35:$C$39,Q10)+COUNTIF($C$44:$C$58,Q10)+COUNTIF($C$63:$C$65,Q10) -> 0 | S10: =SUMIF($C$16:$C$30,Q10,$G$16:$G$30)+SUMIF($C$35:$C$39,Q10,$G$35:$G$39)+SUMIF($C$44:$C$58,Q10,$G$44:$G$58)+SUMIF($C$63:$C$65,Q10,$F$63:$F$65) -> 0
A11: 補助対象事業区分 | B11: =IF(基本情報入力シート!V21="","",基本情報入力シート!V21) -> 別表第1の1 区分2 移動に片道20分以上の時間を要するサービ（特別地域加算対象地域内に所在する事業者が中山間地域等に居住する利用者を対象に行う場合） | Q11: 竹部 | R11: =COUNTIF($C$16:$C$30,Q11)+COUNTIF($C$35:$C$39,Q11)+COUNTIF($C$44:$C$58,Q11)+COUNTIF($C$63:$C$65,Q11) -> 0 | S11: =SUMIF($C$16:$C$30,Q11,$G$16:$G$30)+SUMIF($C$35:$C$39,Q11,$G$35:$G$39)+SUMIF($C$44:$C$58,Q11,$G$44:$G$58)+SUMIF($C$63:$C$65,Q11,$F$63:$F$65) -> 0
Q12: 上田東 | R12: =COUNTIF($C$16:$C$30,Q12)+COUNTIF($C$35:$C$39,Q12)+COUNTIF($C$44:$C$58,Q12)+COUNTIF($C$63:$C$65,Q12) -> 0 | S12: =SUMIF($C$16:$C$30,Q12,$G$16:$G$30)+SUMIF($C$35:$C$39,Q12,$G$35:$G$39)+SUMIF($C$44:$C$58,Q12,$G$44:$G$58)+SUMIF($C$63:$C$65,Q12,$F$63:$F$65) -> 0
A13: 2. 実績内訳 | Q13: 細田 | R13: =COUNTIF($C$16:$C$30,Q13)+COUNTIF($C$35:$C$39,Q13)+COUNTIF($C$44:$C$58,Q13)+COUNTIF($C$63:$C$65,Q13) -> 0 | S13: =SUMIF($C$16:$C$30,Q13,$G$16:$G$30)+SUMIF($C$35:$C$39,Q13,$G$35:$G$39)+SUMIF($C$44:$C$58,Q13,$G$44:$G$58)+SUMIF($C$63:$C$65,Q13,$F$63:$F$65) -> 0
A14: イ 身体介護が中心である場合 | Q14: 三納谷 | R14: =COUNTIF($C$16:$C$30,Q14)+COUNTIF($C$35:$C$39,Q14)+COUNTIF($C$44:$C$58,Q14)+COUNTIF($C$63:$C$65,Q14) -> 0 | S14: =SUMIF($C$16:$C$30,Q14,$G$16:$G$30)+SUMIF($C$35:$C$39,Q14,$G$35:$G$39)+SUMIF($C$44:$C$58,Q14,$G$44:$G$58)+SUMIF($C$63:$C$65,Q14,$F$63:$F$65) -> 0
A15: 被保険者番号 | B15: 被保険者氏名 | C15: 地区名 | D15: 事業所から 利用者宅までの 距離（km） | E15: 事業所から 利用者宅までの 所要時間（分） | F15: サービス提供時間 | G15: サービス 提供回数 | H15: 基本報酬 （月単位数） | I15: 基準額(月) | Q15: 上田西 | R15: =COUNTIF($C$16:$C$30,Q15)+COUNTIF($C$35:$C$39,Q15)+COUNTIF($C$44:$C$58,Q15)+COUNTIF($C$63:$C$65,Q15) -> 0 | S15: =SUMIF($C$16:$C$30,Q15,$G$16:$G$30)+SUMIF($C$35:$C$39,Q15,$G$35:$G$39)+SUMIF($C$44:$C$58,Q15,$G$44:$G$58)+SUMIF($C$63:$C$65,Q15,$F$63:$F$65) -> 0
H16: =IF(AND(A16<>"",B16<>"",C16<>"",D16<>"",E16<>"",F16<>"",G16<>""),VLOOKUP(F16,訪問介護費!$A$4:$B$7,2,0),0) -> 0 | I16: =(H16*G16)*0.1*10 -> 0 | Q16: 円城 | R16: =COUNTIF($C$16:$C$30,Q16)+COUNTIF($C$35:$C$39,Q16)+COUNTIF($C$44:$C$58,Q16)+COUNTIF($C$63:$C$65,Q16) -> 0 | S16: =SUMIF($C$16:$C$30,Q16,$G$16:$G$30)+SUMIF($C$35:$C$39,Q16,$G$35:$G$39)+SUMIF($C$44:$C$58,Q16,$G$44:$G$58)+SUMIF($C$63:$C$65,Q16,$F$63:$F$65) -> 0
H17: =IF(AND(A17<>"",B17<>"",C17<>"",D17<>"",E17<>"",F17<>"",G17<>""),VLOOKUP(F17,訪問介護費!$A$4:$B$7,2,0),0) -> 0 | I17: =(H17*G17)*0.1*10 -> 0 | Q17: 案田 | R17: =COUNTIF($C$16:$C$30,Q17)+COUNTIF($C$35:$C$39,Q17)+COUNTIF($C$44:$C$58,Q17)+COUNTIF($C$63:$C$65,Q17) -> 0 | S17: =SUMIF($C$16:$C$30,Q17,$G$16:$G$30)+SUMIF($C$35:$C$39,Q17,$G$35:$G$39)+SUMIF($C$44:$C$58,Q17,$G$44:$G$58)+SUMIF($C$63:$C$65,Q17,$F$63:$F$65) -> 0
H18: =IF(AND(A18<>"",B18<>"",C18<>"",D18<>"",E18<>"",F18<>"",G18<>""),VLOOKUP(F18,訪問介護費!$A$4:$B$7,2,0),0) -> 0 | I18: =(H18*G18)*0.1*10 -> 0 | Q18: 高富 | R18: =COUNTIF($C$16:$C$30,Q18)+COUNTIF($C$35:$C$39,Q18)+COUNTIF($C$44:$C$58,Q18)+COUNTIF($C$63:$C$65,Q18) -> 0 | S18: =SUMIF($C$16:$C$30,Q18,$G$16:$G$30)+SUMIF($C$35:$C$39,Q18,$G$35:$G$39)+SUMIF($C$44:$C$58,Q18,$G$44:$G$58)+SUMIF($C$63:$C$65,Q18,$F$63:$F$65) -> 0
H19: =IF(AND(A19<>"",B19<>"",C19<>"",D19<>"",E19<>"",F19<>"",G19<>""),VLOOKUP(F19,訪問介護費!$A$4:$B$7,2,0),0) -> 0 | I19: =(H19*G19)*0.1*10 -> 0 | Q19: 神瀬 | R19: =COUNTIF($C$16:$C$30,Q19)+COUNTIF($C$35:$C$39,Q19)+COUNTIF($C$44:$C$58,Q19)+COUNTIF($C$63:$C$65,Q19) -> 0 | S19: =SUMIF($C$16:$C$30,Q19,$G$16:$G$30)+SUMIF($C$35:$C$39,Q19,$G$35:$G$39)+SUMIF($C$44:$C$58,Q19,$G$44:$G$58)+SUMIF($C$63:$C$65,Q19,$F$63:$F$65) -> 0
H20: =IF(AND(A20<>"",B20<>"",C20<>"",D20<>"",E20<>"",F20<>"",G20<>""),VLOOKUP(F20,訪問介護費!$A$4:$B$7,2,0),0) -> 0 | I20: =(H20*G20)*0.1*10 -> 0 | Q20: 小森 | R20: =COUNTIF($C$16:$C$30,Q20)+COUNTIF($C$35:$C$39,Q20)+COUNTIF($C$44:$C$58,Q20)+COUNTIF($C$63:$C$65,Q20) -> 0 | S20: =SUMIF($C$16:$C$30,Q20,$G$16:$G$30)+SUMIF($C$35:$C$39,Q20,$G$35:$G$39)+SUMIF($C$44:$C$58,Q20,$G$44:$G$58)+SUMIF($C$63:$C$65,Q20,$F$63:$F$65) -> 0
H21: =IF(AND(A21<>"",B21<>"",C21<>"",D21<>"",E21<>"",F21<>"",G21<>""),VLOOKUP(F21,訪問介護費!$A$4:$B$7,2,0),0) -> 0 | I21: =(H21*G21)*0.1*10 -> 0 | Q21: 尾原 | R21: =COUNTIF($C$16:$C$30,Q21)+COUNTIF($C$35:$C$39,Q21)+COUNTIF($C$44:$C$58,Q21)+COUNTIF($C$63:$C$65,Q21) -> 0 | S21: =SUMIF($C$16:$C$30,Q21,$G$16:$G$30)+SUMIF($C$35:$C$39,Q21,$G$35:$G$39)+SUMIF($C$44:$C$58,Q21,$G$44:$G$58)+SUMIF($C$63:$C$65,Q21,$F$63:$F$65) -> 0
H22: =IF(AND(A22<>"",B22<>"",C22<>"",D22<>"",E22<>"",F22<>"",G22<>""),VLOOKUP(F22,訪問介護費!$A$4:$B$7,2,0),0) -> 0 | I22: =(H22*G22)*0.1*10 -> 0 | Q22: 笹目 | R22: =COUNTIF($C$16:$C$30,Q22)+COUNTIF($C$35:$C$39,Q22)+COUNTIF($C$44:$C$58,Q22)+COUNTIF($C$63:$C$65,Q22) -> 0 | S22: =SUMIF($C$16:$C$30,Q22,$G$16:$G$30)+SUMIF($C$35:$C$39,Q22,$G$35:$G$39)+SUMIF($C$44:$C$58,Q22,$G$44:$G$58)+SUMIF($C$63:$C$65,Q22,$F$63:$F$65) -> 0
H23: =IF(AND(A23<>"",B23<>"",C23<>"",D23<>"",E23<>"",F23<>"",G23<>""),VLOOKUP(F23,訪問介護費!$A$4:$B$7,2,0),0) -> 0 | I23: =(H23*G23)*0.1*10 -> 0 | Q23: 福沢 | R23: =COUNTIF($C$16:$C$30,Q23)+COUNTIF($C$35:$C$39,Q23)+COUNTIF($C$44:$C$58,Q23)+COUNTIF($C$63:$C$65,Q23) -> 0 | S23: =SUMIF($C$16:$C$30,Q23,$G$16:$G$30)+SUMIF($C$35:$C$39,Q23,$G$35:$G$39)+SUMIF($C$44:$C$58,Q23,$G$44:$G$58)+SUMIF($C$63:$C$65,Q23,$F$63:$F$65) -> 0
H24: =IF(AND(A24<>"",B24<>"",C24<>"",D24<>"",E24<>"",F24<>"",G24<>""),VLOOKUP(F24,訪問介護費!$A$4:$B$7,2,0),0) -> 0 | I24: =(H24*G24)*0.1*10 -> 0 | Q24: 溝部 | R24: =COUNTIF($C$16:$C$30,Q24)+COUNTIF($C$35:$C$39,Q24)+COUNTIF($C$44:$C$58,Q24)+COUNTIF($C$63:$C$65,Q24) -> 0 | S24: =SUMIF($C$16:$C$30,Q24,$G$16:$G$30)+SUMIF($C$35:$C$39,Q24,$G$35:$G$39)+SUMIF($C$44:$C$58,Q24,$G$44:$G$58)+SUMIF($C$63:$C$65,Q24,$F$63:$F$65) -> 0
H25: =IF(AND(A25<>"",B25<>"",C25<>"",D25<>"",E25<>"",F25<>"",G25<>""),VLOOKUP(F25,訪問介護費!$A$4:$B$7,2,0),0) -> 0 | I25: =(H25*G25)*0.1*10 -> 0 | Q25: 富永 | R25: =COUNTIF($C$16:$C$30,Q25)+COUNTIF($C$35:$C$39,Q25)+COUNTIF($C$44:$C$58,Q25)+COUNTIF($C$63:$C$65,Q25) -> 0 | S25: =SUMIF($C$16:$C$30,Q25,$G$16:$G$30)+SUMIF($C$35:$C$39,Q25,$G$35:$G$39)+SUMIF($C$44:$C$58,Q25,$G$44:$G$58)+SUMIF($C$63:$C$65,Q25,$F$63:$F$65) -> 0
H26: =IF(AND(A26<>"",B26<>"",C26<>"",D26<>"",E26<>"",F26<>"",G26<>""),VLOOKUP(F26,訪問介護費!$A$4:$B$7,2,0),0) -> 0 | I26: =(H26*G26)*0.1*10 -> 0 | Q26: 下土井 | R26: =COUNTIF($C$16:$C$30,Q26)+COUNTIF($C$35:$C$39,Q26)+COUNTIF($C$44:$C$58,Q26)+COUNTIF($C$63:$C$65,Q26) -> 0 | S26: =SUMIF($C$16:$C$30,Q26,$G$16:$G$30)+SUMIF($C$35:$C$39,Q26,$G$35:$G$39)+SUMIF($C$44:$C$58,Q26,$G$44:$G$58)+SUMIF($C$63:$C$65,Q26,$F$63:$F$65) -> 0
H27: =IF(AND(A27<>"",B27<>"",C27<>"",D27<>"",E27<>"",F27<>"",G27<>""),VLOOKUP(F27,訪問介護費!$A$4:$B$7,2,0),0) -> 0 | I27: =(H27*G27)*0.1*10 -> 0 | Q27: 和田 | R27: =COUNTIF($C$16:$C$30,Q27)+COUNTIF($C$35:$C$39,Q27)+COUNTIF($C$44:$C$58,Q27)+COUNTIF($C$63:$C$65,Q27) -> 0 | S27: =SUMIF($C$16:$C$30,Q27,$G$16:$G$30)+SUMIF($C$35:$C$39,Q27,$G$35:$G$39)+SUMIF($C$44:$C$58,Q27,$G$44:$G$58)+SUMIF($C$63:$C$65,Q27,$F$63:$F$65) -> 0
... H30: =IF(AND(A30<>"",B30<>"",C30<>"",D30<>"",E30<>"",F30<>"",G30<>""),VLOOKUP(F30,訪問介護費!$A$4:$B$7,2,0),0) -> 0 | I30: =(H30*G30)*0.1*10 -> 0 | Q30: 三谷 | R30: =COUNTIF($C$16:$C$30,Q30)+COUNTIF($C$35:$C$39,Q30)+COUNTIF($C$44:$C$58,Q30)+COUNTIF($C$63:$C$65,Q30) -> 0 | S30: =SUMIF($C$16:$C$30,Q30,$G$16:$G$30)+SUMIF($C$35:$C$39,Q30,$G$35:$G$39)+SUMIF($C$44:$C$58,Q30,$G$44:$G$58)+SUMIF($C$63:$C$65,Q30,$F$63:$F$65) -> 0
A31: 合計 | G31: =SUMIF(G16:G30,"<>#N/A") -> 0 | H31: =SUMIF(H16:H30,"<>#N/A") -> 0 | I31: =SUMIF(I16:I30,"<>#N/A") -> 0 | Q31: 大木 | R31: =COUNTIF($C$16:$C$30,Q31)+COUNTIF($C$35:$C$39,Q31)+COUNTIF($C$44:$C$58,Q31)+COUNTIF($C$63:$C$65,Q31) -> 0 | S31: =SUMIF($C$16:$C$30,Q31,$G$16:$G$30)+SUMIF($C$35:$C$39,Q31,$G$35:$G$39)+SUMIF($C$44:$C$58,Q31,$G$44:$G$58)+SUMIF($C$63:$C$65,Q31,$F$63:$F$65) -> 0
Q32: 豊岡上 | R32: =COUNTIF($C$16:$C$30,Q32)+COUNTIF($C$35:$C$39,Q32)+COUNTIF($C$44:$C$58,Q32)+COUNTIF($C$63:$C$65,Q32) -> 0 | S32: =SUMIF($C$16:$C$30,Q32,$G$16:$G$30)+SUMIF($C$35:$C$39,Q32,$G$35:$G$39)+SUMIF($C$44:$C$58,Q32,$G$44:$G$58)+SUMIF($C$63:$C$65,Q32,$F$63:$F$65) -> 0
A33: イ 身体介護が中心である場合 ※サービス提供時間が所要時間1時間以上の場合 | Q33: 杉谷 | R33: =COUNTIF($C$16:$C$30,Q33)+COUNTIF($C$35:$C$39,Q33)+COUNTIF($C$44:$C$58,Q33)+COUNTIF($C$63:$C$65,Q33) -> 0 | S33: =SUMIF($C$16:$C$30,Q33,$G$16:$G$30)+SUMIF($C$35:$C$39,Q33,$G$35:$G$39)+SUMIF($C$44:$C$58,Q33,$G$44:$G$58)+SUMIF($C$63:$C$65,Q33,$F$63:$F$65) -> 0
A34: 被保険者番号 | B34: 被保険者氏名 | C34: 地区名 | D34: 事業所から 利用者宅までの 距離（km） | E34: 事業所から 利用者宅までの 所要時間（分） | F34: サービス提供時間 | G34: サービス 提供回数 | H34: 基本報酬 （月単位数） | I34: 補助 申請額(月) | Q34: 粟井谷 | R34: =COUNTIF($C$16:$C$30,Q34)+COUNTIF($C$35:$C$39,Q34)+COUNTIF($C$44:$C$58,Q34)+COUNTIF($C$63:$C$65,Q34) -> 0 | S34: =SUMIF($C$16:$C$30,Q34,$G$16:$G$30)+SUMIF($C$35:$C$39,Q34,$G$35:$G$39)+SUMIF($C$44:$C$58,Q34,$G$44:$G$58)+SUMIF($C$63:$C$65,Q34,$F$63:$F$65) -> 0
F35: ④所要時間1時間以上の場合 | I35: =IF(AND(A35<>"",B35<>"",C35<>"",D35<>"",E35<>"",G35<>"",H35<>""),(H35*G35)*0.1*10,0) -> 0 | Q35: 上竹 | R35: =COUNTIF($C$16:$C$30,Q35)+COUNTIF($C$35:$C$39,Q35)+COUNTIF($C$44:$C$58,Q35)+COUNTIF($C$63:$C$65,Q35) -> 0 | S35: =SUMIF($C$16:$C$30,Q35,$G$16:$G$30)+SUMIF($C$35:$C$39,Q35,$G$35:$G$39)+SUMIF($C$44:$C$58,Q35,$G$44:$G$58)+SUMIF($C$63:$C$65,Q35,$F$63:$F$65) -> 0
F36: ④所要時間1時間以上の場合 | I36: =IF(AND(A36<>"",B36<>"",C36<>"",D36<>"",E36<>"",G36<>"",H36<>""),(H36*G36)*0.1*10,0) -> 0 | Q36: 納地 | R36: =COUNTIF($C$16:$C$30,Q36)+COUNTIF($C$35:$C$39,Q36)+COUNTIF($C$44:$C$58,Q36)+COUNTIF($C$63:$C$65,Q36) -> 0 | S36: =SUMIF($C$16:$C$30,Q36,$G$16:$G$30)+SUMIF($C$35:$C$39,Q36,$G$35:$G$39)+SUMIF($C$44:$C$58,Q36,$G$44:$G$58)+SUMIF($C$63:$C$65,Q36,$F$63:$F$65) -> 0
F37: ④所要時間1時間以上の場合 | I37: =IF(AND(A37<>"",B37<>"",C37<>"",D37<>"",E37<>"",G37<>"",H37<>""),(H37*G37)*0.1*10,0) -> 0 | Q37: 豊野 | R37: =COUNTIF($C$16:$C$30,Q37)+COUNTIF($C$35:$C$39,Q37)+COUNTIF($C$44:$C$58,Q37)+COUNTIF($C$63:$C$65,Q37) -> 0 | S37: =SUMIF($C$16:$C$30,Q37,$G$16:$G$30)+SUMIF($C$35:$C$39,Q37,$G$35:$G$39)+SUMIF($C$44:$C$58,Q37,$G$44:$G$58)+SUMIF($C$63:$C$65,Q37,$F$63:$F$65) -> 0
F38: ④所要時間1時間以上の場合 | I38: =IF(AND(A38<>"",B38<>"",C38<>"",D38<>"",E38<>"",G38<>"",H38<>""),(H38*G38)*0.1*10,0) -> 0 | Q38: 竹荘 | R38: =COUNTIF($C$16:$C$30,Q38)+COUNTIF($C$35:$C$39,Q38)+COUNTIF($C$44:$C$58,Q38)+COUNTIF($C$63:$C$65,Q38) -> 0 | S38: =SUMIF($C$16:$C$30,Q38,$G$16:$G$30)+SUMIF($C$35:$C$39,Q38,$G$35:$G$39)+SUMIF($C$44:$C$58,Q38,$G$44:$G$58)+SUMIF($C$63:$C$65,Q38,$F$63:$F$65) -> 0
F39: ④所要時間1時間以上の場合 | I39: =IF(AND(A39<>"",B39<>"",C39<>"",D39<>"",E39<>"",G39<>"",H39<>""),(H39*G39)*0.1*10,0) -> 0 | Q39: 黒土 | R39: =COUNTIF($C$16:$C$30,Q39)+COUNTIF($C$35:$C$39,Q39)+COUNTIF($C$44:$C$58,Q39)+COUNTIF($C$63:$C$65,Q39) -> 0 | S39: =SUMIF($C$16:$C$30,Q39,$G$16:$G$30)+SUMIF($C$35:$C$39,Q39,$G$35:$G$39)+SUMIF($C$44:$C$58,Q39,$G$44:$G$58)+SUMIF($C$63:$C$65,Q39,$F$63:$F$65) -> 0
A40: 合計 | G40: =SUMIF(G35:G39,"<>#N/A") -> 0 | H40: =SUMIF(H35:H39,"<>#N/A") -> 0 | I40: =SUMIF(I35:I39,"<>#N/A") -> 0 | Q40: 田土 | R40: =COUNTIF($C$16:$C$30,Q40)+COUNTIF($C$35:$C$39,Q40)+COUNTIF($C$44:$C$58,Q40)+COUNTIF($C$63:$C$65,Q40) -> 0 | S40: =SUMIF($C$16:$C$30,Q40,$G$16:$G$30)+SUMIF($C$35:$C$39,Q40,$G$35:$G$39)+SUMIF($C$44:$C$58,Q40,$G$44:$G$58)+SUMIF($C$63:$C$65,Q40,$F$63:$F$65) -> 0
Q41: 湯山 | R41: =COUNTIF($C$16:$C$30,Q41)+COUNTIF($C$35:$C$39,Q41)+COUNTIF($C$44:$C$58,Q41)+COUNTIF($C$63:$C$65,Q41) -> 0 | S41: =SUMIF($C$16:$C$30,Q41,$G$16:$G$30)+SUMIF($C$35:$C$39,Q41,$G$35:$G$39)+SUMIF($C$44:$C$58,Q41,$G$44:$G$58)+SUMIF($C$63:$C$65,Q41,$F$63:$F$65) -> 0
A42: ロ 生活援助が中心である場合 | Q42: 吉川 | R42: =COUNTIF($C$16:$C$30,Q42)+COUNTIF($C$35:$C$39,Q42)+COUNTIF($C$44:$C$58,Q42)+COUNTIF($C$63:$C$65,Q42) -> 0 | S42: =SUMIF($C$16:$C$30,Q42,$G$16:$G$30)+SUMIF($C$35:$C$39,Q42,$G$35:$G$39)+SUMIF($C$44:$C$58,Q42,$G$44:$G$58)+SUMIF($C$63:$C$65,Q42,$F$63:$F$65) -> 0
...

Sheet (附表2)実施状況報告（６月）
A1: 附表2 | G1: 令和 年 月 日
A2: 吉備中央町長 様 | R2: 対象者人数 | S2: サービス 提供回数
Q3: 広面 | R3: =COUNTIF($C$16:$C$30,Q3)+COUNTIF($C$35:$C$39,Q3)+COUNTIF($C$44:$C$58,Q3)+COUNTIF($C$63:$C$65,Q3) -> 0 | S3: =SUMIF($C$16:$C$30,Q3,$G$16:$G$30)+SUMIF($C$35:$C$39,Q3,$G$35:$G$39)+SUMIF($C$44:$C$58,Q3,$G$44:$G$58)+SUMIF($C$63:$C$65,Q3,$F$63:$F$65) -> 0
A4: 実 施 状 況 報 告 明 細 書 （訪問介護事業所用） 令和８年６月分 | Q4: 上加茂 | R4: =COUNTIF($C$16:$C$30,Q4)+COUNTIF($C$35:$C$39,Q4)+COUNTIF($C$44:$C$58,Q4)+COUNTIF($C$63:$C$65,Q4) -> 0 | S4: =SUMIF($C$16:$C$30,Q4,$G$16:$G$30)+SUMIF($C$35:$C$39,Q4,$G$35:$G$39)+SUMIF($C$44:$C$58,Q4,$G$44:$G$58)+SUMIF($C$63:$C$65,Q4,$F$63:$F$65) -> 0
Q5: 下加茂 | R5: =COUNTIF($C$16:$C$30,Q5)+COUNTIF($C$35:$C$39,Q5)+COUNTIF($C$44:$C$58,Q5)+COUNTIF($C$63:$C$65,Q5) -> 0 | S5: =SUMIF($C$16:$C$30,Q5,$G$16:$G$30)+SUMIF($C$35:$C$39,Q5,$G$35:$G$39)+SUMIF($C$44:$C$58,Q5,$G$44:$G$58)+SUMIF($C$63:$C$65,Q5,$F$63:$F$65) -> 0
A6: 1.事業所情報 | Q6: 美原 | R6: =COUNTIF($C$16:$C$30,Q6)+COUNTIF($C$35:$C$39,Q6)+COUNTIF($C$44:$C$58,Q6)+COUNTIF($C$63:$C$65,Q6) -> 0 | S6: =SUMIF($C$16:$C$30,Q6,$G$16:$G$30)+SUMIF($C$35:$C$39,Q6,$G$35:$G$39)+SUMIF($C$44:$C$58,Q6,$G$44:$G$58)+SUMIF($C$63:$C$65,Q6,$F$63:$F$65) -> 0
A7: 事業者名 | B7: =IF(基本情報入力シート!V7="","",基本情報入力シート!V7) | Q7: 加茂市場 | R7: =COUNTIF($C$16:$C$30,Q7)+COUNTIF($C$35:$C$39,Q7)+COUNTIF($C$44:$C$58,Q7)+COUNTIF($C$63:$C$65,Q7) -> 0 | S7: =SUMIF($C$16:$C$30,Q7,$G$16:$G$30)+SUMIF($C$35:$C$39,Q7,$G$35:$G$39)+SUMIF($C$44:$C$58,Q7,$G$44:$G$58)+SUMIF($C$63:$C$65,Q7,$F$63:$F$65) -> 0
A8: 事業所名 | B8: =IF(基本情報入力シート!V18="","",基本情報入力シート!V18) | Q8: 高谷 | R8: =COUNTIF($C$16:$C$30,Q8)+COUNTIF($C$35:$C$39,Q8)+COUNTIF($C$44:$C$58,Q8)+COUNTIF($C$63:$C$65,Q8) -> 0 | S8: =SUMIF($C$16:$C$30,Q8,$G$16:$G$30)+SUMIF($C$35:$C$39,Q8,$G$35:$G$39)+SUMIF($C$44:$C$58,Q8,$G$44:$G$58)+SUMIF($C$63:$C$65,Q8,$F$63:$F$65) -> 0
A9: 事業所所在地 | B9: =IF(基本情報入力シート!V19="","",基本情報入力シート!V19) | Q9: 平岡 | R9: =COUNTIF($C$16:$C$30,Q9)+COUNTIF($C$35:$C$39,Q9)+COUNTIF($C$44:$C$58,Q9)+COUNTIF($C$63:$C$65,Q9) -> 0 | S9: =SUMIF($C$16:$C$30,Q9,$G$16:$G$30)+SUMIF($C$35:$C$39,Q9,$G$35:$G$39)+SUMIF($C$44:$C$58,Q9,$G$44:$G$58)+SUMIF($C$63:$C$65,Q9,$F$63:$F$65) -> 0
A10: サービス種別 | B10: =IF(基本情報入力シート!V20="","",基本情報入力シート!V20) -> 訪問介護 | Q10: 上野 | R10: =COUNTIF($C$16:$C$30,Q10)+COUNTIF($C$35:$C$39,Q10)+COUNTIF($C$44:$C$58,Q10)+COUNTIF($C$63:$C$65,Q10) -> 0 | S10: =SUMIF($C$16:$C$30,Q10,$G$16:$G$30)+SUMIF($C$35:$C$39,Q10,$G$35:$G$39)+SUMIF($C$44:$C$58,Q10,$G$44:$G$58)+SUMIF($C$63:$C$65,Q10,$F$63:$F$65) -> 0
A11: 補助対象事業区分 | B11: =IF(基本情報入力シート!V21="","",基本情報入力シート!V21) -> 別表第1の1 区分2 移動に片道20分以上の時間を要するサービ（特別地域加算対象地域内に所在する事業者が中山間地域等に居住する利用者を対象に行う場合） | Q11: 竹部 | R11: =COUNTIF($C$16:$C$30,Q11)+COUNTIF($C$35:$C$39,Q11)+COUNTIF($C$44:$C$58,Q11)+COUNTIF($C$63:$C$65,Q11) -> 0 | S11: =SUMIF($C$16:$C$30,Q11,$G$16:$G$30)+SUMIF($C$35:$C$39,Q11,$G$35:$G$39)+SUMIF($C$44:$C$58,Q11,$G$44:$G$58)+SUMIF($C$63:$C$65,Q11,$F$63:$F$65) -> 0
Q12: 上田東 | R12: =COUNTIF($C$16:$C$30,Q12)+COUNTIF($C$35:$C$39,Q12)+COUNTIF($C$44:$C$58,Q12)+COUNTIF($C$63:$C$65,Q12) -> 0 | S12: =SUMIF($C$16:$C$30,Q12,$G$16:$G$30)+SUMIF($C$35:$C$39,Q12,$G$35:$G$39)+SUMIF($C$44:$C$58,Q12,$G$44:$G$58)+SUMIF($C$63:$C$65,Q12,$F$63:$F$65) -> 0
A13: 2. 実績内訳 | Q13: 細田 | R13: =COUNTIF($C$16:$C$30,Q13)+COUNTIF($C$35:$C$39,Q13)+COUNTIF($C$44:$C$58,Q13)+COUNTIF($C$63:$C$65,Q13) -> 0 | S13: =SUMIF($C$16:$C$30,Q13,$G$16:$G$30)+SUMIF($C$35:$C$39,Q13,$G$35:$G$39)+SUMIF($C$44:$C$58,Q13,$G$44:$G$58)+SUMIF($C$63:$C$65,Q13,$F$63:$F$65) -> 0
A14: イ 身体介護が中心である場合 | Q14: 三納谷 | R14: =COUNTIF($C$16:$C$30,Q14)+COUNTIF($C$35:$C$39,Q14)+COUNTIF($C$44:$C$58,Q14)+COUNTIF($C$63:$C$65,Q14) -> 0 | S14: =SUMIF($C$16:$C$30,Q14,$G$16:$G$30)+SUMIF($C$35:$C$39,Q14,$G$35:$G$39)+SUMIF($C$44:$C$58,Q14,$G$44:$G$58)+SUMIF($C$63:$C$65,Q14,$F$63:$F$65) -> 0
A15: 被保険者番号 | B15: 被保険者氏名 | C15: 地区名 | D15: 事業所から 利用者宅までの 距離（km） | E15: 事業所から 利用者宅までの 所要時間（分） | F15: サービス提供時間 | G15: サービス 提供回数 | H15: 基本報酬 （月単位数） | I15: 基準額(月) | Q15: 上田西 | R15: =COUNTIF($C$16:$C$30,Q15)+COUNTIF($C$35:$C$39,Q15)+COUNTIF($C$44:$C$58,Q15)+COUNTIF($C$63:$C$65,Q15) -> 0 | S15: =SUMIF($C$16:$C$30,Q15,$G$16:$G$30)+SUMIF($C$35:$C$39,Q15,$G$35:$G$39)+SUMIF($C$44:$C$58,Q15,$G$44:$G$58)+SUMIF($C$63:$C$65,Q15,$F$63:$F$65) -> 0
H16: =IF(AND(A16<>"",B16<>"",C16<>"",D16<>"",E16<>"",F16<>"",G16<>""),VLOOKUP(F16,訪問介護費!$A$4:$B$7,2,0),0) -> 0 | I16: =(H16*G16)*0.1*10 -> 0 | Q16: 円城 | R16: =COUNTIF($C$16:$C$30,Q16)+COUNTIF($C$35:$C$39,Q16)+COUNTIF($C$44:$C$58,Q16)+COUNTIF($C$63:$C$65,Q16) -> 0 | S16: =SUMIF($C$16:$C$30,Q16,$G$16:$G$30)+SUMIF($C$35:$C$39,Q16,$G$35:$G$39)+SUMIF($C$44:$C$58,Q16,$G$44:$G$58)+SUMIF($C$63:$C$65,Q16,$F$63:$F$65) -> 0
H17: =IF(AND(A17<>"",B17<>"",C17<>"",D17<>"",E17<>"",F17<>"",G17<>""),VLOOKUP(F17,訪問介護費!$A$4:$B$7,2,0),0) -> 0 | I17: =(H17*G17)*0.1*10 -> 0 | Q17: 案田 | R17: =COUNTIF($C$16:$C$30,Q17)+COUNTIF($C$35:$C$39,Q17)+COUNTIF($C$44:$C$58,Q17)+COUNTIF($C$63:$C$65,Q17) -> 0 | S17: =SUMIF($C$16:$C$30,Q17,$G$16:$G$30)+SUMIF($C$35:$C$39,Q17,$G$35:$G$39)+SUMIF($C$44:$C$58,Q17,$G$44:$G$58)+SUMIF($C$63:$C$65,Q17,$F$63:$F$65) -> 0
H18: =IF(AND(A18<>"",B18<>"",C18<>"",D18<>"",E18<>"",F18<>"",G18<>""),VLOOKUP(F18,訪問介護費!$A$4:$B$7,2,0),0) -> 0 | I18: =(H18*G18)*0.1*10 -> 0 | Q18: 高富 | R18: =COUNTIF($C$16:$C$30,Q18)+COUNTIF($C$35:$C$39,Q18)+COUNTIF($C$44:$C$58,Q18)+COUNTIF($C$63:$C$65,Q18) -> 0 | S18: =SUMIF($C$16:$C$30,Q18,$G$16:$G$30)+SUMIF($C$35:$C$39,Q18,$G$35:$G$39)+SUMIF($C$44:$C$58,Q18,$G$44:$G$58)+SUMIF($C$63:$C$65,Q18,$F$63:$F$65) -> 0
H19: =IF(AND(A19<>"",B19<>"",C19<>"",D19<>"",E19<>"",F19<>"",G19<>""),VLOOKUP(F19,訪問介護費!$A$4:$B$7,2,0),0) -> 0 | I19: =(H19*G19)*0.1*10 -> 0 | Q19: 神瀬 | R19: =COUNTIF($C$16:$C$30,Q19)+COUNTIF($C$35:$C$39,Q19)+COUNTIF($C$44:$C$58,Q19)+COUNTIF($C$63:$C$65,Q19) -> 0 | S19: =SUMIF($C$16:$C$30,Q19,$G$16:$G$30)+SUMIF($C$35:$C$39,Q19,$G$35:$G$39)+SUMIF($C$44:$C$58,Q19,$G$44:$G$58)+SUMIF($C$63:$C$65,Q19,$F$63:$F$65) -> 0
H20: =IF(AND(A20<>"",B20<>"",C20<>"",D20<>"",E20<>"",F20<>"",G20<>""),VLOOKUP(F20,訪問介護費!$A$4:$B$7,2,0),0) -> 0 | I20: =(H20*G20)*0.1*10 -> 0 | Q20: 小森 | R20: =COUNTIF($C$16:$C$30,Q20)+COUNTIF($C$35:$C$39,Q20)+COUNTIF($C$44:$C$58,Q20)+COUNTIF($C$63:$C$65,Q20) -> 0 | S20: =SUMIF($C$16:$C$30,Q20,$G$16:$G$30)+SUMIF($C$35:$C$39,Q20,$G$35:$G$39)+SUMIF($C$44:$C$58,Q20,$G$44:$G$58)+SUMIF($C$63:$C$65,Q20,$F$63:$F$65) -> 0
H21: =IF(AND(A21<>"",B21<>"",C21<>"",D21<>"",E21<>"",F21<>"",G21<>""),VLOOKUP(F21,訪問介護費!$A$4:$B$7,2,0),0) -> 0 | I21: =(H21*G21)*0.1*10 -> 0 | Q21: 尾原 | R21: =COUNTIF($C$16:$C$30,Q21)+COUNTIF($C$35:$C$39,Q21)+COUNTIF($C$44:$C$58,Q21)+COUNTIF($C$63:$C$65,Q21) -> 0 | S21: =SUMIF($C$16:$C$30,Q21,$G$16:$G$30)+SUMIF($C$35:$C$39,Q21,$G$35:$G$39)+SUMIF($C$44:$C$58,Q21,$G$44:$G$58)+SUMIF($C$63:$C$65,Q21,$F$63:$F$65) -> 0
H22: =IF(AND(A22<>"",B22<>"",C22<>"",D22<>"",E22<>"",F22<>"",G22<>""),VLOOKUP(F22,訪問介護費!$A$4:$B$7,2,0),0) -> 0 | I22: =(H22*G22)*0.1*10 -> 0 | Q22: 笹目 | R22: =COUNTIF($C$16:$C$30,Q22)+COUNTIF($C$35:$C$39,Q22)+COUNTIF($C$44:$C$58,Q22)+COUNTIF($C$63:$C$65,Q22) -> 0 | S22: =SUMIF($C$16:$C$30,Q22,$G$16:$G$30)+SUMIF($C$35:$C$39,Q22,$G$35:$G$39)+SUMIF($C$44:$C$58,Q22,$G$44:$G$58)+SUMIF($C$63:$C$65,Q22,$F$63:$F$65) -> 0
H23: =IF(AND(A23<>"",B23<>"",C23<>"",D23<>"",E23<>"",F23<>"",G23<>""),VLOOKUP(F23,訪問介護費!$A$4:$B$7,2,0),0) -> 0 | I23: =(H23*G23)*0.1*10 -> 0 | Q23: 福沢 | R23: =COUNTIF($C$16:$C$30,Q23)+COUNTIF($C$35:$C$39,Q23)+COUNTIF($C$44:$C$58,Q23)+COUNTIF($C$63:$C$65,Q23) -> 0 | S23: =SUMIF($C$16:$C$30,Q23,$G$16:$G$30)+SUMIF($C$35:$C$39,Q23,$G$35:$G$39)+SUMIF($C$44:$C$58,Q23,$G$44:$G$58)+SUMIF($C$63:$C$65,Q23,$F$63:$F$65) -> 0
H24: =IF(AND(A24<>"",B24<>"",C24<>"",D24<>"",E24<>"",F24<>"",G24<>""),VLOOKUP(F24,訪問介護費!$A$4:$B$7,2,0),0) -> 0 | I24: =(H24*G24)*0.1*10 -> 0 | Q24: 溝部 | R24: =COUNTIF($C$16:$C$30,Q24)+COUNTIF($C$35:$C$39,Q24)+COUNTIF($C$44:$C$58,Q24)+COUNTIF($C$63:$C$65,Q24) -> 0 | S24: =SUMIF($C$16:$C$30,Q24,$G$16:$G$30)+SUMIF($C$35:$C$39,Q24,$G$35:$G$39)+SUMIF($C$44:$C$58,Q24,$G$44:$G$58)+SUMIF($C$63:$C$65,Q24,$F$63:$F$65) -> 0
H25: =IF(AND(A25<>"",B25<>"",C25<>"",D25<>"",E25<>"",F25<>"",G25<>""),VLOOKUP(F25,訪問介護費!$A$4:$B$7,2,0),0) -> 0 | I25: =(H25*G25)*0.1*10 -> 0 | Q25: 富永 | R25: =COUNTIF($C$16:$C$30,Q25)+COUNTIF($C$35:$C$39,Q25)+COUNTIF($C$44:$C$58,Q25)+COUNTIF($C$63:$C$65,Q25) -> 0 | S25: =SUMIF($C$16:$C$30,Q25,$G$16:$G$30)+SUMIF($C$35:$C$39,Q25,$G$35:$G$39)+SUMIF($C$44:$C$58,Q25,$G$44:$G$58)+SUMIF($C$63:$C$65,Q25,$F$63:$F$65) -> 0
H26: =IF(AND(A26<>"",B26<>"",C26<>"",D26<>"",E26<>"",F26<>"",G26<>""),VLOOKUP(F26,訪問介護費!$A$4:$B$7,2,0),0) -> 0 | I26: =(H26*G26)*0.1*10 -> 0 | Q26: 下土井 | R26: =COUNTIF($C$16:$C$30,Q26)+COUNTIF($C$35:$C$39,Q26)+COUNTIF($C$44:$C$58,Q26)+COUNTIF($C$63:$C$65,Q26) -> 0 | S26: =SUMIF($C$16:$C$30,Q26,$G$16:$G$30)+SUMIF($C$35:$C$39,Q26,$G$35:$G$39)+SUMIF($C$44:$C$58,Q26,$G$44:$G$58)+SUMIF($C$63:$C$65,Q26,$F$63:$F$65) -> 0
H27: =IF(AND(A27<>"",B27<>"",C27<>"",D27<>"",E27<>"",F27<>"",G27<>""),VLOOKUP(F27,訪問介護費!$A$4:$B$7,2,0),0) -> 0 | I27: =(H27*G27)*0.1*10 -> 0 | Q27: 和田 | R27: =COUNTIF($C$16:$C$30,Q27)+COUNTIF($C$35:$C$39,Q27)+COUNTIF($C$44:$C$58,Q27)+COUNTIF($C$63:$C$65,Q27) -> 0 | S27: =SUMIF($C$16:$C$30,Q27,$G$16:$G$30)+SUMIF($C$35:$C$39,Q27,$G$35:$G$39)+SUMIF($C$44:$C$58,Q27,$G$44:$G$58)+SUMIF($C$63:$C$65,Q27,$F$63:$F$65) -> 0
... H30: =IF(AND(A30<>"",B30<>"",C30<>"",D30<>"",E30<>"",F30<>"",G30<>""),VLOOKUP(F30,訪問介護費!$A$4:$B$7,2,0),0) -> 0 | I30: =(H30*G30)*0.1*10 -> 0 | Q30: 三谷 | R30: =COUNTIF($C$16:$C$30,Q30)+COUNTIF($C$35:$C$39,Q30)+COUNTIF($C$44:$C$58,Q30)+COUNTIF($C$63:$C$65,Q30) -> 0 | S30: =SUMIF($C$16:$C$30,Q30,$G$16:$G$30)+SUMIF($C$35:$C$39,Q30,$G$35:$G$39)+SUMIF($C$44:$C$58,Q30,$G$44:$G$58)+SUMIF($C$63:$C$65,Q30,$F$63:$F$65) -> 0
A31: 合計 | G31: =SUMIF(G16:G30,"<>#N/A") -> 0 | H31: =SUMIF(H16:H30,"<>#N/A") -> 0 | I31: =SUMIF(I16:I30,"<>#N/A") -> 0 | Q31: 大木 | R31: =COUNTIF($C$16:$C$30,Q31)+COUNTIF($C$35:$C$39,Q31)+COUNTIF($C$44:$C$58,Q31)+COUNTIF($C$63:$C$65,Q31) -> 0 | S31: =SUMIF($C$16:$C$30,Q31,$G$16:$G$30)+SUMIF($C$35:$C$39,Q31,$G$35:$G$39)+SUMIF($C$44:$C$58,Q31,$G$44:$G$58)+SUMIF($C$63:$C$65,Q31,$F$63:$F$65) -> 0
Q32: 豊岡上 | R32: =COUNTIF($C$16:$C$30,Q32)+COUNTIF($C$35:$C$39,Q32)+COUNTIF($C$44:$C$58,Q32)+COUNTIF($C$63:$C$65,Q32) -> 0 | S32: =SUMIF($C$16:$C$30,Q32,$G$16:$G$30)+SUMIF($C$35:$C$39,Q32,$G$35:$G$39)+SUMIF($C$44:$C$58,Q32,$G$44:$G$58)+SUMIF($C$63:$C$65,Q32,$F$63:$F$65) -> 0
A33: イ 身体介護が中心である場合 ※サービス提供時間が所要時間1時間以上の場合 | Q33: 杉谷 | R33: =COUNTIF($C$16:$C$30,Q33)+COUNTIF($C$35:$C$39,Q33)+COUNTIF($C$44:$C$58,Q33)+COUNTIF($C$63:$C$65,Q33) -> 0 | S33: =SUMIF($C$16:$C$30,Q33,$G$16:$G$30)+SUMIF($C$35:$C$39,Q33,$G$35:$G$39)+SUMIF($C$44:$C$58,Q33,$G$44:$G$58)+SUMIF($C$63:$C$65,Q33,$F$63:$F$65) -> 0
A34: 被保険者番号 | B34: 被保険者氏名 | C34: 地区名 | D34: 事業所から 利用者宅までの 距離（km） | E34: 事業所から 利用者宅までの 所要時間（分） | F34: サービス提供時間 | G34: サービス 提供回数 | H34: 基本報酬 （月単位数） | I34: 補助 申請額(月) | Q34: 粟井谷 | R34: =COUNTIF($C$16:$C$30,Q34)+COUNTIF($C$35:$C$39,Q34)+COUNTIF($C$44:$C$58,Q34)+COUNTIF($C$63:$C$65,Q34) -> 0 | S34: =SUMIF($C$16:$C$30,Q34,$G$16:$G$30)+SUMIF($C$35:$C$39,Q34,$G$35:$G$39)+SUMIF($C$44:$C$58,Q34,$G$44:$G$58)+SUMIF($C$63:$C$65,Q34,$F$63:$F$65) -> 0
F35: ④所要時間1時間以上の場合 | I35: =IF(AND(A35<>"",B35<>"",C35<>"",D35<>"",E35<>"",G35<>"",H35<>""),(H35*G35)*0.1*10,0) -> 0 | Q35: 上竹 | R35: =COUNTIF($C$16:$C$30,Q35)+COUNTIF($C$35:$C$39,Q35)+COUNTIF($C$44:$C$58,Q35)+COUNTIF($C$63:$C$65,Q35) -> 0 | S35: =SUMIF($C$16:$C$30,Q35,$G$16:$G$30)+SUMIF($C$35:$C$39,Q35,$G$35:$G$39)+SUMIF($C$44:$C$58,Q35,$G$44:$G$58)+SUMIF($C$63:$C$65,Q35,$F$63:$F$65) -> 0
F36: ④所要時間1時間以上の場合 | I36: =IF(AND(A36<>"",B36<>"",C36<>"",D36<>"",E36<>"",G36<>"",H36<>""),(H36*G36)*0.1*10,0) -> 0 | Q36: 納地 | R36: =COUNTIF($C$16:$C$30,Q36)+COUNTIF($C$35:$C$39,Q36)+COUNTIF($C$44:$C$58,Q36)+COUNTIF($C$63:$C$65,Q36) -> 0 | S36: =SUMIF($C$16:$C$30,Q36,$G$16:$G$30)+SUMIF($C$35:$C$39,Q36,$G$35:$G$39)+SUMIF($C$44:$C$58,Q36,$G$44:$G$58)+SUMIF($C$63:$C$65,Q36,$F$63:$F$65) -> 0
F37: ④所要時間1時間以上の場合 | I37: =IF(AND(A37<>"",B37<>"",C37<>"",D37<>"",E37<>"",G37<>"",H37<>""),(H37*G37)*0.1*10,0) -> 0 | Q37: 豊野 | R37: =COUNTIF($C$16:$C$30,Q37)+COUNTIF($C$35:$C$39,Q37)+COUNTIF($C$44:$C$58,Q37)+COUNTIF($C$63:$C$65,Q37) -> 0 | S37: =SUMIF($C$16:$C$30,Q37,$G$16:$G$30)+SUMIF($C$35:$C$39,Q37,$G$35:$G$39)+SUMIF($C$44:$C$58,Q37,$G$44:$G$58)+SUMIF($C$63:$C$65,Q37,$F$63:$F$65) -> 0
F38: ④所要時間1時間以上の場合 | I38: =IF(AND(A38<>"",B38<>"",C38<>"",D38<>"",E38<>"",G38<>"",H38<>""),(H38*G38)*0.1*10,0) -> 0 | Q38: 竹荘 | R38: =COUNTIF($C$16:$C$30,Q38)+COUNTIF($C$35:$C$39,Q38)+COUNTIF($C$44:$C$58,Q38)+COUNTIF($C$63:$C$65,Q38) -> 0 | S38: =SUMIF($C$16:$C$30,Q38,$G$16:$G$30)+SUMIF($C$35:$C$39,Q38,$G$35:$G$39)+SUMIF($C$44:$C$58,Q38,$G$44:$G$58)+SUMIF($C$63:$C$65,Q38,$F$63:$F$65) -> 0
F39: ④所要時間1時間以上の場合 | I39: =IF(AND(A39<>"",B39<>"",C39<>"",D39<>"",E39<>"",G39<>"",H39<>""),(H39*G39)*0.1*10,0) -> 0 | Q39: 黒土 | R39: =COUNTIF($C$16:$C$30,Q39)+COUNTIF($C$35:$C$39,Q39)+COUNTIF($C$44:$C$58,Q39)+COUNTIF($C$63:$C$65,Q39) -> 0 | S39: =SUMIF($C$16:$C$30,Q39,$G$16:$G$30)+SUMIF($C$35:$C$39,Q39,$G$35:$G$39)+SUMIF($C$44:$C$58,Q39,$G$44:$G$58)+SUMIF($C$63:$C$65,Q39,$F$63:$F$65) -> 0
A40: 合計 | G40: =SUMIF(G35:G39,"<>#N/A") -> 0 | H40: =SUMIF(H35:H39,"<>#N/A") -> 0 | I40: =SUMIF(I35:I39,"<>#N/A") -> 0 | Q40: 田土 | R40: =COUNTIF($C$16:$C$30,Q40)+COUNTIF($C$35:$C$39,Q40)+COUNTIF($C$44:$C$58,Q40)+COUNTIF($C$63:$C$65,Q40) -> 0 | S40: =SUMIF($C$16:$C$30,Q40,$G$16:$G$30)+SUMIF($C$35:$C$39,Q40,$G$35:$G$39)+SUMIF($C$44:$C$58,Q40,$G$44:$G$58)+SUMIF($C$63:$C$65,Q40,$F$63:$F$65) -> 0
Q41: 湯山 | R41: =COUNTIF($C$16:$C$30,Q41)+COUNTIF($C$35:$C$39,Q41)+COUNTIF($C$44:$C$58,Q41)+COUNTIF($C$63:$C$65,Q41) -> 0 | S41: =SUMIF($C$16:$C$30,Q41,$G$16:$G$30)+SUMIF($C$35:$C$39,Q41,$G$35:$G$39)+SUMIF($C$44:$C$58,Q41,$G$44:$G$58)+SUMIF($C$63:$C$65,Q41,$F$63:$F$65) -> 0
A42: ロ 生活援助が中心である場合 | Q42: 吉川 | R42: =COUNTIF($C$16:$C$30,Q42)+COUNTIF($C$35:$C$39,Q42)+COUNTIF($C$44:$C$58,Q42)+COUNTIF($C$63:$C$65,Q42) -> 0 | S42: =SUMIF($C$16:$C$30,Q42,$G$16:$G$30)+SUMIF($C$35:$C$39,Q42,$G$35:$G$39)+SUMIF($C$44:$C$58,Q42,$G$44:$G$58)+SUMIF($C$63:$C$65,Q42,$F$63:$F$65) -> 0
...

Sheet (附表2)実施状況報告（７月）
A1: 附表2 | G1: 令和 年 月 日
A2: 吉備中央町長 様 | R2: 対象者人数 | S2: サービス 提供回数
Q3: 広面 | R3: =COUNTIF($C$16:$C$30,Q3)+COUNTIF($C$35:$C$39,Q3)+COUNTIF($C$44:$C$58,Q3)+COUNTIF($C$63:$C$65,Q3) -> 0 | S3: =SUMIF($C$16:$C$30,Q3,$G$16:$G$30)+SUMIF($C$35:$C$39,Q3,$G$35:$G$39)+SUMIF($C$44:$C$58,Q3,$G$44:$G$58)+SUMIF($C$63:$C$65,Q3,$F$63:$F$65) -> 0
