Workbook
Name サービス提供時間: #REF!
Name サービス提供時間1: #REF!
Name サービス提供時間2: #REF!
Name サービス提供時間3: #REF!
Name サービス提供時間4: #REF!
Name サービス提供時間5: #REF!
Name サービス提供時間6: #REF!
Name 介護度: #REF!

Sheet 基本情報入力シート
A2: 基 本 情 報 入 力 シ ー ト
A3: （通所リハビリテーション事業所用、通常規模型リハビリテーション費）
A4: 特別地域加算対象地域内に居住する利用者を対象に行う場合用
A6: 1.基本情報
A7: 事業者 | I7: フリガナ
I8: 名称
A9: 事業者 所在地 | I9: 〒 | Z9: -
I10: 住所１（番地・住居番号まで）
I11: 住所２（建物名等）
A12: 事業者 代表者 | I12: 職名
I13: 氏名
A14: 法人番号
A15: 書類作成 担当者 | I15: フリガナ
I16: 氏名
A17: 連絡先 | I17: 電話番号
I18: E-mail
A19: 事業所名
A20: 事業所所在地
A21: サービス種別 | V21: 通所リハビリテーション
A22: 補助対象事業区分 | V22: 別表第1の1 区分1 移動に片道20分以上の時間を要するサービス（特別地域加算対象地域内に居住する利用者を対象に行う場合）

Sheet (附表１－３)年間実施計画
A1: 附表１－３ | H1: 令和 年 月 日
A2: 吉備中央町長 様 | R2: 対象者人数 | S2: サービス 提供回数
Q3: ='(附表2)実施状況報告（４月）'!Q3 -> 広面 | R3: =COUNTIF($C$20:$C$49,Q3)+COUNTIF($C$54:$C$83,Q3)+COUNTIF($C$88:$C$117,Q3)+COUNTIF($C$122:$C$151,Q3)+COUNTIF($C$156:$C$185,Q3)+COUNTIF($C$190:$C$219,Q3)+COUNTIF($C$224:$C$253,Q3) -> 0 | S3: =SUMIF($C$20:$C$49,Q3,$G$20:$G$49)+SUMIF($C$54:$C$83,Q3,$G$54:$G$83)+SUMIF($C$88:$C$117,Q3,$G$88:$G$117)+SUMIF($C$122:$C$151,Q3,$G$122:$G$151)+SUMIF($C$156:$C$185,Q3,$G$156:$G$185)+SUMIF($C$190:$C$219,Q3,$G$190:$G$219)+SUMIF($C$224:$C$253,Q3,$G$224:$G$253) -> 0
A4: 年 間 実 施 計 画 （通所リハビリテーション事業所用、通常規模型リハビリテーション費） | Q4: ='(附表2)実施状況報告（４月）'!Q4 -> 上加茂 | R4: =COUNTIF($C$20:$C$49,Q4)+COUNTIF($C$54:$C$83,Q4)+COUNTIF($C$88:$C$117,Q4)+COUNTIF($C$122:$C$151,Q4)+COUNTIF($C$156:$C$185,Q4)+COUNTIF($C$190:$C$219,Q4)+COUNTIF($C$224:$C$253,Q4) -> 0 | S4: =SUMIF($C$20:$C$49,Q4,$G$20:$G$49)+SUMIF($C$54:$C$83,Q4,$G$54:$G$83)+SUMIF($C$88:$C$117,Q4,$G$88:$G$117)+SUMIF($C$122:$C$151,Q4,$G$122:$G$151)+SUMIF($C$156:$C$185,Q4,$G$156:$G$185)+SUMIF($C$190:$C$219,Q4,$G$190:$G$219)+SUMIF($C$224:$C$253,Q4,$G$224:$G$253) -> 0
Q5: ='(附表2)実施状況報告（４月）'!Q5 -> 下加茂 | R5: =COUNTIF($C$20:$C$49,Q5)+COUNTIF($C$54:$C$83,Q5)+COUNTIF($C$88:$C$117,Q5)+COUNTIF($C$122:$C$151,Q5)+COUNTIF($C$156:$C$185,Q5)+COUNTIF($C$190:$C$219,Q5)+COUNTIF($C$224:$C$253,Q5) -> 0 | S5: =SUMIF($C$20:$C$49,Q5,$G$20:$G$49)+SUMIF($C$54:$C$83,Q5,$G$54:$G$83)+SUMIF($C$88:$C$117,Q5,$G$88:$G$117)+SUMIF($C$122:$C$151,Q5,$G$122:$G$151)+SUMIF($C$156:$C$185,Q5,$G$156:$G$185)+SUMIF($C$190:$C$219,Q5,$G$190:$G$219)+SUMIF($C$224:$C$253,Q5,$G$224:$G$253) -> 0
A6: 1.事業所情報 | Q6: ='(附表2)実施状況報告（４月）'!Q6 -> 美原 | R6: =COUNTIF($C$20:$C$49,Q6)+COUNTIF($C$54:$C$83,Q6)+COUNTIF($C$88:$C$117,Q6)+COUNTIF($C$122:$C$151,Q6)+COUNTIF($C$156:$C$185,Q6)+COUNTIF($C$190:$C$219,Q6)+COUNTIF($C$224:$C$253,Q6) -> 0 | S6: =SUMIF($C$20:$C$49,Q6,$G$20:$G$49)+SUMIF($C$54:$C$83,Q6,$G$54:$G$83)+SUMIF($C$88:$C$117,Q6,$G$88:$G$117)+SUMIF($C$122:$C$151,Q6,$G$122:$G$151)+SUMIF($C$156:$C$185,Q6,$G$156:$G$185)+SUMIF($C$190:$C$219,Q6,$G$190:$G$219)+SUMIF($C$224:$C$253,Q6,$G$224:$G$253) -> 0
A7: 事業者名 | B7: =IF(基本情報入力シート!V8="","",基本情報入力シート!V8) | Q7: ='(附表2)実施状況報告（４月）'!Q7 -> 加茂市場 | R7: =COUNTIF($C$20:$C$49,Q7)+COUNTIF($C$54:$C$83,Q7)+COUNTIF($C$88:$C$117,Q7)+COUNTIF($C$122:$C$151,Q7)+COUNTIF($C$156:$C$185,Q7)+COUNTIF($C$190:$C$219,Q7)+COUNTIF($C$224:$C$253,Q7) -> 0 | S7: =SUMIF($C$20:$C$49,Q7,$G$20:$G$49)+SUMIF($C$54:$C$83,Q7,$G$54:$G$83)+SUMIF($C$88:$C$117,Q7,$G$88:$G$117)+SUMIF($C$122:$C$151,Q7,$G$122:$G$151)+SUMIF($C$156:$C$185,Q7,$G$156:$G$185)+SUMIF($C$190:$C$219,Q7,$G$190:$G$219)+SUMIF($C$224:$C$253,Q7,$G$224:$G$253) -> 0
A8: 事業所名 | B8: =IF(基本情報入力シート!V19="","",基本情報入力シート!V19) | Q8: ='(附表2)実施状況報告（４月）'!Q8 -> 高谷 | R8: =COUNTIF($C$20:$C$49,Q8)+COUNTIF($C$54:$C$83,Q8)+COUNTIF($C$88:$C$117,Q8)+COUNTIF($C$122:$C$151,Q8)+COUNTIF($C$156:$C$185,Q8)+COUNTIF($C$190:$C$219,Q8)+COUNTIF($C$224:$C$253,Q8) -> 0 | S8: =SUMIF($C$20:$C$49,Q8,$G$20:$G$49)+SUMIF($C$54:$C$83,Q8,$G$54:$G$83)+SUMIF($C$88:$C$117,Q8,$G$88:$G$117)+SUMIF($C$122:$C$151,Q8,$G$122:$G$151)+SUMIF($C$156:$C$185,Q8,$G$156:$G$185)+SUMIF($C$190:$C$219,Q8,$G$190:$G$219)+SUMIF($C$224:$C$253,Q8,$G$224:$G$253) -> 0
A9: 事業所所在地 | B9: =IF(基本情報入力シート!V20="","",基本情報入力シート!V20) | Q9: ='(附表2)実施状況報告（４月）'!Q9 -> 平岡 | R9: =COUNTIF($C$20:$C$49,Q9)+COUNTIF($C$54:$C$83,Q9)+COUNTIF($C$88:$C$117,Q9)+COUNTIF($C$122:$C$151,Q9)+COUNTIF($C$156:$C$185,Q9)+COUNTIF($C$190:$C$219,Q9)+COUNTIF($C$224:$C$253,Q9) -> 0 | S9: =SUMIF($C$20:$C$49,Q9,$G$20:$G$49)+SUMIF($C$54:$C$83,Q9,$G$54:$G$83)+SUMIF($C$88:$C$117,Q9,$G$88:$G$117)+SUMIF($C$122:$C$151,Q9,$G$122:$G$151)+SUMIF($C$156:$C$185,Q9,$G$156:$G$185)+SUMIF($C$190:$C$219,Q9,$G$190:$G$219)+SUMIF($C$224:$C$253,Q9,$G$224:$G$253) -> 0
A10: サービス種別 | B10: =IF(基本情報入力シート!V21="","",基本情報入力シート!V21) -> 通所リハビリテーション | Q10: ='(附表2)実施状況報告（４月）'!Q10 -> 上野 | R10: =COUNTIF($C$20:$C$49,Q10)+COUNTIF($C$54:$C$83,Q10)+COUNTIF($C$88:$C$117,Q10)+COUNTIF($C$122:$C$151,Q10)+COUNTIF($C$156:$C$185,Q10)+COUNTIF($C$190:$C$219,Q10)+COUNTIF($C$224:$C$253,Q10) -> 0 | S10: =SUMIF($C$20:$C$49,Q10,$G$20:$G$49)+SUMIF($C$54:$C$83,Q10,$G$54:$G$83)+SUMIF($C$88:$C$117,Q10,$G$88:$G$117)+SUMIF($C$122:$C$151,Q10,$G$122:$G$151)+SUMIF($C$156:$C$185,Q10,$G$156:$G$185)+SUMIF($C$190:$C$219,Q10,$G$190:$G$219)+SUMIF($C$224:$C$253,Q10,$G$224:$G$253) -> 0
A11: 補助対象事業区分 | B11: =IF(基本情報入力シート!V22="","",基本情報入力シート!V22) -> 別表第1の1 区分1 移動に片道20分以上の時間を要するサービス（特別地域加算対象地域内に居住する利用者を対象に行う場合） | Q11: ='(附表2)実施状況報告（４月）'!Q11 -> 竹部 | R11: =COUNTIF($C$20:$C$49,Q11)+COUNTIF($C$54:$C$83,Q11)+COUNTIF($C$88:$C$117,Q11)+COUNTIF($C$122:$C$151,Q11)+COUNTIF($C$156:$C$185,Q11)+COUNTIF($C$190:$C$219,Q11)+COUNTIF($C$224:$C$253,Q11) -> 0 | S11: =SUMIF($C$20:$C$49,Q11,$G$20:$G$49)+SUMIF($C$54:$C$83,Q11,$G$54:$G$83)+SUMIF($C$88:$C$117,Q11,$G$88:$G$117)+SUMIF($C$122:$C$151,Q11,$G$122:$G$151)+SUMIF($C$156:$C$185,Q11,$G$156:$G$185)+SUMIF($C$190:$C$219,Q11,$G$190:$G$219)+SUMIF($C$224:$C$253,Q11,$G$224:$G$253) -> 0
A12: 加算区分 | B12: 通常規模型リハビリテーション費 | Q12: ='(附表2)実施状況報告（４月）'!Q12 -> 上田東 | R12: =COUNTIF($C$20:$C$49,Q12)+COUNTIF($C$54:$C$83,Q12)+COUNTIF($C$88:$C$117,Q12)+COUNTIF($C$122:$C$151,Q12)+COUNTIF($C$156:$C$185,Q12)+COUNTIF($C$190:$C$219,Q12)+COUNTIF($C$224:$C$253,Q12) -> 0 | S12: =SUMIF($C$20:$C$49,Q12,$G$20:$G$49)+SUMIF($C$54:$C$83,Q12,$G$54:$G$83)+SUMIF($C$88:$C$117,Q12,$G$88:$G$117)+SUMIF($C$122:$C$151,Q12,$G$122:$G$151)+SUMIF($C$156:$C$185,Q12,$G$156:$G$185)+SUMIF($C$190:$C$219,Q12,$G$190:$G$219)+SUMIF($C$224:$C$253,Q12,$G$224:$G$253) -> 0
Q13: ='(附表2)実施状況報告（４月）'!Q13 -> 細田 | R13: =COUNTIF($C$20:$C$49,Q13)+COUNTIF($C$54:$C$83,Q13)+COUNTIF($C$88:$C$117,Q13)+COUNTIF($C$122:$C$151,Q13)+COUNTIF($C$156:$C$185,Q13)+COUNTIF($C$190:$C$219,Q13)+COUNTIF($C$224:$C$253,Q13) -> 0 | S13: =SUMIF($C$20:$C$49,Q13,$G$20:$G$49)+SUMIF($C$54:$C$83,Q13,$G$54:$G$83)+SUMIF($C$88:$C$117,Q13,$G$88:$G$117)+SUMIF($C$122:$C$151,Q13,$G$122:$G$151)+SUMIF($C$156:$C$185,Q13,$G$156:$G$185)+SUMIF($C$190:$C$219,Q13,$G$190:$G$219)+SUMIF($C$224:$C$253,Q13,$G$224:$G$253) -> 0
Q14: ='(附表2)実施状況報告（４月）'!Q14 -> 三納谷 | R14: =COUNTIF($C$20:$C$49,Q14)+COUNTIF($C$54:$C$83,Q14)+COUNTIF($C$88:$C$117,Q14)+COUNTIF($C$122:$C$151,Q14)+COUNTIF($C$156:$C$185,Q14)+COUNTIF($C$190:$C$219,Q14)+COUNTIF($C$224:$C$253,Q14) -> 0 | S14: =SUMIF($C$20:$C$49,Q14,$G$20:$G$49)+SUMIF($C$54:$C$83,Q14,$G$54:$G$83)+SUMIF($C$88:$C$117,Q14,$G$88:$G$117)+SUMIF($C$122:$C$151,Q14,$G$122:$G$151)+SUMIF($C$156:$C$185,Q14,$G$156:$G$185)+SUMIF($C$190:$C$219,Q14,$G$190:$G$219)+SUMIF($C$224:$C$253,Q14,$G$224:$G$253) -> 0
Q15: ='(附表2)実施状況報告（４月）'!Q15 -> 上田西 | R15: =COUNTIF($C$20:$C$49,Q15)+COUNTIF($C$54:$C$83,Q15)+COUNTIF($C$88:$C$117,Q15)+COUNTIF($C$122:$C$151,Q15)+COUNTIF($C$156:$C$185,Q15)+COUNTIF($C$190:$C$219,Q15)+COUNTIF($C$224:$C$253,Q15) -> 0 | S15: =SUMIF($C$20:$C$49,Q15,$G$20:$G$49)+SUMIF($C$54:$C$83,Q15,$G$54:$G$83)+SUMIF($C$88:$C$117,Q15,$G$88:$G$117)+SUMIF($C$122:$C$151,Q15,$G$122:$G$151)+SUMIF($C$156:$C$185,Q15,$G$156:$G$185)+SUMIF($C$190:$C$219,Q15,$G$190:$G$219)+SUMIF($C$224:$C$253,Q15,$G$224:$G$253) -> 0
Q16: ='(附表2)実施状況報告（４月）'!Q16 -> 円城 | R16: =COUNTIF($C$20:$C$49,Q16)+COUNTIF($C$54:$C$83,Q16)+COUNTIF($C$88:$C$117,Q16)+COUNTIF($C$122:$C$151,Q16)+COUNTIF($C$156:$C$185,Q16)+COUNTIF($C$190:$C$219,Q16)+COUNTIF($C$224:$C$253,Q16) -> 0 | S16: =SUMIF($C$20:$C$49,Q16,$G$20:$G$49)+SUMIF($C$54:$C$83,Q16,$G$54:$G$83)+SUMIF($C$88:$C$117,Q16,$G$88:$G$117)+SUMIF($C$122:$C$151,Q16,$G$122:$G$151)+SUMIF($C$156:$C$185,Q16,$G$156:$G$185)+SUMIF($C$190:$C$219,Q16,$G$190:$G$219)+SUMIF($C$224:$C$253,Q16,$G$224:$G$253) -> 0
A17: 2.年間実施計画明細 | Q17: ='(附表2)実施状況報告（４月）'!Q17 -> 案田 | R17: =COUNTIF($C$20:$C$49,Q17)+COUNTIF($C$54:$C$83,Q17)+COUNTIF($C$88:$C$117,Q17)+COUNTIF($C$122:$C$151,Q17)+COUNTIF($C$156:$C$185,Q17)+COUNTIF($C$190:$C$219,Q17)+COUNTIF($C$224:$C$253,Q17) -> 0 | S17: =SUMIF($C$20:$C$49,Q17,$G$20:$G$49)+SUMIF($C$54:$C$83,Q17,$G$54:$G$83)+SUMIF($C$88:$C$117,Q17,$G$88:$G$117)+SUMIF($C$122:$C$151,Q17,$G$122:$G$151)+SUMIF($C$156:$C$185,Q17,$G$156:$G$185)+SUMIF($C$190:$C$219,Q17,$G$190:$G$219)+SUMIF($C$224:$C$253,Q17,$G$224:$G$253) -> 0
A18: （1）所要時間1時間以上2時間未満の場合 | Q18: ='(附表2)実施状況報告（４月）'!Q18 -> 高富 | R18: =COUNTIF($C$20:$C$49,Q18)+COUNTIF($C$54:$C$83,Q18)+COUNTIF($C$88:$C$117,Q18)+COUNTIF($C$122:$C$151,Q18)+COUNTIF($C$156:$C$185,Q18)+COUNTIF($C$190:$C$219,Q18)+COUNTIF($C$224:$C$253,Q18) -> 0 | S18: =SUMIF($C$20:$C$49,Q18,$G$20:$G$49)+SUMIF($C$54:$C$83,Q18,$G$54:$G$83)+SUMIF($C$88:$C$117,Q18,$G$88:$G$117)+SUMIF($C$122:$C$151,Q18,$G$122:$G$151)+SUMIF($C$156:$C$185,Q18,$G$156:$G$185)+SUMIF($C$190:$C$219,Q18,$G$190:$G$219)+SUMIF($C$224:$C$253,Q18,$G$224:$G$253) -> 0
A19: 被保険者番号 | B19: 被保険者氏名 | C19: 地区名 | D19: 事業所から 利用者宅までの 距離（km） | E19: 事業所から 利用者宅までの 所要時間（分） | F19: 要介護度 | G19: 月間予定回数 (月平均回数) | H19: 基本報酬 （月単位数） | I19: 基準額(月) | J19: 基準額(年) | Q19: 神瀬 | R19: =COUNTIF($C$20:$C$49,Q19)+COUNTIF($C$54:$C$83,Q19)+COUNTIF($C$88:$C$117,Q19)+COUNTIF($C$122:$C$151,Q19)+COUNTIF($C$156:$C$185,Q19)+COUNTIF($C$190:$C$219,Q19)+COUNTIF($C$224:$C$253,Q19) -> 0 | S19: =SUMIF($C$20:$C$49,Q19,$G$20:$G$49)+SUMIF($C$54:$C$83,Q19,$G$54:$G$83)+SUMIF($C$88:$C$117,Q19,$G$88:$G$117)+SUMIF($C$122:$C$151,Q19,$G$122:$G$151)+SUMIF($C$156:$C$185,Q19,$G$156:$G$185)+SUMIF($C$190:$C$219,Q19,$G$190:$G$219)+SUMIF($C$224:$C$253,Q19,$G$224:$G$253) -> 0
H20: =IF(AND(A20<>"",B20<>"",C20<>"",D20<>"",E20<>"",F20<>"",G20<>""),VLOOKUP(F20,通所リハビリテーション費!$A$20:$B$24,2,0),0) -> 0 | I20: =(H20*G20)*0.1*10 -> 0 | J20: =I20*12 -> 0 | Q20: 小森 | R20: =COUNTIF($C$20:$C$49,Q20)+COUNTIF($C$54:$C$83,Q20)+COUNTIF($C$88:$C$117,Q20)+COUNTIF($C$122:$C$151,Q20)+COUNTIF($C$156:$C$185,Q20)+COUNTIF($C$190:$C$219,Q20)+COUNTIF($C$224:$C$253,Q20) -> 0 | S20: =SUMIF($C$20:$C$49,Q20,$G$20:$G$49)+SUMIF($C$54:$C$83,Q20,$G$54:$G$83)+SUMIF($C$88:$C$117,Q20,$G$88:$G$117)+SUMIF($C$122:$C$151,Q20,$G$122:$G$151)+SUMIF($C$156:$C$185,Q20,$G$156:$G$185)+SUMIF($C$190:$C$219,Q20,$G$190:$G$219)+SUMIF($C$224:$C$253,Q20,$G$224:$G$253) -> 0
H21: =IF(AND(A21<>"",B21<>"",C21<>"",D21<>"",E21<>"",F21<>"",G21<>""),VLOOKUP(F21,通所リハビリテーション費!$A$20:$B$24,2,0),0) -> 0 | I21: =(H21*G21)*0.1*10 -> 0 | J21: =I21*12 -> 0 | Q21: 尾原 | R21: =COUNTIF($C$20:$C$49,Q21)+COUNTIF($C$54:$C$83,Q21)+COUNTIF($C$88:$C$117,Q21)+COUNTIF($C$122:$C$151,Q21)+COUNTIF($C$156:$C$185,Q21)+COUNTIF($C$190:$C$219,Q21)+COUNTIF($C$224:$C$253,Q21) -> 0 | S21: =SUMIF($C$20:$C$49,Q21,$G$20:$G$49)+SUMIF($C$54:$C$83,Q21,$G$54:$G$83)+SUMIF($C$88:$C$117,Q21,$G$88:$G$117)+SUMIF($C$122:$C$151,Q21,$G$122:$G$151)+SUMIF($C$156:$C$185,Q21,$G$156:$G$185)+SUMIF($C$190:$C$219,Q21,$G$190:$G$219)+SUMIF($C$224:$C$253,Q21,$G$224:$G$253) -> 0
H22: =IF(AND(A22<>"",B22<>"",C22<>"",D22<>"",E22<>"",F22<>"",G22<>""),VLOOKUP(F22,通所リハビリテーション費!$A$20:$B$24,2,0),0) -> 0 | I22: =(H22*G22)*0.1*10 -> 0 | J22: =I22*12 -> 0 | Q22: 笹目 | R22: =COUNTIF($C$20:$C$49,Q22)+COUNTIF($C$54:$C$83,Q22)+COUNTIF($C$88:$C$117,Q22)+COUNTIF($C$122:$C$151,Q22)+COUNTIF($C$156:$C$185,Q22)+COUNTIF($C$190:$C$219,Q22)+COUNTIF($C$224:$C$253,Q22) -> 0 | S22: =SUMIF($C$20:$C$49,Q22,$G$20:$G$49)+SUMIF($C$54:$C$83,Q22,$G$54:$G$83)+SUMIF($C$88:$C$117,Q22,$G$88:$G$117)+SUMIF($C$122:$C$151,Q22,$G$122:$G$151)+SUMIF($C$156:$C$185,Q22,$G$156:$G$185)+SUMIF($C$190:$C$219,Q22,$G$190:$G$219)+SUMIF($C$224:$C$253,Q22,$G$224:$G$253) -> 0
H23: =IF(AND(A23<>"",B23<>"",C23<>"",D23<>"",E23<>"",F23<>"",G23<>""),VLOOKUP(F23,通所リハビリテーション費!$A$20:$B$24,2,0),0) -> 0 | I23: =(H23*G23)*0.1*10 -> 0 | J23: =I23*12 -> 0 | Q23: 福沢 | R23: =COUNTIF($C$20:$C$49,Q23)+COUNTIF($C$54:$C$83,Q23)+COUNTIF($C$88:$C$117,Q23)+COUNTIF($C$122:$C$151,Q23)+COUNTIF($C$156:$C$185,Q23)+COUNTIF($C$190:$C$219,Q23)+COUNTIF($C$224:$C$253,Q23) -> 0 | S23: =SUMIF($C$20:$C$49,Q23,$G$20:$G$49)+SUMIF($C$54:$C$83,Q23,$G$54:$G$83)+SUMIF($C$88:$C$117,Q23,$G$88:$G$117)+SUMIF($C$122:$C$151,Q23,$G$122:$G$151)+SUMIF($C$156:$C$185,Q23,$G$156:$G$185)+SUMIF($C$190:$C$219,Q23,$G$190:$G$219)+SUMIF($C$224:$C$253,Q23,$G$224:$G$253) -> 0
H24: =IF(AND(A24<>"",B24<>"",C24<>"",D24<>"",E24<>"",F24<>"",G24<>""),VLOOKUP(F24,通所リハビリテーション費!$A$20:$B$24,2,0),0) -> 0 | I24: =(H24*G24)*0.1*10 -> 0 | J24: =I24*12 -> 0 | Q24: 溝部 | R24: =COUNTIF($C$20:$C$49,Q24)+COUNTIF($C$54:$C$83,Q24)+COUNTIF($C$88:$C$117,Q24)+COUNTIF($C$122:$C$151,Q24)+COUNTIF($C$156:$C$185,Q24)+COUNTIF($C$190:$C$219,Q24)+COUNTIF($C$224:$C$253,Q24) -> 0 | S24: =SUMIF($C$20:$C$49,Q24,$G$20:$G$49)+SUMIF($C$54:$C$83,Q24,$G$54:$G$83)+SUMIF($C$88:$C$117,Q24,$G$88:$G$117)+SUMIF($C$122:$C$151,Q24,$G$122:$G$151)+SUMIF($C$156:$C$185,Q24,$G$156:$G$185)+SUMIF($C$190:$C$219,Q24,$G$190:$G$219)+SUMIF($C$224:$C$253,Q24,$G$224:$G$253) -> 0
H25: =IF(AND(A25<>"",B25<>"",C25<>"",D25<>"",E25<>"",F25<>"",G25<>""),VLOOKUP(F25,通所リハビリテーション費!$A$20:$B$24,2,0),0) -> 0 | I25: =(H25*G25)*0.1*10 -> 0 | J25: =I25*12 -> 0 | R25: =COUNTIF($C$20:$C$49,Q25)+COUNTIF($C$54:$C$83,Q25)+COUNTIF($C$88:$C$117,Q25)+COUNTIF($C$122:$C$151,Q25)+COUNTIF($C$156:$C$185,Q25)+COUNTIF($C$190:$C$219,Q25)+COUNTIF($C$224:$C$253,Q25) -> 0 | S25: =SUMIF($C$20:$C$49,Q25,$G$20:$G$49)+SUMIF($C$54:$C$83,Q25,$G$54:$G$83)+SUMIF($C$88:$C$117,Q25,$G$88:$G$117)+SUMIF($C$122:$C$151,Q25,$G$122:$G$151)+SUMIF($C$156:$C$185,Q25,$G$156:$G$185)+SUMIF($C$190:$C$219,Q25,$G$190:$G$219)+SUMIF($C$224:$C$253,Q25,$G$224:$G$253) -> 0
H26: =IF(AND(A26<>"",B26<>"",C26<>"",D26<>"",E26<>"",F26<>"",G26<>""),VLOOKUP(F26,通所リハビリテーション費!$A$20:$B$24,2,0),0) -> 0 | I26: =(H26*G26)*0.1*10 -> 0 | J26: =I26*12 -> 0 | R26: =COUNTIF($C$20:$C$49,Q26)+COUNTIF($C$54:$C$83,Q26)+COUNTIF($C$88:$C$117,Q26)+COUNTIF($C$122:$C$151,Q26)+COUNTIF($C$156:$C$185,Q26)+COUNTIF($C$190:$C$219,Q26)+COUNTIF($C$224:$C$253,Q26) -> 0 | S26: =SUMIF($C$20:$C$49,Q26,$G$20:$G$49)+SUMIF($C$54:$C$83,Q26,$G$54:$G$83)+SUMIF($C$88:$C$117,Q26,$G$88:$G$117)+SUMIF($C$122:$C$151,Q26,$G$122:$G$151)+SUMIF($C$156:$C$185,Q26,$G$156:$G$185)+SUMIF($C$190:$C$219,Q26,$G$190:$G$219)+SUMIF($C$224:$C$253,Q26,$G$224:$G$253) -> 0
H27: =IF(AND(A27<>"",B27<>"",C27<>"",D27<>"",E27<>"",F27<>"",G27<>""),VLOOKUP(F27,通所リハビリテーション費!$A$20:$B$24,2,0),0) -> 0 | I27: =(H27*G27)*0.1*10 -> 0 | J27: =I27*12 -> 0 | R27: =COUNTIF($C$20:$C$49,Q27)+COUNTIF($C$54:$C$83,Q27)+COUNTIF($C$88:$C$117,Q27)+COUNTIF($C$122:$C$151,Q27)+COUNTIF($C$156:$C$185,Q27)+COUNTIF($C$190:$C$219,Q27)+COUNTIF($C$224:$C$253,Q27) -> 0 | S27: =SUMIF($C$20:$C$49,Q27,$G$20:$G$49)+SUMIF($C$54:$C$83,Q27,$G$54:$G$83)+SUMIF($C$88:$C$117,Q27,$G$88:$G$117)+SUMIF($C$122:$C$151,Q27,$G$122:$G$151)+SUMIF($C$156:$C$185,Q27,$G$156:$G$185)+SUMIF($C$190:$C$219,Q27,$G$190:$G$219)+SUMIF($C$224:$C$253,Q27,$G$224:$G$253) -> 0
H28: =IF(AND(A28<>"",B28<>"",C28<>"",D28<>"",E28<>"",F28<>"",G28<>""),VLOOKUP(F28,通所リハビリテーション費!$A$20:$B$24,2,0),0) -> 0 | I28: =(H28*G28)*0.1*10 -> 0 | J28: =I28*12 -> 0 | R28: =COUNTIF($C$20:$C$49,Q28)+COUNTIF($C$54:$C$83,Q28)+COUNTIF($C$88:$C$117,Q28)+COUNTIF($C$122:$C$151,Q28)+COUNTIF($C$156:$C$185,Q28)+COUNTIF($C$190:$C$219,Q28)+COUNTIF($C$224:$C$253,Q28) -> 0 | S28: =SUMIF($C$20:$C$49,Q28,$G$20:$G$49)+SUMIF($C$54:$C$83,Q28,$G$54:$G$83)+SUMIF($C$88:$C$117,Q28,$G$88:$G$117)+SUMIF($C$122:$C$151,Q28,$G$122:$G$151)+SUMIF($C$156:$C$185,Q28,$G$156:$G$185)+SUMIF($C$190:$C$219,Q28,$G$190:$G$219)+SUMIF($C$224:$C$253,Q28,$G$224:$G$253) -> 0
H29: =IF(AND(A29<>"",B29<>"",C29<>"",D29<>"",E29<>"",F29<>"",G29<>""),VLOOKUP(F29,通所リハビリテーション費!$A$20:$B$24,2,0),0) -> 0 | I29: =(H29*G29)*0.1*10 -> 0 | J29: =I29*12 -> 0 | R29: =COUNTIF($C$20:$C$49,Q29)+COUNTIF($C$54:$C$83,Q29)+COUNTIF($C$88:$C$117,Q29)+COUNTIF($C$122:$C$151,Q29)+COUNTIF($C$156:$C$185,Q29)+COUNTIF($C$190:$C$219,Q29)+COUNTIF($C$224:$C$253,Q29) -> 0 | S29: =SUMIF($C$20:$C$49,Q29,$G$20:$G$49)+SUMIF($C$54:$C$83,Q29,$G$54:$G$83)+SUMIF($C$88:$C$117,Q29,$G$88:$G$117)+SUMIF($C$122:$C$151,Q29,$G$122:$G$151)+SUMIF($C$156:$C$185,Q29,$G$156:$G$185)+SUMIF($C$190:$C$219,Q29,$G$190:$G$219)+SUMIF($C$224:$C$253,Q29,$G$224:$G$253) -> 0
H30: =IF(AND(A30<>"",B30<>"",C30<>"",D30<>"",E30<>"",F30<>"",G30<>""),VLOOKUP(F30,通所リハビリテーション費!$A$20:$B$24,2,0),0) -> 0 | I30: =(H30*G30)*0.1*10 -> 0 | J30: =I30*12 -> 0 | R30: =COUNTIF($C$20:$C$49,Q30)+COUNTIF($C$54:$C$83,Q30)+COUNTIF($C$88:$C$117,Q30)+COUNTIF($C$122:$C$151,Q30)+COUNTIF($C$156:$C$185,Q30)+COUNTIF($C$190:$C$219,Q30)+COUNTIF($C$224:$C$253,Q30) -> 0 | S30: =SUMIF($C$20:$C$49,Q30,$G$20:$G$49)+SUMIF($C$54:$C$83,Q30,$G$54:$G$83)+SUMIF($C$88:$C$117,Q30,$G$88:$G$117)+SUMIF($C$122:$C$151,Q30,$G$122:$G$151)+SUMIF($C$156:$C$185,Q30,$G$156:$G$185)+SUMIF($C$190:$C$219,Q30,$G$190:$G$219)+SUMIF($C$224:$C$253,Q30,$G$224:$G$253) -> 0
H31: =IF(AND(A31<>"",B31<>"",C31<>"",D31<>"",E31<>"",F31<>"",G31<>""),VLOOKUP(F31,通所リハビリテーション費!$A$20:$B$24,2,0),0) -> 0 | I31: =(H31*G31)*0.1*10 -> 0 | J31: =I31*12 -> 0 | R31: =COUNTIF($C$20:$C$49,Q31)+COUNTIF($C$54:$C$83,Q31)+COUNTIF($C$88:$C$117,Q31)+COUNTIF($C$122:$C$151,Q31)+COUNTIF($C$156:$C$185,Q31)+COUNTIF($C$190:$C$219,Q31)+COUNTIF($C$224:$C$253,Q31) -> 0 | S31: =SUMIF($C$20:$C$49,Q31,$G$20:$G$49)+SUMIF($C$54:$C$83,Q31,$G$54:$G$83)+SUMIF($C$88:$C$117,Q31,$G$88:$G$117)+SUMIF($C$122:$C$151,Q31,$G$122:$G$151)+SUMIF($C$156:$C$185,Q31,$G$156:$G$185)+SUMIF($C$190:$C$219,Q31,$G$190:$G$219)+SUMIF($C$224:$C$253,Q31,$G$224:$G$253) -> 0
H32: =IF(AND(A32<>"",B32<>"",C32<>"",D32<>"",E32<>"",F32<>"",G32<>""),VLOOKUP(F32,通所リハビリテーション費!$A$20:$B$24,2,0),0) -> 0 | I32: =(H32*G32)*0.1*10 -> 0 | J32: =I32*12 -> 0 | R32: =COUNTIF($C$20:$C$49,Q32)+COUNTIF($C$54:$C$83,Q32)+COUNTIF($C$88:$C$117,Q32)+COUNTIF($C$122:$C$151,Q32)+COUNTIF($C$156:$C$185,Q32)+COUNTIF($C$190:$C$219,Q32)+COUNTIF($C$224:$C$253,Q32) -> 0 | S32: =SUMIF($C$20:$C$49,Q32,$G$20:$G$49)+SUMIF($C$54:$C$83,Q32,$G$54:$G$83)+SUMIF($C$88:$C$117,Q32,$G$88:$G$117)+SUMIF($C$122:$C$151,Q32,$G$122:$G$151)+SUMIF($C$156:$C$185,Q32,$G$156:$G$185)+SUMIF($C$190:$C$219,Q32,$G$190:$G$219)+SUMIF($C$224:$C$253,Q32,$G$224:$G$253) -> 0
H33: =IF(AND(A33<>"",B33<>"",C33<>"",D33<>"",E33<>"",F33<>"",G33<>""),VLOOKUP(F33,通所リハビリテーション費!$A$20:$B$24,2,0),0) -> 0 | I33: =(H33*G33)*0.1*10 -> 0 | J33: =I33*12 -> 0 | R33: =COUNTIF($C$20:$C$49,Q33)+COUNTIF($C$54:$C$83,Q33)+COUNTIF($C$88:$C$117,Q33)+COUNTIF($C$122:$C$151,Q33)+COUNTIF($C$156:$C$185,Q33)+COUNTIF($C$190:$C$219,Q33)+COUNTIF($C$224:$C$253,Q33) -> 0 | S33: =SUMIF($C$20:$C$49,Q33,$G$20:$G$49)+SUMIF($C$54:$C$83,Q33,$G$54:$G$83)+SUMIF($C$88:$C$117,Q33,$G$88:$G$117)+SUMIF($C$122:$C$151,Q33,$G$122:$G$151)+SUMIF($C$156:$C$185,Q33,$G$156:$G$185)+SUMIF($C$190:$C$219,Q33,$G$190:$G$219)+SUMIF($C$224:$C$253,Q33,$G$224:$G$253) -> 0
H34: =IF(AND(A34<>"",B34<>"",C34<>"",D34<>"",E34<>"",F34<>"",G34<>""),VLOOKUP(F34,通所リハビリテーション費!$A$20:$B$24,2,0),0) -> 0 | I34: =(H34*G34)*0.1*10 -> 0 | J34: =I34*12 -> 0 | R34: =COUNTIF($C$20:$C$49,Q34)+COUNTIF($C$54:$C$83,Q34)+COUNTIF($C$88:$C$117,Q34)+COUNTIF($C$122:$C$151,Q34)+COUNTIF($C$156:$C$185,Q34)+COUNTIF($C$190:$C$219,Q34)+COUNTIF($C$224:$C$253,Q34) -> 0 | S34: =SUMIF($C$20:$C$49,Q34,$G$20:$G$49)+SUMIF($C$54:$C$83,Q34,$G$54:$G$83)+SUMIF($C$88:$C$117,Q34,$G$88:$G$117)+SUMIF($C$122:$C$151,Q34,$G$122:$G$151)+SUMIF($C$156:$C$185,Q34,$G$156:$G$185)+SUMIF($C$190:$C$219,Q34,$G$190:$G$219)+SUMIF($C$224:$C$253,Q34,$G$224:$G$253) -> 0
H35: =IF(AND(A35<>"",B35<>"",C35<>"",D35<>"",E35<>"",F35<>"",G35<>""),VLOOKUP(F35,通所リハビリテーション費!$A$20:$B$24,2,0),0) -> 0 | I35: =(H35*G35)*0.1*10 -> 0 | J35: =I35*12 -> 0 | R35: =COUNTIF($C$20:$C$49,Q35)+COUNTIF($C$54:$C$83,Q35)+COUNTIF($C$88:$C$117,Q35)+COUNTIF($C$122:$C$151,Q35)+COUNTIF($C$156:$C$185,Q35)+COUNTIF($C$190:$C$219,Q35)+COUNTIF($C$224:$C$253,Q35) -> 0 | S35: =SUMIF($C$20:$C$49,Q35,$G$20:$G$49)+SUMIF($C$54:$C$83,Q35,$G$54:$G$83)+SUMIF($C$88:$C$117,Q35,$G$88:$G$117)+SUMIF($C$122:$C$151,Q35,$G$122:$G$151)+SUMIF($C$156:$C$185,Q35,$G$156:$G$185)+SUMIF($C$190:$C$219,Q35,$G$190:$G$219)+SUMIF($C$224:$C$253,Q35,$G$224:$G$253) -> 0
H36: =IF(AND(A36<>"",B36<>"",C36<>"",D36<>"",E36<>"",F36<>"",G36<>""),VLOOKUP(F36,通所リハビリテーション費!$A$20:$B$24,2,0),0) -> 0 | I36: =(H36*G36)*0.1*10 -> 0 | J36: =I36*12 -> 0 | R36: =COUNTIF($C$20:$C$49,Q36)+COUNTIF($C$54:$C$83,Q36)+COUNTIF($C$88:$C$117,Q36)+COUNTIF($C$122:$C$151,Q36)+COUNTIF($C$156:$C$185,Q36)+COUNTIF($C$190:$C$219,Q36)+COUNTIF($C$224:$C$253,Q36) -> 0 | S36: =SUMIF($C$20:$C$49,Q36,$G$20:$G$49)+SUMIF($C$54:$C$83,Q36,$G$54:$G$83)+SUMIF($C$88:$C$117,Q36,$G$88:$G$117)+SUMIF($C$122:$C$151,Q36,$G$122:$G$151)+SUMIF($C$156:$C$185,Q36,$G$156:$G$185)+SUMIF($C$190:$C$219,Q36,$G$190:$G$219)+SUMIF($C$224:$C$253,Q36,$G$224:$G$253) -> 0
... H45: =IF(AND(A45<>"",B45<>"",C45<>"",D45<>"",E45<>"",F45<>"",G45<>""),VLOOKUP(F45,通所リハビリテーション費!$A$20:$B$24,2,0),0) -> 0 | I45: =(H45*G45)*0.1*10 -> 0 | J45: =I45*12 -> 0 | R45: =COUNTIF($C$20:$C$49,Q45)+COUNTIF($C$54:$C$83,Q45)+COUNTIF($C$88:$C$117,Q45)+COUNTIF($C$122:$C$151,Q45)+COUNTIF($C$156:$C$185,Q45)+COUNTIF($C$190:$C$219,Q45)+COUNTIF($C$224:$C$253,Q45) -> 0 | S45: =SUMIF($C$20:$C$49,Q45,$G$20:$G$49)+SUMIF($C$54:$C$83,Q45,$G$54:$G$83)+SUMIF($C$88:$C$117,Q45,$G$88:$G$117)+SUMIF($C$122:$C$151,Q45,$G$122:$G$151)+SUMIF($C$156:$C$185,Q45,$G$156:$G$185)+SUMIF($C$190:$C$219,Q45,$G$190:$G$219)+SUMIF($C$224:$C$253,Q45,$G$224:$G$253) -> 0
H46: =IF(AND(A46<>"",B46<>"",C46<>"",D46<>"",E46<>"",F46<>"",G46<>""),VLOOKUP(F46,通所リハビリテーション費!$A$20:$B$24,2,0),0) -> 0 | I46: =(H46*G46)*0.1*10 -> 0 | J46: =I46*12 -> 0 | R46: =SUM(R3:R45) -> 0 | S46: =SUM(S3:S45) -> 0
H47: =IF(AND(A47<>"",B47<>"",C47<>"",D47<>"",E47<>"",F47<>"",G47<>""),VLOOKUP(F47,通所リハビリテーション費!$A$20:$B$24,2,0),0) -> 0 | I47: =(H47*G47)*0.1*10 -> 0 | J47: =I47*12 -> 0
H48: =IF(AND(A48<>"",B48<>"",C48<>"",D48<>"",E48<>"",F48<>"",G48<>""),VLOOKUP(F48,通所リハビリテーション費!$A$20:$B$24,2,0),0) -> 0 | I48: =(H48*G48)*0.1*10 -> 0 | J48: =I48*12 -> 0
H49: =IF(AND(A49<>"",B49<>"",C49<>"",D49<>"",E49<>"",F49<>"",G49<>""),VLOOKUP(F49,通所リハビリテーション費!$A$20:$B$24,2,0),0) -> 0 | I49: =(H49*G49)*0.1*10 -> 0 | J49: =I49*12 -> 0
A50: 合計 | G50: =SUMIF(G20:G49,"<>#N/A") -> 0 | H50: =SUMIF(H20:H49,"<>#N/A") -> 0 | I50: =SUMIF(I20:I49,"<>#N/A") -> 0 | J50: =SUMIF(J20:J49,"<>#N/A") -> 0
A52: （2）所要時間2時間以上3時間未満の場合
A53: 被保険者番号 | B53: 被保険者氏名 | C53: 地区名 | D53: 事業所から 利用者宅までの 距離（km） | E53: 事業所から 利用者宅までの 所要時間（分） | F53: 要介護度 | G53: 月間予定回数 (月平均回数) | H53: 基本報酬 （月単位数） | I53: 基準額(月) | J53: 基準額(年)
H54: =IF(AND(A54<>"",B54<>"",C54<>"",D54<>"",E54<>"",F54<>"",G54<>""),VLOOKUP(F54,通所リハビリテーション費!$A$27:$B$31,2,0),0) -> 0 | I54: =(H54*G54)*0.1*10 -> 0 | J54: =I54*12 -> 0
H55: =IF(AND(A55<>"",B55<>"",C55<>"",D55<>"",E55<>"",F55<>"",G55<>""),VLOOKUP(F55,通所リハビリテーション費!$A$27:$B$31,2,0),0) -> 0 | I55: =(H55*G55)*0.1*10 -> 0 | J55: =I55*12 -> 0
H56: =IF(AND(A56<>"",B56<>"",C56<>"",D56<>"",E56<>"",F56<>"",G56<>""),VLOOKUP(F56,通所リハビリテーション費!$A$27:$B$31,2,0),0) -> 0 | I56: =(H56*G56)*0.1*10 -> 0 | J56: =I56*12 -> 0
H57: =IF(AND(A57<>"",B57<>"",C57<>"",D57<>"",E57<>"",F57<>"",G57<>""),VLOOKUP(F57,通所リハビリテーション費!$A$27:$B$31,2,0),0) -> 0 | I57: =(H57*G57)*0.1*10 -> 0 | J57: =I57*12 -> 0
H58: =IF(AND(A58<>"",B58<>"",C58<>"",D58<>"",E58<>"",F58<>"",G58<>""),VLOOKUP(F58,通所リハビリテーション費!$A$27:$B$31,2,0),0) -> 0 | I58: =(H58*G58)*0.1*10 -> 0 | J58: =I58*12 -> 0
H59: =IF(AND(A59<>"",B59<>"",C59<>"",D59<>"",E59<>"",F59<>"",G59<>""),VLOOKUP(F59,通所リハビリテーション費!$A$27:$B$31,2,0),0) -> 0 | I59: =(H59*G59)*0.1*10 -> 0 | J59: =I59*12 -> 0
H60: =IF(AND(A60<>"",B60<>"",C60<>"",D60<>"",E60<>"",F60<>"",G60<>""),VLOOKUP(F60,通所リハビリテーション費!$A$27:$B$31,2,0),0) -> 0 | I60: =(H60*G60)*0.1*10 -> 0 | J60: =I60*12 -> 0
H61: =IF(AND(A61<>"",B61<>"",C61<>"",D61<>"",E61<>"",F61<>"",G61<>""),VLOOKUP(F61,通所リハビリテーション費!$A$27:$B$31,2,0),0) -> 0 | I61: =(H61*G61)*0.1*10 -> 0 | J61: =I61*12 -> 0
H62: =IF(AND(A62<>"",B62<>"",C62<>"",D62<>"",E62<>"",F62<>"",G62<>""),VLOOKUP(F62,通所リハビリテーション費!$A$27:$B$31,2,0),0) -> 0 | I62: =(H62*G62)*0.1*10 -> 0 | J62: =I62*12 -> 0
H63: =IF(AND(A63<>"",B63<>"",C63<>"",D63<>"",E63<>"",F63<>"",G63<>""),VLOOKUP(F63,通所リハビリテーション費!$A$27:$B$31,2,0),0) -> 0 | I63: =(H63*G63)*0.1*10 -> 0 | J63: =I63*12 -> 0
H64: =IF(AND(A64<>"",B64<>"",C64<>"",D64<>"",E64<>"",F64<>"",G64<>""),VLOOKUP(F64,通所リハビリテーション費!$A$27:$B$31,2,0),0) -> 0 | I64: =(H64*G64)*0.1*10 -> 0 | J64: =I64*12 -> 0
H65: =IF(AND(A65<>"",B65<>"",C65<>"",D65<>"",E65<>"",F65<>"",G65<>""),VLOOKUP(F65,通所リハビリテーション費!$A$27:$B$31,2,0),0) -> 0 | I65: =(H65*G65)*0.1*10 -> 0 | J65: =I65*12 -> 0
... H83: =IF(AND(A83<>"",B83<>"",C83<>"",D83<>"",E83<>"",F83<>"",G83<>""),VLOOKUP(F83,通所リハビリテーション費!$A$27:$B$31,2,0),0) -> 0 | I83: =(H83*G83)*0.1*10 -> 0 | J83: =I83*12 -> 0
A84: 合計 | G84: =SUMIF(G54:G83,"<>#N/A") -> 0 | H84: =SUMIF(H54:H83,"<>#N/A") -> 0 | I84: =SUMIF(I54:I83,"<>#N/A") -> 0 | J84: =SUMIF(J54:J83,"<>#N/A") -> 0
A86: （3）所要時間3時間以上4時間未満の場合
A87: 被保険者番号 | B87: 被保険者氏名 | C87: 地区名 | D87: 事業所から 利用者宅までの 距離（km） | E87: 事業所から 利用者宅までの 所要時間（分） | F87: 要介護度 | G87: 月間予定回数 (月平均回数) | H87: 基本報酬 （月単位数） | I87: 基準額(月) | J87: 基準額(年)
H88: =IF(AND(A88<>"",B88<>"",C88<>"",D88<>"",E88<>"",F88<>"",G88<>""),VLOOKUP(F88,通所リハビリテーション費!$A$34:$B$38,2,0),0) -> 0 | I88: =(H88*G88)*0.1*10 -> 0 | J88: =I88*12 -> 0
H89: =IF(AND(A89<>"",B89<>"",C89<>"",D89<>"",E89<>"",F89<>"",G89<>""),VLOOKUP(F89,通所リハビリテーション費!$A$34:$B$38,2,0),0) -> 0 | I89: =(H89*G89)*0.1*10 -> 0 | J89: =I89*12 -> 0
H90: =IF(AND(A90<>"",B90<>"",C90<>"",D90<>"",E90<>"",F90<>"",G90<>""),VLOOKUP(F90,通所リハビリテーション費!$A$34:$B$38,2,0),0) -> 0 | I90: =(H90*G90)*0.1*10 -> 0 | J90: =I90*12 -> 0
H91: =IF(AND(A91<>"",B91<>"",C91<>"",D91<>"",E91<>"",F91<>"",G91<>""),VLOOKUP(F91,通所リハビリテーション費!$A$34:$B$38,2,0),0) -> 0 | I91: =(H91*G91)*0.1*10 -> 0 | J91: =I91*12 -> 0
H92: =IF(AND(A92<>"",B92<>"",C92<>"",D92<>"",E92<>"",F92<>"",G92<>""),VLOOKUP(F92,通所リハビリテーション費!$A$34:$B$38,2,0),0) -> 0 | I92: =(H92*G92)*0.1*10 -> 0 | J92: =I92*12 -> 0
H93: =IF(AND(A93<>"",B93<>"",C93<>"",D93<>"",E93<>"",F93<>"",G93<>""),VLOOKUP(F93,通所リハビリテーション費!$A$34:$B$38,2,0),0) -> 0 | I93: =(H93*G93)*0.1*10 -> 0 | J93: =I93*12 -> 0
H94: =IF(AND(A94<>"",B94<>"",C94<>"",D94<>"",E94<>"",F94<>"",G94<>""),VLOOKUP(F94,通所リハビリテーション費!$A$34:$B$38,2,0),0) -> 0 | I94: =(H94*G94)*0.1*10 -> 0 | J94: =I94*12 -> 0
H95: =IF(AND(A95<>"",B95<>"",C95<>"",D95<>"",E95<>"",F95<>"",G95<>""),VLOOKUP(F95,通所リハビリテーション費!$A$34:$B$38,2,0),0) -> 0 | I95: =(H95*G95)*0.1*10 -> 0 | J95: =I95*12 -> 0
H96: =IF(AND(A96<>"",B96<>"",C96<>"",D96<>"",E96<>"",F96<>"",G96<>""),VLOOKUP(F96,通所リハビリテーション費!$A$34:$B$38,2,0),0) -> 0 | I96: =(H96*G96)*0.1*10 -> 0 | J96: =I96*12 -> 0
H97: =IF(AND(A97<>"",B97<>"",C97<>"",D97<>"",E97<>"",F97<>"",G97<>""),VLOOKUP(F97,通所リハビリテーション費!$A$34:$B$38,2,0),0) -> 0 | I97: =(H97*G97)*0.1*10 -> 0 | J97: =I97*12 -> 0
H98: =IF(AND(A98<>"",B98<>"",C98<>"",D98<>"",E98<>"",F98<>"",G98<>""),VLOOKUP(F98,通所リハビリテーション費!$A$34:$B$38,2,0),0) -> 0 | I98: =(H98*G98)*0.1*10 -> 0 | J98: =I98*12 -> 0
H99: =IF(AND(A99<>"",B99<>"",C99<>"",D99<>"",E99<>"",F99<>"",G99<>""),VLOOKUP(F99,通所リハビリテーション費!$A$34:$B$38,2,0),0) -> 0 | I99: =(H99*G99)*0.1*10 -> 0 | J99: =I99*12 -> 0
... H117: =IF(AND(A117<>"",B117<>"",C117<>"",D117<>"",E117<>"",F117<>"",G117<>""),VLOOKUP(F117,通所リハビリテーション費!$A$34:$B$38,2,0),0) -> 0 | I117: =(H117*G117)*0.1*10 -> 0 | J117: =I117*12 -> 0
A118: 合計 | G118: =SUMIF(G88:G117,"<>#N/A") -> 0 | H118: =SUMIF(H88:H117,"<>#N/A") -> 0 | I118: =SUMIF(I88:I117,"<>#N/A") -> 0 | J118: =SUMIF(J88:J117,"<>#N/A") -> 0
A120: （4）所要時間4時間以上5時間未満の場合
A121: 被保険者番号 | B121: 被保険者氏名 | C121: 地区名 | D121: 事業所から 利用者宅までの 距離（km） | E121: 事業所から 利用者宅までの 所要時間（分） | F121: 要介護度 | G121: 月間予定回数 (月平均回数) | H121: 基本報酬 （月単位数） | I121: 基準額(月) | J121: 基準額(年)
H122: =IF(AND(A122<>"",B122<>"",C122<>"",D122<>"",E122<>"",F122<>"",G122<>""),VLOOKUP(F122,通所リハビリテーション費!$A$41:$B$45,2,0),0) -> 0 | I122: =(H122*G122)*0.1*10 -> 0 | J122: =I122*12 -> 0
H123: =IF(AND(A123<>"",B123<>"",C123<>"",D123<>"",E123<>"",F123<>"",G123<>""),VLOOKUP(F123,通所リハビリテーション費!$A$41:$B$45,2,0),0) -> 0 | I123: =(H123*G123)*0.1*10 -> 0 | J123: =I123*12 -> 0
H124: =IF(AND(A124<>"",B124<>"",C124<>"",D124<>"",E124<>"",F124<>"",G124<>""),VLOOKUP(F124,通所リハビリテーション費!$A$41:$B$45,2,0),0) -> 0 | I124: =(H124*G124)*0.1*10 -> 0 | J124: =I124*12 -> 0
H125: =IF(AND(A125<>"",B125<>"",C125<>"",D125<>"",E125<>"",F125<>"",G125<>""),VLOOKUP(F125,通所リハビリテーション費!$A$41:$B$45,2,0),0) -> 0 | I125: =(H125*G125)*0.1*10 -> 0 | J125: =I125*12 -> 0
H126: =IF(AND(A126<>"",B126<>"",C126<>"",D126<>"",E126<>"",F126<>"",G126<>""),VLOOKUP(F126,通所リハビリテーション費!$A$41:$B$45,2,0),0) -> 0 | I126: =(H126*G126)*0.1*10 -> 0 | J126: =I126*12 -> 0
H127: =IF(AND(A127<>"",B127<>"",C127<>"",D127<>"",E127<>"",F127<>"",G127<>""),VLOOKUP(F127,通所リハビリテーション費!$A$41:$B$45,2,0),0) -> 0 | I127: =(H127*G127)*0.1*10 -> 0 | J127: =I127*12 -> 0
H128: =IF(AND(A128<>"",B128<>"",C128<>"",D128<>"",E128<>"",F128<>"",G128<>""),VLOOKUP(F128,通所リハビリテーション費!$A$41:$B$45,2,0),0) -> 0 | I128: =(H128*G128)*0.1*10 -> 0 | J128: =I128*12 -> 0
H129: =IF(AND(A129<>"",B129<>"",C129<>"",D129<>"",E129<>"",F129<>"",G129<>""),VLOOKUP(F129,通所リハビリテーション費!$A$41:$B$45,2,0),0) -> 0 | I129: =(H129*G129)*0.1*10 -> 0 | J129: =I129*12 -> 0
H130: =IF(AND(A130<>"",B130<>"",C130<>"",D130<>"",E130<>"",F130<>"",G130<>""),VLOOKUP(F130,通所リハビリテーション費!$A$41:$B$45,2,0),0) -> 0 | I130: =(H130*G130)*0.1*10 -> 0 | J130: =I130*12 -> 0
H131: =IF(AND(A131<>"",B131<>"",C131<>"",D131<>"",E131<>"",F131<>"",G131<>""),VLOOKUP(F131,通所リハビリテーション費!$A$41:$B$45,2,0),0) -> 0 | I131: =(H131*G131)*0.1*10 -> 0 | J131: =I131*12 -> 0
H132: =IF(AND(A132<>"",B132<>"",C132<>"",D132<>"",E132<>"",F132<>"",G132<>""),VLOOKUP(F132,通所リハビリテーション費!$A$41:$B$45,2,0),0) -> 0 | I132: =(H132*G132)*0.1*10 -> 0 | J132: =I132*12 -> 0
H133: =IF(AND(A133<>"",B133<>"",C133<>"",D133<>"",E133<>"",F133<>"",G133<>""),VLOOKUP(F133,通所リハビリテーション費!$A$41:$B$45,2,0),0) -> 0 | I133: =(H133*G133)*0.1*10 -> 0 | J133: =I133*12 -> 0
... H151: =IF(AND(A151<>"",B151<>"",C151<>"",D151<>"",E151<>"",F151<>"",G151<>""),VLOOKUP(F151,通所リハビリテーション費!$A$41:$B$45,2,0),0) -> 0 | I151: =(H151*G151)*0.1*10 -> 0 | J151: =I151*12 -> 0
A152: 合計 | G152: =SUMIF(G122:G151,"<>#N/A") -> 0 | H152: =SUMIF(H122:H151,"<>#N/A") -> 0 | I152: =SUMIF(I122:I151,"<>#N/A") -> 0 | J152: =SUMIF(J122:J151,"<>#N/A") -> 0
A154: （5）所要時間5時間以上6時間未満の場合
A155: 被保険者番号 | B155: 被保険者氏名 | C155: 地区名 | D155: 事業所から 利用者宅までの 距離（km） | E155: 事業所から 利用者宅までの 所要時間（分） | F155: 要介護度 | G155: 月間予定回数 (月平均回数) | H155: 基本報酬 （月単位数） | I155: 基準額(月) | J155: 基準額(年)
H156: =IF(AND(A156<>"",B156<>"",C156<>"",D156<>"",E156<>"",F156<>"",G156<>""),VLOOKUP(F156,通所リハビリテーション費!$A$48:$B$52,2,0),0) -> 0 | I156: =(H156*G156)*0.1*10 -> 0 | J156: =I156*12 -> 0
H157: =IF(AND(A157<>"",B157<>"",C157<>"",D157<>"",E157<>"",F157<>"",G157<>""),VLOOKUP(F157,通所リハビリテーション費!$A$48:$B$52,2,0),0) -> 0 | I157: =(H157*G157)*0.1*10 -> 0 | J157: =I157*12 -> 0
H158: =IF(AND(A158<>"",B158<>"",C158<>"",D158<>"",E158<>"",F158<>"",G158<>""),VLOOKUP(F158,通所リハビリテーション費!$A$48:$B$52,2,0),0) -> 0 | I158: =(H158*G158)*0.1*10 -> 0 | J158: =I158*12 -> 0
H159: =IF(AND(A159<>"",B159<>"",C159<>"",D159<>"",E159<>"",F159<>"",G159<>""),VLOOKUP(F159,通所リハビリテーション費!$A$48:$B$52,2,0),0) -> 0 | I159: =(H159*G159)*0.1*10 -> 0 | J159: =I159*12 -> 0
H160: =IF(AND(A160<>"",B160<>"",C160<>"",D160<>"",E160<>"",F160<>"",G160<>""),VLOOKUP(F160,通所リハビリテーション費!$A$48:$B$52,2,0),0) -> 0 | I160: =(H160*G160)*0.1*10 -> 0 | J160: =I160*12 -> 0
H161: =IF(AND(A161<>"",B161<>"",C161<>"",D161<>"",E161<>"",F161<>"",G161<>""),VLOOKUP(F161,通所リハビリテーション費!$A$48:$B$52,2,0),0) -> 0 | I161: =(H161*G161)*0.1*10 -> 0 | J161: =I161*12 -> 0
H162: =IF(AND(A162<>"",B162<>"",C162<>"",D162<>"",E162<>"",F162<>"",G162<>""),VLOOKUP(F162,通所リハビリテーション費!$A$48:$B$52,2,0),0) -> 0 | I162: =(H162*G162)*0.1*10 -> 0 | J162: =I162*12 -> 0
H163: =IF(AND(A163<>"",B163<>"",C163<>"",D163<>"",E163<>"",F163<>"",G163<>""),VLOOKUP(F163,通所リハビリテーション費!$A$48:$B$52,2,0),0) -> 0 | I163: =(H163*G163)*0.1*10 -> 0 | J163: =I163*12 -> 0
...

Sheet (附表１－１)(附表１－２)補助金所要額調
A1: 附表１－１
B3: 吉備中央町中山間特別地域訪問介護サービス等支援事業 補助金所要額調
CG5: 事業者名 | CP5: =IF(基本情報入力シート!V8="","",基本情報入力シート!V8)
B7: 事業所名 | N7: サービス種別 | Z7: 補助対象事業区分 | BI7: 地区数 | BU7: 対象者数 | CG7: サービス 提供回数 | CS7: 基準額 | DE7: 補助金所要額
B8: =IF(基本情報入力シート!V19="","",基本情報入力シート!V19) | N8: =IF(基本情報入力シート!V21="","",基本情報入力シート!V21) -> 通所リハビリテーション | Z8: =IF(基本情報入力シート!V22="","",基本情報入力シート!V22) -> 別表第1の1 区分1 移動に片道20分以上の時間を要するサービス（特別地域加算対象地域内に居住する利用者を対象に行う場合） | BI8: ='(附表１－３)年間実施計画'!A258 -> 0 | BU8: ='(附表１－３)年間実施計画'!B258 -> 0 | CG8: ='(附表１－３)年間実施計画'!C258 -> 0 | CS8: ='(附表１－３)年間実施計画'!E258 -> 0 | DE8: =ROUNDDOWN(CS8,-3) -> 0
B10: （注）補助金所要額欄は、事業所ごとに千円未満の額を切り捨てた額を記入すること。
A12: 附表１－２
B13: 年間計画内訳 | BM13: 事業者名 | BT13: =IF(基本情報入力シート!V8="","",基本情報入力シート!V8)
BM14: 事業所名 | BT14: =IF(基本情報入力シート!V19="","",基本情報入力シート!V19)
B16: 地域名 | H16: 対象人数 | O16: サービス 提供回数 | V16: 地域名 | AB16: 対象人数 | AI16: サービス 提供回数 | AP16: 地域名 | AV16: 対象人数 | BC16: サービス 提供回数 | BJ16: 地域名 | BP16: 対象人数 | BW16: サービス 提供回数 | CD16: 地域名 | CJ16: 対象人数 | CQ16: サービス 提供回数
B17: 広面 | H17: ='(附表１－３)年間実施計画'!R3 -> 0 | O17: ='(附表１－３)年間実施計画'!S3 -> 0 | V17: 細田 | AB17: ='(附表１－３)年間実施計画'!R13 -> 0 | AI17: ='(附表１－３)年間実施計画'!S13 -> 0 | AP17: 福沢 | AV17: ='(附表１－３)年間実施計画'!R23 -> 0 | BC17: ='(附表１－３)年間実施計画'!S23 -> 0
B18: 上加茂 | H18: ='(附表１－３)年間実施計画'!R4 -> 0 | O18: ='(附表１－３)年間実施計画'!S4 -> 0 | V18: 三納谷 | AB18: ='(附表１－３)年間実施計画'!R14 -> 0 | AI18: ='(附表１－３)年間実施計画'!S14 -> 0 | AP18: 溝部 | AV18: ='(附表１－３)年間実施計画'!R24 -> 0 | BC18: ='(附表１－３)年間実施計画'!S24 -> 0
B19: 下加茂 | H19: ='(附表１－３)年間実施計画'!R5 -> 0 | O19: ='(附表１－３)年間実施計画'!S5 -> 0 | V19: 上田西 | AB19: ='(附表１－３)年間実施計画'!R15 -> 0 | AI19: ='(附表１－３)年間実施計画'!S15 -> 0
B20: 美原 | H20: ='(附表１－３)年間実施計画'!R6 -> 0 | O20: ='(附表１－３)年間実施計画'!S6 -> 0 | V20: 円城 | AB20: ='(附表１－３)年間実施計画'!R16 -> 0 | AI20: ='(附表１－３)年間実施計画'!S16 -> 0
B21: 加茂市場 | H21: ='(附表１－３)年間実施計画'!R7 -> 0 | O21: ='(附表１－３)年間実施計画'!S7 -> 0 | V21: 案田 | AB21: ='(附表１－３)年間実施計画'!R17 -> 0 | AI21: ='(附表１－３)年間実施計画'!S17 -> 0
B22: 高谷 | H22: ='(附表１－３)年間実施計画'!R8 -> 0 | O22: ='(附表１－３)年間実施計画'!S8 -> 0 | V22: 高富 | AB22: ='(附表１－３)年間実施計画'!R18 -> 0 | AI22: ='(附表１－３)年間実施計画'!S18 -> 0
B23: 平岡 | H23: ='(附表１－３)年間実施計画'!R9 -> 0 | O23: ='(附表１－３)年間実施計画'!S9 -> 0 | V23: 神瀬 | AB23: ='(附表１－３)年間実施計画'!R19 -> 0 | AI23: ='(附表１－３)年間実施計画'!S19 -> 0
B24: 上野 | H24: ='(附表１－３)年間実施計画'!R10 -> 0 | O24: ='(附表１－３)年間実施計画'!S10 -> 0 | V24: 小森 | AB24: ='(附表１－３)年間実施計画'!R20 -> 0 | AI24: ='(附表１－３)年間実施計画'!S20 -> 0
B25: 竹部 | H25: ='(附表１－３)年間実施計画'!R11 -> 0 | O25: ='(附表１－３)年間実施計画'!S11 -> 0 | V25: 尾原 | AB25: ='(附表１－３)年間実施計画'!R21 -> 0 | AI25: ='(附表１－３)年間実施計画'!S21 -> 0
B26: 上田東 | H26: ='(附表１－３)年間実施計画'!R12 -> 0 | O26: ='(附表１－３)年間実施計画'!S12 -> 0 | V26: 笹目 | AB26: ='(附表１－３)年間実施計画'!R22 -> 0 | AI26: ='(附表１－３)年間実施計画'!S22 -> 0 | AP26: 合計 | AV26: =H17+H18+H19+H20+H21+H22+H23+H24+H25+H26+AB17+AB18+AB19+AB20+AB21+AB22+AB23+AB24+AB25+AB26+AV17+AV18+AV19+AV20 -> 0 | BC26: =O17+O18+O19+O20+O21+O22+O23+O24+O25+O26+AI17+AI18+AI19+AI20+AI21+AI22+AI23+AI24+AI25+AI26+BC17+BC18+BC19+BC20 -> 0

Sheet (附表2)実施状況報告（４月）
A1: 附表2 | H1: 令和 年 月 日
A2: 吉備中央町長 様 | R2: 対象者人数 | S2: サービス 提供回数
Q3: =対象地域一覧!A3 -> 広面 | R3: =COUNTIF($D$21:$D$30,Q3)+COUNTIF($D$35:$D$39,Q3)+COUNTIF($D$45:$D$54,Q3)+COUNTIF($D$59:$D$63,Q3)+COUNTIF($D$69:$D$78,Q3)+COUNTIF($D$83:$D$87,Q3)+COUNTIF($D$93:$D$102,Q3)+COUNTIF($D$107:$D$111,Q3)+COUNTIF($D$117:$D$126,Q3)+COUNTIF($D$131:$D$135,Q3)+COUNTIF($D$141:$D$150,Q3)+COUNTIF($D$155:$D$159,Q3)+COUNTIF($D$165:$D$174,Q3)+COUNTIF($D$179:$D$183,Q3) -> 0 | S3: =SUMIF($D$21:$D$30,Q3,$H$21:$H$30)+SUMIF($D$35:$D$39,Q3,$H$35:$H$39)+SUMIF($D$45:$D$54,Q3,$H$45:$H$54)+SUMIF($D$59:$D$63,Q3,$H$59:$H$63)+SUMIF($D$69:$D$78,Q3,$H$69:$H$78)+SUMIF($D$83:$D$87,Q3,$H$83:$H$87)+SUMIF($D$93:$D$102,Q3,$H$93:$H$102)+SUMIF($D$107:$D$111,Q3,$H$107:$H$111)+SUMIF($D$117:$D$126,Q3,$H$117:$H$126)+SUMIF($D$131:$D$135,Q3,$H$131:$H$135)+SUMIF($D$141:$D$150,Q3,$H$141:$H$150)+SUMIF($D$155:$D$159,Q3,$H$155:$H$159)+SUMIF($D$165:$D$174,Q3,$H$165:$H$174)+SUMIF($D$179:$D$183,Q3,$H$179:$H$183) -> 0
A4: 実 施 状 況 報 告 明 細 書 （通所リハビリテーション事業所用、通常規模型リハビリテーション費） 令和８年４月分 | Q4: =対象地域一覧!A4 -> 上加茂 | R4: =COUNTIF($D$21:$D$30,Q4)+COUNTIF($D$35:$D$39,Q4)+COUNTIF($D$45:$D$54,Q4)+COUNTIF($D$59:$D$63,Q4)+COUNTIF($D$69:$D$78,Q4)+COUNTIF($D$83:$D$87,Q4)+COUNTIF($D$93:$D$102,Q4)+COUNTIF($D$107:$D$111,Q4)+COUNTIF($D$117:$D$126,Q4)+COUNTIF($D$131:$D$135,Q4)+COUNTIF($D$141:$D$150,Q4)+COUNTIF($D$155:$D$159,Q4)+COUNTIF($D$165:$D$174,Q4)+COUNTIF($D$179:$D$183,Q4) -> 0 | S4: =SUMIF($D$21:$D$30,Q4,$H$21:$H$30)+SUMIF($D$35:$D$39,Q4,$H$35:$H$39)+SUMIF($D$45:$D$54,Q4,$H$45:$H$54)+SUMIF($D$59:$D$63,Q4,$H$59:$H$63)+SUMIF($D$69:$D$78,Q4,$H$69:$H$78)+SUMIF($D$83:$D$87,Q4,$H$83:$H$87)+SUMIF($D$93:$D$102,Q4,$H$93:$H$102)+SUMIF($D$107:$D$111,Q4,$H$107:$H$111)+SUMIF($D$117:$D$126,Q4,$H$117:$H$126)+SUMIF($D$131:$D$135,Q4,$H$131:$H$135)+SUMIF($D$141:$D$150,Q4,$H$141:$H$150)+SUMIF($D$155:$D$159,Q4,$H$155:$H$159)+SUMIF($D$165:$D$174,Q4,$H$165:$H$174)+SUMIF($D$179:$D$183,Q4,$H$179:$H$183) -> 0
Q5: =対象地域一覧!A5 -> 下加茂 | R5: =COUNTIF($D$21:$D$30,Q5)+COUNTIF($D$35:$D$39,Q5)+COUNTIF($D$45:$D$54,Q5)+COUNTIF($D$59:$D$63,Q5)+COUNTIF($D$69:$D$78,Q5)+COUNTIF($D$83:$D$87,Q5)+COUNTIF($D$93:$D$102,Q5)+COUNTIF($D$107:$D$111,Q5)+COUNTIF($D$117:$D$126,Q5)+COUNTIF($D$131:$D$135,Q5)+COUNTIF($D$141:$D$150,Q5)+COUNTIF($D$155:$D$159,Q5)+COUNTIF($D$165:$D$174,Q5)+COUNTIF($D$179:$D$183,Q5) -> 0 | S5: =SUMIF($D$21:$D$30,Q5,$H$21:$H$30)+SUMIF($D$35:$D$39,Q5,$H$35:$H$39)+SUMIF($D$45:$D$54,Q5,$H$45:$H$54)+SUMIF($D$59:$D$63,Q5,$H$59:$H$63)+SUMIF($D$69:$D$78,Q5,$H$69:$H$78)+SUMIF($D$83:$D$87,Q5,$H$83:$H$87)+SUMIF($D$93:$D$102,Q5,$H$93:$H$102)+SUMIF($D$107:$D$111,Q5,$H$107:$H$111)+SUMIF($D$117:$D$126,Q5,$H$117:$H$126)+SUMIF($D$131:$D$135,Q5,$H$131:$H$135)+SUMIF($D$141:$D$150,Q5,$H$141:$H$150)+SUMIF($D$155:$D$159,Q5,$H$155:$H$159)+SUMIF($D$165:$D$174,Q5,$H$165:$H$174)+SUMIF($D$179:$D$183,Q5,$H$179:$H$183) -> 0
A6: 1.事業所情報 | Q6: =対象地域一覧!A6 -> 美原 | R6: =COUNTIF($D$21:$D$30,Q6)+COUNTIF($D$35:$D$39,Q6)+COUNTIF($D$45:$D$54,Q6)+COUNTIF($D$59:$D$63,Q6)+COUNTIF($D$69:$D$78,Q6)+COUNTIF($D$83:$D$87,Q6)+COUNTIF($D$93:$D$102,Q6)+COUNTIF($D$107:$D$111,Q6)+COUNTIF($D$117:$D$126,Q6)+COUNTIF($D$131:$D$135,Q6)+COUNTIF($D$141:$D$150,Q6)+COUNTIF($D$155:$D$159,Q6)+COUNTIF($D$165:$D$174,Q6)+COUNTIF($D$179:$D$183,Q6) -> 0 | S6: =SUMIF($D$21:$D$30,Q6,$H$21:$H$30)+SUMIF($D$35:$D$39,Q6,$H$35:$H$39)+SUMIF($D$45:$D$54,Q6,$H$45:$H$54)+SUMIF($D$59:$D$63,Q6,$H$59:$H$63)+SUMIF($D$69:$D$78,Q6,$H$69:$H$78)+SUMIF($D$83:$D$87,Q6,$H$83:$H$87)+SUMIF($D$93:$D$102,Q6,$H$93:$H$102)+SUMIF($D$107:$D$111,Q6,$H$107:$H$111)+SUMIF($D$117:$D$126,Q6,$H$117:$H$126)+SUMIF($D$131:$D$135,Q6,$H$131:$H$135)+SUMIF($D$141:$D$150,Q6,$H$141:$H$150)+SUMIF($D$155:$D$159,Q6,$H$155:$H$159)+SUMIF($D$165:$D$174,Q6,$H$165:$H$174)+SUMIF($D$179:$D$183,Q6,$H$179:$H$183) -> 0
A7: 事業者名 | C7: =IF(基本情報入力シート!V8="","",基本情報入力シート!V8) | Q7: =対象地域一覧!A7 -> 加茂市場 | R7: =COUNTIF($D$21:$D$30,Q7)+COUNTIF($D$35:$D$39,Q7)+COUNTIF($D$45:$D$54,Q7)+COUNTIF($D$59:$D$63,Q7)+COUNTIF($D$69:$D$78,Q7)+COUNTIF($D$83:$D$87,Q7)+COUNTIF($D$93:$D$102,Q7)+COUNTIF($D$107:$D$111,Q7)+COUNTIF($D$117:$D$126,Q7)+COUNTIF($D$131:$D$135,Q7)+COUNTIF($D$141:$D$150,Q7)+COUNTIF($D$155:$D$159,Q7)+COUNTIF($D$165:$D$174,Q7)+COUNTIF($D$179:$D$183,Q7) -> 0 | S7: =SUMIF($D$21:$D$30,Q7,$H$21:$H$30)+SUMIF($D$35:$D$39,Q7,$H$35:$H$39)+SUMIF($D$45:$D$54,Q7,$H$45:$H$54)+SUMIF($D$59:$D$63,Q7,$H$59:$H$63)+SUMIF($D$69:$D$78,Q7,$H$69:$H$78)+SUMIF($D$83:$D$87,Q7,$H$83:$H$87)+SUMIF($D$93:$D$102,Q7,$H$93:$H$102)+SUMIF($D$107:$D$111,Q7,$H$107:$H$111)+SUMIF($D$117:$D$126,Q7,$H$117:$H$126)+SUMIF($D$131:$D$135,Q7,$H$131:$H$135)+SUMIF($D$141:$D$150,Q7,$H$141:$H$150)+SUMIF($D$155:$D$159,Q7,$H$155:$H$159)+SUMIF($D$165:$D$174,Q7,$H$165:$H$174)+SUMIF($D$179:$D$183,Q7,$H$179:$H$183) -> 0
A8: 事業所名 | C8: =IF(基本情報入力シート!V19="","",基本情報入力シート!V19) | Q8: =対象地域一覧!A8 -> 高谷 | R8: =COUNTIF($D$21:$D$30,Q8)+COUNTIF($D$35:$D$39,Q8)+COUNTIF($D$45:$D$54,Q8)+COUNTIF($D$59:$D$63,Q8)+COUNTIF($D$69:$D$78,Q8)+COUNTIF($D$83:$D$87,Q8)+COUNTIF($D$93:$D$102,Q8)+COUNTIF($D$107:$D$111,Q8)+COUNTIF($D$117:$D$126,Q8)+COUNTIF($D$131:$D$135,Q8)+COUNTIF($D$141:$D$150,Q8)+COUNTIF($D$155:$D$159,Q8)+COUNTIF($D$165:$D$174,Q8)+COUNTIF($D$179:$D$183,Q8) -> 0 | S8: =SUMIF($D$21:$D$30,Q8,$H$21:$H$30)+SUMIF($D$35:$D$39,Q8,$H$35:$H$39)+SUMIF($D$45:$D$54,Q8,$H$45:$H$54)+SUMIF($D$59:$D$63,Q8,$H$59:$H$63)+SUMIF($D$69:$D$78,Q8,$H$69:$H$78)+SUMIF($D$83:$D$87,Q8,$H$83:$H$87)+SUMIF($D$93:$D$102,Q8,$H$93:$H$102)+SUMIF($D$107:$D$111,Q8,$H$107:$H$111)+SUMIF($D$117:$D$126,Q8,$H$117:$H$126)+SUMIF($D$131:$D$135,Q8,$H$131:$H$135)+SUMIF($D$141:$D$150,Q8,$H$141:$H$150)+SUMIF($D$155:$D$159,Q8,$H$155:$H$159)+SUMIF($D$165:$D$174,Q8,$H$165:$H$174)+SUMIF($D$179:$D$183,Q8,$H$179:$H$183) -> 0
A9: 事業所所在地 | C9: =IF(基本情報入力シート!V20="","",基本情報入力シート!V20) | Q9: =対象地域一覧!A9 -> 平岡 | R9: =COUNTIF($D$21:$D$30,Q9)+COUNTIF($D$35:$D$39,Q9)+COUNTIF($D$45:$D$54,Q9)+COUNTIF($D$59:$D$63,Q9)+COUNTIF($D$69:$D$78,Q9)+COUNTIF($D$83:$D$87,Q9)+COUNTIF($D$93:$D$102,Q9)+COUNTIF($D$107:$D$111,Q9)+COUNTIF($D$117:$D$126,Q9)+COUNTIF($D$131:$D$135,Q9)+COUNTIF($D$141:$D$150,Q9)+COUNTIF($D$155:$D$159,Q9)+COUNTIF($D$165:$D$174,Q9)+COUNTIF($D$179:$D$183,Q9) -> 0 | S9: =SUMIF($D$21:$D$30,Q9,$H$21:$H$30)+SUMIF($D$35:$D$39,Q9,$H$35:$H$39)+SUMIF($D$45:$D$54,Q9,$H$45:$H$54)+SUMIF($D$59:$D$63,Q9,$H$59:$H$63)+SUMIF($D$69:$D$78,Q9,$H$69:$H$78)+SUMIF($D$83:$D$87,Q9,$H$83:$H$87)+SUMIF($D$93:$D$102,Q9,$H$93:$H$102)+SUMIF($D$107:$D$111,Q9,$H$107:$H$111)+SUMIF($D$117:$D$126,Q9,$H$117:$H$126)+SUMIF($D$131:$D$135,Q9,$H$131:$H$135)+SUMIF($D$141:$D$150,Q9,$H$141:$H$150)+SUMIF($D$155:$D$159,Q9,$H$155:$H$159)+SUMIF($D$165:$D$174,Q9,$H$165:$H$174)+SUMIF($D$179:$D$183,Q9,$H$179:$H$183) -> 0
A10: サービス種別 | C10: =IF(基本情報入力シート!V21="","",基本情報入力シート!V21) -> 通所リハビリテーション | Q10: =対象地域一覧!A10 -> 上野 | R10: =COUNTIF($D$21:$D$30,Q10)+COUNTIF($D$35:$D$39,Q10)+COUNTIF($D$45:$D$54,Q10)+COUNTIF($D$59:$D$63,Q10)+COUNTIF($D$69:$D$78,Q10)+COUNTIF($D$83:$D$87,Q10)+COUNTIF($D$93:$D$102,Q10)+COUNTIF($D$107:$D$111,Q10)+COUNTIF($D$117:$D$126,Q10)+COUNTIF($D$131:$D$135,Q10)+COUNTIF($D$141:$D$150,Q10)+COUNTIF($D$155:$D$159,Q10)+COUNTIF($D$165:$D$174,Q10)+COUNTIF($D$179:$D$183,Q10) -> 0 | S10: =SUMIF($D$21:$D$30,Q10,$H$21:$H$30)+SUMIF($D$35:$D$39,Q10,$H$35:$H$39)+SUMIF($D$45:$D$54,Q10,$H$45:$H$54)+SUMIF($D$59:$D$63,Q10,$H$59:$H$63)+SUMIF($D$69:$D$78,Q10,$H$69:$H$78)+SUMIF($D$83:$D$87,Q10,$H$83:$H$87)+SUMIF($D$93:$D$102,Q10,$H$93:$H$102)+SUMIF($D$107:$D$111,Q10,$H$107:$H$111)+SUMIF($D$117:$D$126,Q10,$H$117:$H$126)+SUMIF($D$131:$D$135,Q10,$H$131:$H$135)+SUMIF($D$141:$D$150,Q10,$H$141:$H$150)+SUMIF($D$155:$D$159,Q10,$H$155:$H$159)+SUMIF($D$165:$D$174,Q10,$H$165:$H$174)+SUMIF($D$179:$D$183,Q10,$H$179:$H$183) -> 0
A11: 補助対象事業区分 | C11: =IF(基本情報入力シート!V22="","",基本情報入力シート!V22) -> 別表第1の1 区分1 移動に片道20分以上の時間を要するサービス（特別地域加算対象地域内に居住する利用者を対象に行う場合） | Q11: =対象地域一覧!A11 -> 竹部 | R11: =COUNTIF($D$21:$D$30,Q11)+COUNTIF($D$35:$D$39,Q11)+COUNTIF($D$45:$D$54,Q11)+COUNTIF($D$59:$D$63,Q11)+COUNTIF($D$69:$D$78,Q11)+COUNTIF($D$83:$D$87,Q11)+COUNTIF($D$93:$D$102,Q11)+COUNTIF($D$107:$D$111,Q11)+COUNTIF($D$117:$D$126,Q11)+COUNTIF($D$131:$D$135,Q11)+COUNTIF($D$141:$D$150,Q11)+COUNTIF($D$155:$D$159,Q11)+COUNTIF($D$165:$D$174,Q11)+COUNTIF($D$179:$D$183,Q11) -> 0 | S11: =SUMIF($D$21:$D$30,Q11,$H$21:$H$30)+SUMIF($D$35:$D$39,Q11,$H$35:$H$39)+SUMIF($D$45:$D$54,Q11,$H$45:$H$54)+SUMIF($D$59:$D$63,Q11,$H$59:$H$63)+SUMIF($D$69:$D$78,Q11,$H$69:$H$78)+SUMIF($D$83:$D$87,Q11,$H$83:$H$87)+SUMIF($D$93:$D$102,Q11,$H$93:$H$102)+SUMIF($D$107:$D$111,Q11,$H$107:$H$111)+SUMIF($D$117:$D$126,Q11,$H$117:$H$126)+SUMIF($D$131:$D$135,Q11,$H$131:$H$135)+SUMIF($D$141:$D$150,Q11,$H$141:$H$150)+SUMIF($D$155:$D$159,Q11,$H$155:$H$159)+SUMIF($D$165:$D$174,Q11,$H$165:$H$174)+SUMIF($D$179:$D$183,Q11,$H$179:$H$183) -> 0
A12: 加算区分 | C12: 通常規模型リハビリテーション費 | Q12: =対象地域一覧!A12 -> 上田東 | R12: =COUNTIF($D$21:$D$30,Q12)+COUNTIF($D$35:$D$39,Q12)+COUNTIF($D$45:$D$54,Q12)+COUNTIF($D$59:$D$63,Q12)+COUNTIF($D$69:$D$78,Q12)+COUNTIF($D$83:$D$87,Q12)+COUNTIF($D$93:$D$102,Q12)+COUNTIF($D$107:$D$111,Q12)+COUNTIF($D$117:$D$126,Q12)+COUNTIF($D$131:$D$135,Q12)+COUNTIF($D$141:$D$150,Q12)+COUNTIF($D$155:$D$159,Q12)+COUNTIF($D$165:$D$174,Q12)+COUNTIF($D$179:$D$183,Q12) -> 0 | S12: =SUMIF($D$21:$D$30,Q12,$H$21:$H$30)+SUMIF($D$35:$D$39,Q12,$H$35:$H$39)+SUMIF($D$45:$D$54,Q12,$H$45:$H$54)+SUMIF($D$59:$D$63,Q12,$H$59:$H$63)+SUMIF($D$69:$D$78,Q12,$H$69:$H$78)+SUMIF($D$83:$D$87,Q12,$H$83:$H$87)+SUMIF($D$93:$D$102,Q12,$H$93:$H$102)+SUMIF($D$107:$D$111,Q12,$H$107:$H$111)+SUMIF($D$117:$D$126,Q12,$H$117:$H$126)+SUMIF($D$131:$D$135,Q12,$H$131:$H$135)+SUMIF($D$141:$D$150,Q12,$H$141:$H$150)+SUMIF($D$155:$D$159,Q12,$H$155:$H$159)+SUMIF($D$165:$D$174,Q12,$H$165:$H$174)+SUMIF($D$179:$D$183,Q12,$H$179:$H$183) -> 0
Q13: =対象地域一覧!A13 -> 細田 | R13: =COUNTIF($D$21:$D$30,Q13)+COUNTIF($D$35:$D$39,Q13)+COUNTIF($D$45:$D$54,Q13)+COUNTIF($D$59:$D$63,Q13)+COUNTIF($D$69:$D$78,Q13)+COUNTIF($D$83:$D$87,Q13)+COUNTIF($D$93:$D$102,Q13)+COUNTIF($D$107:$D$111,Q13)+COUNTIF($D$117:$D$126,Q13)+COUNTIF($D$131:$D$135,Q13)+COUNTIF($D$141:$D$150,Q13)+COUNTIF($D$155:$D$159,Q13)+COUNTIF($D$165:$D$174,Q13)+COUNTIF($D$179:$D$183,Q13) -> 0 | S13: =SUMIF($D$21:$D$30,Q13,$H$21:$H$30)+SUMIF($D$35:$D$39,Q13,$H$35:$H$39)+SUMIF($D$45:$D$54,Q13,$H$45:$H$54)+SUMIF($D$59:$D$63,Q13,$H$59:$H$63)+SUMIF($D$69:$D$78,Q13,$H$69:$H$78)+SUMIF($D$83:$D$87,Q13,$H$83:$H$87)+SUMIF($D$93:$D$102,Q13,$H$93:$H$102)+SUMIF($D$107:$D$111,Q13,$H$107:$H$111)+SUMIF($D$117:$D$126,Q13,$H$117:$H$126)+SUMIF($D$131:$D$135,Q13,$H$131:$H$135)+SUMIF($D$141:$D$150,Q13,$H$141:$H$150)+SUMIF($D$155:$D$159,Q13,$H$155:$H$159)+SUMIF($D$165:$D$174,Q13,$H$165:$H$174)+SUMIF($D$179:$D$183,Q13,$H$179:$H$183) -> 0
Q14: =対象地域一覧!A14 -> 三納谷 | R14: =COUNTIF($D$21:$D$30,Q14)+COUNTIF($D$35:$D$39,Q14)+COUNTIF($D$45:$D$54,Q14)+COUNTIF($D$59:$D$63,Q14)+COUNTIF($D$69:$D$78,Q14)+COUNTIF($D$83:$D$87,Q14)+COUNTIF($D$93:$D$102,Q14)+COUNTIF($D$107:$D$111,Q14)+COUNTIF($D$117:$D$126,Q14)+COUNTIF($D$131:$D$135,Q14)+COUNTIF($D$141:$D$150,Q14)+COUNTIF($D$155:$D$159,Q14)+COUNTIF($D$165:$D$174,Q14)+COUNTIF($D$179:$D$183,Q14) -> 0 | S14: =SUMIF($D$21:$D$30,Q14,$H$21:$H$30)+SUMIF($D$35:$D$39,Q14,$H$35:$H$39)+SUMIF($D$45:$D$54,Q14,$H$45:$H$54)+SUMIF($D$59:$D$63,Q14,$H$59:$H$63)+SUMIF($D$69:$D$78,Q14,$H$69:$H$78)+SUMIF($D$83:$D$87,Q14,$H$83:$H$87)+SUMIF($D$93:$D$102,Q14,$H$93:$H$102)+SUMIF($D$107:$D$111,Q14,$H$107:$H$111)+SUMIF($D$117:$D$126,Q14,$H$117:$H$126)+SUMIF($D$131:$D$135,Q14,$H$131:$H$135)+SUMIF($D$141:$D$150,Q14,$H$141:$H$150)+SUMIF($D$155:$D$159,Q14,$H$155:$H$159)+SUMIF($D$165:$D$174,Q14,$H$165:$H$174)+SUMIF($D$179:$D$183,Q14,$H$179:$H$183) -> 0
Q15: =対象地域一覧!A15 -> 上田西 | R15: =COUNTIF($D$21:$D$30,Q15)+COUNTIF($D$35:$D$39,Q15)+COUNTIF($D$45:$D$54,Q15)+COUNTIF($D$59:$D$63,Q15)+COUNTIF($D$69:$D$78,Q15)+COUNTIF($D$83:$D$87,Q15)+COUNTIF($D$93:$D$102,Q15)+COUNTIF($D$107:$D$111,Q15)+COUNTIF($D$117:$D$126,Q15)+COUNTIF($D$131:$D$135,Q15)+COUNTIF($D$141:$D$150,Q15)+COUNTIF($D$155:$D$159,Q15)+COUNTIF($D$165:$D$174,Q15)+COUNTIF($D$179:$D$183,Q15) -> 0 | S15: =SUMIF($D$21:$D$30,Q15,$H$21:$H$30)+SUMIF($D$35:$D$39,Q15,$H$35:$H$39)+SUMIF($D$45:$D$54,Q15,$H$45:$H$54)+SUMIF($D$59:$D$63,Q15,$H$59:$H$63)+SUMIF($D$69:$D$78,Q15,$H$69:$H$78)+SUMIF($D$83:$D$87,Q15,$H$83:$H$87)+SUMIF($D$93:$D$102,Q15,$H$93:$H$102)+SUMIF($D$107:$D$111,Q15,$H$107:$H$111)+SUMIF($D$117:$D$126,Q15,$H$117:$H$126)+SUMIF($D$131:$D$135,Q15,$H$131:$H$135)+SUMIF($D$141:$D$150,Q15,$H$141:$H$150)+SUMIF($D$155:$D$159,Q15,$H$155:$H$159)+SUMIF($D$165:$D$174,Q15,$H$165:$H$174)+SUMIF($D$179:$D$183,Q15,$H$179:$H$183) -> 0
Q16: =対象地域一覧!A16 -> 円城 | R16: =COUNTIF($D$21:$D$30,Q16)+COUNTIF($D$35:$D$39,Q16)+COUNTIF($D$45:$D$54,Q16)+COUNTIF($D$59:$D$63,Q16)+COUNTIF($D$69:$D$78,Q16)+COUNTIF($D$83:$D$87,Q16)+COUNTIF($D$93:$D$102,Q16)+COUNTIF($D$107:$D$111,Q16)+COUNTIF($D$117:$D$126,Q16)+COUNTIF($D$131:$D$135,Q16)+COUNTIF($D$141:$D$150,Q16)+COUNTIF($D$155:$D$159,Q16)+COUNTIF($D$165:$D$174,Q16)+COUNTIF($D$179:$D$183,Q16) -> 0 | S16: =SUMIF($D$21:$D$30,Q16,$H$21:$H$30)+SUMIF($D$35:$D$39,Q16,$H$35:$H$39)+SUMIF($D$45:$D$54,Q16,$H$45:$H$54)+SUMIF($D$59:$D$63,Q16,$H$59:$H$63)+SUMIF($D$69:$D$78,Q16,$H$69:$H$78)+SUMIF($D$83:$D$87,Q16,$H$83:$H$87)+SUMIF($D$93:$D$102,Q16,$H$93:$H$102)+SUMIF($D$107:$D$111,Q16,$H$107:$H$111)+SUMIF($D$117:$D$126,Q16,$H$117:$H$126)+SUMIF($D$131:$D$135,Q16,$H$131:$H$135)+SUMIF($D$141:$D$150,Q16,$H$141:$H$150)+SUMIF($D$155:$D$159,Q16,$H$155:$H$159)+SUMIF($D$165:$D$174,Q16,$H$165:$H$174)+SUMIF($D$179:$D$183,Q16,$H$179:$H$183) -> 0
A17: 2. 実績内訳 | Q17: =対象地域一覧!A17 -> 案田 | R17: =COUNTIF($D$21:$D$30,Q17)+COUNTIF($D$35:$D$39,Q17)+COUNTIF($D$45:$D$54,Q17)+COUNTIF($D$59:$D$63,Q17)+COUNTIF($D$69:$D$78,Q17)+COUNTIF($D$83:$D$87,Q17)+COUNTIF($D$93:$D$102,Q17)+COUNTIF($D$107:$D$111,Q17)+COUNTIF($D$117:$D$126,Q17)+COUNTIF($D$131:$D$135,Q17)+COUNTIF($D$141:$D$150,Q17)+COUNTIF($D$155:$D$159,Q17)+COUNTIF($D$165:$D$174,Q17)+COUNTIF($D$179:$D$183,Q17) -> 0 | S17: =SUMIF($D$21:$D$30,Q17,$H$21:$H$30)+SUMIF($D$35:$D$39,Q17,$H$35:$H$39)+SUMIF($D$45:$D$54,Q17,$H$45:$H$54)+SUMIF($D$59:$D$63,Q17,$H$59:$H$63)+SUMIF($D$69:$D$78,Q17,$H$69:$H$78)+SUMIF($D$83:$D$87,Q17,$H$83:$H$87)+SUMIF($D$93:$D$102,Q17,$H$93:$H$102)+SUMIF($D$107:$D$111,Q17,$H$107:$H$111)+SUMIF($D$117:$D$126,Q17,$H$117:$H$126)+SUMIF($D$131:$D$135,Q17,$H$131:$H$135)+SUMIF($D$141:$D$150,Q17,$H$141:$H$150)+SUMIF($D$155:$D$159,Q17,$H$155:$H$159)+SUMIF($D$165:$D$174,Q17,$H$165:$H$174)+SUMIF($D$179:$D$183,Q17,$H$179:$H$183) -> 0
A18: （1）所要時間1時間以上2時間未満の場合 | Q18: =対象地域一覧!A18 -> 高富 | R18: =COUNTIF($D$21:$D$30,Q18)+COUNTIF($D$35:$D$39,Q18)+COUNTIF($D$45:$D$54,Q18)+COUNTIF($D$59:$D$63,Q18)+COUNTIF($D$69:$D$78,Q18)+COUNTIF($D$83:$D$87,Q18)+COUNTIF($D$93:$D$102,Q18)+COUNTIF($D$107:$D$111,Q18)+COUNTIF($D$117:$D$126,Q18)+COUNTIF($D$131:$D$135,Q18)+COUNTIF($D$141:$D$150,Q18)+COUNTIF($D$155:$D$159,Q18)+COUNTIF($D$165:$D$174,Q18)+COUNTIF($D$179:$D$183,Q18) -> 0 | S18: =SUMIF($D$21:$D$30,Q18,$H$21:$H$30)+SUMIF($D$35:$D$39,Q18,$H$35:$H$39)+SUMIF($D$45:$D$54,Q18,$H$45:$H$54)+SUMIF($D$59:$D$63,Q18,$H$59:$H$63)+SUMIF($D$69:$D$78,Q18,$H$69:$H$78)+SUMIF($D$83:$D$87,Q18,$H$83:$H$87)+SUMIF($D$93:$D$102,Q18,$H$93:$H$102)+SUMIF($D$107:$D$111,Q18,$H$107:$H$111)+SUMIF($D$117:$D$126,Q18,$H$117:$H$126)+SUMIF($D$131:$D$135,Q18,$H$131:$H$135)+SUMIF($D$141:$D$150,Q18,$H$141:$H$150)+SUMIF($D$155:$D$159,Q18,$H$155:$H$159)+SUMIF($D$165:$D$174,Q18,$H$165:$H$174)+SUMIF($D$179:$D$183,Q18,$H$179:$H$183) -> 0
A19: ※往復の送迎を行った場合 （片道のみ送迎を行った場合は下記別表に入力すること） | Q19: =対象地域一覧!A19 -> 神瀬 | R19: =COUNTIF($D$21:$D$30,Q19)+COUNTIF($D$35:$D$39,Q19)+COUNTIF($D$45:$D$54,Q19)+COUNTIF($D$59:$D$63,Q19)+COUNTIF($D$69:$D$78,Q19)+COUNTIF($D$83:$D$87,Q19)+COUNTIF($D$93:$D$102,Q19)+COUNTIF($D$107:$D$111,Q19)+COUNTIF($D$117:$D$126,Q19)+COUNTIF($D$131:$D$135,Q19)+COUNTIF($D$141:$D$150,Q19)+COUNTIF($D$155:$D$159,Q19)+COUNTIF($D$165:$D$174,Q19)+COUNTIF($D$179:$D$183,Q19) -> 0 | S19: =SUMIF($D$21:$D$30,Q19,$H$21:$H$30)+SUMIF($D$35:$D$39,Q19,$H$35:$H$39)+SUMIF($D$45:$D$54,Q19,$H$45:$H$54)+SUMIF($D$59:$D$63,Q19,$H$59:$H$63)+SUMIF($D$69:$D$78,Q19,$H$69:$H$78)+SUMIF($D$83:$D$87,Q19,$H$83:$H$87)+SUMIF($D$93:$D$102,Q19,$H$93:$H$102)+SUMIF($D$107:$D$111,Q19,$H$107:$H$111)+SUMIF($D$117:$D$126,Q19,$H$117:$H$126)+SUMIF($D$131:$D$135,Q19,$H$131:$H$135)+SUMIF($D$141:$D$150,Q19,$H$141:$H$150)+SUMIF($D$155:$D$159,Q19,$H$155:$H$159)+SUMIF($D$165:$D$174,Q19,$H$165:$H$174)+SUMIF($D$179:$D$183,Q19,$H$179:$H$183) -> 0
A20: 所要時間1時間以上2時間未満の場合 | B20: 被保険者番号 | C20: 被保険者氏名 | D20: 地区名 | E20: 事業所から 利用者宅までの 距離（km） | F20: 事業所から 利用者宅までの 所要時間（分） | G20: 要介護度 | H20: サービス 提供回数 | I20: 基本報酬 （月単位数） | J20: 基準額(月) | Q20: =対象地域一覧!A20 -> 小森 | R20: =COUNTIF($D$21:$D$30,Q20)+COUNTIF($D$35:$D$39,Q20)+COUNTIF($D$45:$D$54,Q20)+COUNTIF($D$59:$D$63,Q20)+COUNTIF($D$69:$D$78,Q20)+COUNTIF($D$83:$D$87,Q20)+COUNTIF($D$93:$D$102,Q20)+COUNTIF($D$107:$D$111,Q20)+COUNTIF($D$117:$D$126,Q20)+COUNTIF($D$131:$D$135,Q20)+COUNTIF($D$141:$D$150,Q20)+COUNTIF($D$155:$D$159,Q20)+COUNTIF($D$165:$D$174,Q20)+COUNTIF($D$179:$D$183,Q20) -> 0 | S20: =SUMIF($D$21:$D$30,Q20,$H$21:$H$30)+SUMIF($D$35:$D$39,Q20,$H$35:$H$39)+SUMIF($D$45:$D$54,Q20,$H$45:$H$54)+SUMIF($D$59:$D$63,Q20,$H$59:$H$63)+SUMIF($D$69:$D$78,Q20,$H$69:$H$78)+SUMIF($D$83:$D$87,Q20,$H$83:$H$87)+SUMIF($D$93:$D$102,Q20,$H$93:$H$102)+SUMIF($D$107:$D$111,Q20,$H$107:$H$111)+SUMIF($D$117:$D$126,Q20,$H$117:$H$126)+SUMIF($D$131:$D$135,Q20,$H$131:$H$135)+SUMIF($D$141:$D$150,Q20,$H$141:$H$150)+SUMIF($D$155:$D$159,Q20,$H$155:$H$159)+SUMIF($D$165:$D$174,Q20,$H$165:$H$174)+SUMIF($D$179:$D$183,Q20,$H$179:$H$183) -> 0
I21: =IF(AND(B21<>"",C21<>"",D21<>"",E21<>"",F21<>"",G21<>"",H21<>""),VLOOKUP(G21,通所リハビリテーション費!$A$20:$B$24,2,0),0) -> 0 | J21: =(I21*H21)*0.1*10 -> 0 | Q21: =対象地域一覧!A21 -> 尾原 | R21: =COUNTIF($D$21:$D$30,Q21)+COUNTIF($D$35:$D$39,Q21)+COUNTIF($D$45:$D$54,Q21)+COUNTIF($D$59:$D$63,Q21)+COUNTIF($D$69:$D$78,Q21)+COUNTIF($D$83:$D$87,Q21)+COUNTIF($D$93:$D$102,Q21)+COUNTIF($D$107:$D$111,Q21)+COUNTIF($D$117:$D$126,Q21)+COUNTIF($D$131:$D$135,Q21)+COUNTIF($D$141:$D$150,Q21)+COUNTIF($D$155:$D$159,Q21)+COUNTIF($D$165:$D$174,Q21)+COUNTIF($D$179:$D$183,Q21) -> 0 | S21: =SUMIF($D$21:$D$30,Q21,$H$21:$H$30)+SUMIF($D$35:$D$39,Q21,$H$35:$H$39)+SUMIF($D$45:$D$54,Q21,$H$45:$H$54)+SUMIF($D$59:$D$63,Q21,$H$59:$H$63)+SUMIF($D$69:$D$78,Q21,$H$69:$H$78)+SUMIF($D$83:$D$87,Q21,$H$83:$H$87)+SUMIF($D$93:$D$102,Q21,$H$93:$H$102)+SUMIF($D$107:$D$111,Q21,$H$107:$H$111)+SUMIF($D$117:$D$126,Q21,$H$117:$H$126)+SUMIF($D$131:$D$135,Q21,$H$131:$H$135)+SUMIF($D$141:$D$150,Q21,$H$141:$H$150)+SUMIF($D$155:$D$159,Q21,$H$155:$H$159)+SUMIF($D$165:$D$174,Q21,$H$165:$H$174)+SUMIF($D$179:$D$183,Q21,$H$179:$H$183) -> 0
I22: =IF(AND(B22<>"",C22<>"",D22<>"",E22<>"",F22<>"",G22<>"",H22<>""),VLOOKUP(G22,通所リハビリテーション費!$A$20:$B$24,2,0),0) -> 0 | J22: =(I22*H22)*0.1*10 -> 0 | Q22: =対象地域一覧!A22 -> 笹目 | R22: =COUNTIF($D$21:$D$30,Q22)+COUNTIF($D$35:$D$39,Q22)+COUNTIF($D$45:$D$54,Q22)+COUNTIF($D$59:$D$63,Q22)+COUNTIF($D$69:$D$78,Q22)+COUNTIF($D$83:$D$87,Q22)+COUNTIF($D$93:$D$102,Q22)+COUNTIF($D$107:$D$111,Q22)+COUNTIF($D$117:$D$126,Q22)+COUNTIF($D$131:$D$135,Q22)+COUNTIF($D$141:$D$150,Q22)+COUNTIF($D$155:$D$159,Q22)+COUNTIF($D$165:$D$174,Q22)+COUNTIF($D$179:$D$183,Q22) -> 0 | S22: =SUMIF($D$21:$D$30,Q22,$H$21:$H$30)+SUMIF($D$35:$D$39,Q22,$H$35:$H$39)+SUMIF($D$45:$D$54,Q22,$H$45:$H$54)+SUMIF($D$59:$D$63,Q22,$H$59:$H$63)+SUMIF($D$69:$D$78,Q22,$H$69:$H$78)+SUMIF($D$83:$D$87,Q22,$H$83:$H$87)+SUMIF($D$93:$D$102,Q22,$H$93:$H$102)+SUMIF($D$107:$D$111,Q22,$H$107:$H$111)+SUMIF($D$117:$D$126,Q22,$H$117:$H$126)+SUMIF($D$131:$D$135,Q22,$H$131:$H$135)+SUMIF($D$141:$D$150,Q22,$H$141:$H$150)+SUMIF($D$155:$D$159,Q22,$H$155:$H$159)+SUMIF($D$165:$D$174,Q22,$H$165:$H$174)+SUMIF($D$179:$D$183,Q22,$H$179:$H$183) -> 0
I23: =IF(AND(B23<>"",C23<>"",D23<>"",E23<>"",F23<>"",G23<>"",H23<>""),VLOOKUP(G23,通所リハビリテーション費!$A$20:$B$24,2,0),0) -> 0 | J23: =(I23*H23)*0.1*10 -> 0 | Q23: =対象地域一覧!A23 -> 福沢 | R23: =COUNTIF($D$21:$D$30,Q23)+COUNTIF($D$35:$D$39,Q23)+COUNTIF($D$45:$D$54,Q23)+COUNTIF($D$59:$D$63,Q23)+COUNTIF($D$69:$D$78,Q23)+COUNTIF($D$83:$D$87,Q23)+COUNTIF($D$93:$D$102,Q23)+COUNTIF($D$107:$D$111,Q23)+COUNTIF($D$117:$D$126,Q23)+COUNTIF($D$131:$D$135,Q23)+COUNTIF($D$141:$D$150,Q23)+COUNTIF($D$155:$D$159,Q23)+COUNTIF($D$165:$D$174,Q23)+COUNTIF($D$179:$D$183,Q23) -> 0 | S23: =SUMIF($D$21:$D$30,Q23,$H$21:$H$30)+SUMIF($D$35:$D$39,Q23,$H$35:$H$39)+SUMIF($D$45:$D$54,Q23,$H$45:$H$54)+SUMIF($D$59:$D$63,Q23,$H$59:$H$63)+SUMIF($D$69:$D$78,Q23,$H$69:$H$78)+SUMIF($D$83:$D$87,Q23,$H$83:$H$87)+SUMIF($D$93:$D$102,Q23,$H$93:$H$102)+SUMIF($D$107:$D$111,Q23,$H$107:$H$111)+SUMIF($D$117:$D$126,Q23,$H$117:$H$126)+SUMIF($D$131:$D$135,Q23,$H$131:$H$135)+SUMIF($D$141:$D$150,Q23,$H$141:$H$150)+SUMIF($D$155:$D$159,Q23,$H$155:$H$159)+SUMIF($D$165:$D$174,Q23,$H$165:$H$174)+SUMIF($D$179:$D$183,Q23,$H$179:$H$183) -> 0
I24: =IF(AND(B24<>"",C24<>"",D24<>"",E24<>"",F24<>"",G24<>"",H24<>""),VLOOKUP(G24,通所リハビリテーション費!$A$20:$B$24,2,0),0) -> 0 | J24: =(I24*H24)*0.1*10 -> 0 | Q24: =対象地域一覧!A24 -> 溝部 | R24: =COUNTIF($D$21:$D$30,Q24)+COUNTIF($D$35:$D$39,Q24)+COUNTIF($D$45:$D$54,Q24)+COUNTIF($D$59:$D$63,Q24)+COUNTIF($D$69:$D$78,Q24)+COUNTIF($D$83:$D$87,Q24)+COUNTIF($D$93:$D$102,Q24)+COUNTIF($D$107:$D$111,Q24)+COUNTIF($D$117:$D$126,Q24)+COUNTIF($D$131:$D$135,Q24)+COUNTIF($D$141:$D$150,Q24)+COUNTIF($D$155:$D$159,Q24)+COUNTIF($D$165:$D$174,Q24)+COUNTIF($D$179:$D$183,Q24) -> 0 | S24: =SUMIF($D$21:$D$30,Q24,$H$21:$H$30)+SUMIF($D$35:$D$39,Q24,$H$35:$H$39)+SUMIF($D$45:$D$54,Q24,$H$45:$H$54)+SUMIF($D$59:$D$63,Q24,$H$59:$H$63)+SUMIF($D$69:$D$78,Q24,$H$69:$H$78)+SUMIF($D$83:$D$87,Q24,$H$83:$H$87)+SUMIF($D$93:$D$102,Q24,$H$93:$H$102)+SUMIF($D$107:$D$111,Q24,$H$107:$H$111)+SUMIF($D$117:$D$126,Q24,$H$117:$H$126)+SUMIF($D$131:$D$135,Q24,$H$131:$H$135)+SUMIF($D$141:$D$150,Q24,$H$141:$H$150)+SUMIF($D$155:$D$159,Q24,$H$155:$H$159)+SUMIF($D$165:$D$174,Q24,$H$165:$H$174)+SUMIF($D$179:$D$183,Q24,$H$179:$H$183) -> 0
I25: =IF(AND(B25<>"",C25<>"",D25<>"",E25<>"",F25<>"",G25<>"",H25<>""),VLOOKUP(G25,通所リハビリテーション費!$A$20:$B$24,2,0),0) -> 0 | J25: =(I25*H25)*0.1*10 -> 0 | R25: =COUNTIF($D$21:$D$30,Q25)+COUNTIF($D$35:$D$39,Q25)+COUNTIF($D$45:$D$54,Q25)+COUNTIF($D$59:$D$63,Q25)+COUNTIF($D$69:$D$78,Q25)+COUNTIF($D$83:$D$87,Q25)+COUNTIF($D$93:$D$102,Q25)+COUNTIF($D$107:$D$111,Q25)+COUNTIF($D$117:$D$126,Q25)+COUNTIF($D$131:$D$135,Q25)+COUNTIF($D$141:$D$150,Q25)+COUNTIF($D$155:$D$159,Q25)+COUNTIF($D$165:$D$174,Q25)+COUNTIF($D$179:$D$183,Q25) -> 0 | S25: =SUMIF($D$21:$D$30,Q25,$H$21:$H$30)+SUMIF($D$35:$D$39,Q25,$H$35:$H$39)+SUMIF($D$45:$D$54,Q25,$H$45:$H$54)+SUMIF($D$59:$D$63,Q25,$H$59:$H$63)+SUMIF($D$69:$D$78,Q25,$H$69:$H$78)+SUMIF($D$83:$D$87,Q25,$H$83:$H$87)+SUMIF($D$93:$D$102,Q25,$H$93:$H$102)+SUMIF($D$107:$D$111,Q25,$H$107:$H$111)+SUMIF($D$117:$D$126,Q25,$H$117:$H$126)+SUMIF($D$131:$D$135,Q25,$H$131:$H$135)+SUMIF($D$141:$D$150,Q25,$H$141:$H$150)+SUMIF($D$155:$D$159,Q25,$H$155:$H$159)+SUMIF($D$165:$D$174,Q25,$H$165:$H$174)+SUMIF($D$179:$D$183,Q25,$H$179:$H$183) -> 0
I26: =IF(AND(B26<>"",C26<>"",D26<>"",E26<>"",F26<>"",G26<>"",H26<>""),VLOOKUP(G26,通所リハビリテーション費!$A$20:$B$24,2,0),0) -> 0 | J26: =(I26*H26)*0.1*10 -> 0 | R26: =COUNTIF($D$21:$D$30,Q26)+COUNTIF($D$35:$D$39,Q26)+COUNTIF($D$45:$D$54,Q26)+COUNTIF($D$59:$D$63,Q26)+COUNTIF($D$69:$D$78,Q26)+COUNTIF($D$83:$D$87,Q26)+COUNTIF($D$93:$D$102,Q26)+COUNTIF($D$107:$D$111,Q26)+COUNTIF($D$117:$D$126,Q26)+COUNTIF($D$131:$D$135,Q26)+COUNTIF($D$141:$D$150,Q26)+COUNTIF($D$155:$D$159,Q26)+COUNTIF($D$165:$D$174,Q26)+COUNTIF($D$179:$D$183,Q26) -> 0 | S26: =SUMIF($D$21:$D$30,Q26,$H$21:$H$30)+SUMIF($D$35:$D$39,Q26,$H$35:$H$39)+SUMIF($D$45:$D$54,Q26,$H$45:$H$54)+SUMIF($D$59:$D$63,Q26,$H$59:$H$63)+SUMIF($D$69:$D$78,Q26,$H$69:$H$78)+SUMIF($D$83:$D$87,Q26,$H$83:$H$87)+SUMIF($D$93:$D$102,Q26,$H$93:$H$102)+SUMIF($D$107:$D$111,Q26,$H$107:$H$111)+SUMIF($D$117:$D$126,Q26,$H$117:$H$126)+SUMIF($D$131:$D$135,Q26,$H$131:$H$135)+SUMIF($D$141:$D$150,Q26,$H$141:$H$150)+SUMIF($D$155:$D$159,Q26,$H$155:$H$159)+SUMIF($D$165:$D$174,Q26,$H$165:$H$174)+SUMIF($D$179:$D$183,Q26,$H$179:$H$183) -> 0
I27: =IF(AND(B27<>"",C27<>"",D27<>"",E27<>"",F27<>"",G27<>"",H27<>""),VLOOKUP(G27,通所リハビリテーション費!$A$20:$B$24,2,0),0) -> 0 | J27: =(I27*H27)*0.1*10 -> 0 | R27: =COUNTIF($D$21:$D$30,Q27)+COUNTIF($D$35:$D$39,Q27)+COUNTIF($D$45:$D$54,Q27)+COUNTIF($D$59:$D$63,Q27)+COUNTIF($D$69:$D$78,Q27)+COUNTIF($D$83:$D$87,Q27)+COUNTIF($D$93:$D$102,Q27)+COUNTIF($D$107:$D$111,Q27)+COUNTIF($D$117:$D$126,Q27)+COUNTIF($D$131:$D$135,Q27)+COUNTIF($D$141:$D$150,Q27)+COUNTIF($D$155:$D$159,Q27)+COUNTIF($D$165:$D$174,Q27)+COUNTIF($D$179:$D$183,Q27) -> 0 | S27: =SUMIF($D$21:$D$30,Q27,$H$21:$H$30)+SUMIF($D$35:$D$39,Q27,$H$35:$H$39)+SUMIF($D$45:$D$54,Q27,$H$45:$H$54)+SUMIF($D$59:$D$63,Q27,$H$59:$H$63)+SUMIF($D$69:$D$78,Q27,$H$69:$H$78)+SUMIF($D$83:$D$87,Q27,$H$83:$H$87)+SUMIF($D$93:$D$102,Q27,$H$93:$H$102)+SUMIF($D$107:$D$111,Q27,$H$107:$H$111)+SUMIF($D$117:$D$126,Q27,$H$117:$H$126)+SUMIF($D$131:$D$135,Q27,$H$131:$H$135)+SUMIF($D$141:$D$150,Q27,$H$141:$H$150)+SUMIF($D$155:$D$159,Q27,$H$155:$H$159)+SUMIF($D$165:$D$174,Q27,$H$165:$H$174)+SUMIF($D$179:$D$183,Q27,$H$179:$H$183) -> 0
I28: =IF(AND(B28<>"",C28<>"",D28<>"",E28<>"",F28<>"",G28<>"",H28<>""),VLOOKUP(G28,通所リハビリテーション費!$A$20:$B$24,2,0),0) -> 0 | J28: =(I28*H28)*0.1*10 -> 0 | R28: =COUNTIF($D$21:$D$30,Q28)+COUNTIF($D$35:$D$39,Q28)+COUNTIF($D$45:$D$54,Q28)+COUNTIF($D$59:$D$63,Q28)+COUNTIF($D$69:$D$78,Q28)+COUNTIF($D$83:$D$87,Q28)+COUNTIF($D$93:$D$102,Q28)+COUNTIF($D$107:$D$111,Q28)+COUNTIF($D$117:$D$126,Q28)+COUNTIF($D$131:$D$135,Q28)+COUNTIF($D$141:$D$150,Q28)+COUNTIF($D$155:$D$159,Q28)+COUNTIF($D$165:$D$174,Q28)+COUNTIF($D$179:$D$183,Q28) -> 0 | S28: =SUMIF($D$21:$D$30,Q28,$H$21:$H$30)+SUMIF($D$35:$D$39,Q28,$H$35:$H$39)+SUMIF($D$45:$D$54,Q28,$H$45:$H$54)+SUMIF($D$59:$D$63,Q28,$H$59:$H$63)+SUMIF($D$69:$D$78,Q28,$H$69:$H$78)+SUMIF($D$83:$D$87,Q28,$H$83:$H$87)+SUMIF($D$93:$D$102,Q28,$H$93:$H$102)+SUMIF($D$107:$D$111,Q28,$H$107:$H$111)+SUMIF($D$117:$D$126,Q28,$H$117:$H$126)+SUMIF($D$131:$D$135,Q28,$H$131:$H$135)+SUMIF($D$141:$D$150,Q28,$H$141:$H$150)+SUMIF($D$155:$D$159,Q28,$H$155:$H$159)+SUMIF($D$165:$D$174,Q28,$H$165:$H$174)+SUMIF($D$179:$D$183,Q28,$H$179:$H$183) -> 0
I29: =IF(AND(B29<>"",C29<>"",D29<>"",E29<>"",F29<>"",G29<>"",H29<>""),VLOOKUP(G29,通所リハビリテーション費!$A$20:$B$24,2,0),0) -> 0 | J29: =(I29*H29)*0.1*10 -> 0 | R29: =COUNTIF($D$21:$D$30,Q29)+COUNTIF($D$35:$D$39,Q29)+COUNTIF($D$45:$D$54,Q29)+COUNTIF($D$59:$D$63,Q29)+COUNTIF($D$69:$D$78,Q29)+COUNTIF($D$83:$D$87,Q29)+COUNTIF($D$93:$D$102,Q29)+COUNTIF($D$107:$D$111,Q29)+COUNTIF($D$117:$D$126,Q29)+COUNTIF($D$131:$D$135,Q29)+COUNTIF($D$141:$D$150,Q29)+COUNTIF($D$155:$D$159,Q29)+COUNTIF($D$165:$D$174,Q29)+COUNTIF($D$179:$D$183,Q29) -> 0 | S29: =SUMIF($D$21:$D$30,Q29,$H$21:$H$30)+SUMIF($D$35:$D$39,Q29,$H$35:$H$39)+SUMIF($D$45:$D$54,Q29,$H$45:$H$54)+SUMIF($D$59:$D$63,Q29,$H$59:$H$63)+SUMIF($D$69:$D$78,Q29,$H$69:$H$78)+SUMIF($D$83:$D$87,Q29,$H$83:$H$87)+SUMIF($D$93:$D$102,Q29,$H$93:$H$102)+SUMIF($D$107:$D$111,Q29,$H$107:$H$111)+SUMIF($D$117:$D$126,Q29,$H$117:$H$126)+SUMIF($D$131:$D$135,Q29,$H$131:$H$135)+SUMIF($D$141:$D$150,Q29,$H$141:$H$150)+SUMIF($D$155:$D$159,Q29,$H$155:$H$159)+SUMIF($D$165:$D$174,Q29,$H$165:$H$174)+SUMIF($D$179:$D$183,Q29,$H$179:$H$183) -> 0
I30: =IF(AND(B30<>"",C30<>"",D30<>"",E30<>"",F30<>"",G30<>"",H30<>""),VLOOKUP(G30,通所リハビリテーション費!$A$20:$B$24,2,0),0) -> 0 | J30: =(I30*H30)*0.1*10 -> 0 | R30: =COUNTIF($D$21:$D$30,Q30)+COUNTIF($D$35:$D$39,Q30)+COUNTIF($D$45:$D$54,Q30)+COUNTIF($D$59:$D$63,Q30)+COUNTIF($D$69:$D$78,Q30)+COUNTIF($D$83:$D$87,Q30)+COUNTIF($D$93:$D$102,Q30)+COUNTIF($D$107:$D$111,Q30)+COUNTIF($D$117:$D$126,Q30)+COUNTIF($D$131:$D$135,Q30)+COUNTIF($D$141:$D$150,Q30)+COUNTIF($D$155:$D$159,Q30)+COUNTIF($D$165:$D$174,Q30)+COUNTIF($D$179:$D$183,Q30) -> 0 | S30: =SUMIF($D$21:$D$30,Q30,$H$21:$H$30)+SUMIF($D$35:$D$39,Q30,$H$35:$H$39)+SUMIF($D$45:$D$54,Q30,$H$45:$H$54)+SUMIF($D$59:$D$63,Q30,$H$59:$H$63)+SUMIF($D$69:$D$78,Q30,$H$69:$H$78)+SUMIF($D$83:$D$87,Q30,$H$83:$H$87)+SUMIF($D$93:$D$102,Q30,$H$93:$H$102)+SUMIF($D$107:$D$111,Q30,$H$107:$H$111)+SUMIF($D$117:$D$126,Q30,$H$117:$H$126)+SUMIF($D$131:$D$135,Q30,$H$131:$H$135)+SUMIF($D$141:$D$150,Q30,$H$141:$H$150)+SUMIF($D$155:$D$159,Q30,$H$155:$H$159)+SUMIF($D$165:$D$174,Q30,$H$165:$H$174)+SUMIF($D$179:$D$183,Q30,$H$179:$H$183) -> 0
A31: 合計 | H31: =SUMIF(H21:H30,"<>#N/A") -> 0 | I31: =SUMIF(I21:I30,"<>#N/A") -> 0 | J31: =SUMIF(J21:J30,"<>#N/A") -> 0 | R31: =COUNTIF($D$21:$D$30,Q31)+COUNTIF($D$35:$D$39,Q31)+COUNTIF($D$45:$D$54,Q31)+COUNTIF($D$59:$D$63,Q31)+COUNTIF($D$69:$D$78,Q31)+COUNTIF($D$83:$D$87,Q31)+COUNTIF($D$93:$D$102,Q31)+COUNTIF($D$107:$D$111,Q31)+COUNTIF($D$117:$D$126,Q31)+COUNTIF($D$131:$D$135,Q31)+COUNTIF($D$141:$D$150,Q31)+COUNTIF($D$155:$D$159,Q31)+COUNTIF($D$165:$D$174,Q31)+COUNTIF($D$179:$D$183,Q31) -> 0 | S31: =SUMIF($D$21:$D$30,Q31,$H$21:$H$30)+SUMIF($D$35:$D$39,Q31,$H$35:$H$39)+SUMIF($D$45:$D$54,Q31,$H$45:$H$54)+SUMIF($D$59:$D$63,Q31,$H$59:$H$63)+SUMIF($D$69:$D$78,Q31,$H$69:$H$78)+SUMIF($D$83:$D$87,Q31,$H$83:$H$87)+SUMIF($D$93:$D$102,Q31,$H$93:$H$102)+SUMIF($D$107:$D$111,Q31,$H$107:$H$111)+SUMIF($D$117:$D$126,Q31,$H$117:$H$126)+SUMIF($D$131:$D$135,Q31,$H$131:$H$135)+SUMIF($D$141:$D$150,Q31,$H$141:$H$150)+SUMIF($D$155:$D$159,Q31,$H$155:$H$159)+SUMIF($D$165:$D$174,Q31,$H$165:$H$174)+SUMIF($D$179:$D$183,Q31,$H$179:$H$183) -> 0
R32: =COUNTIF($D$21:$D$30,Q32)+COUNTIF($D$35:$D$39,Q32)+COUNTIF($D$45:$D$54,Q32)+COUNTIF($D$59:$D$63,Q32)+COUNTIF($D$69:$D$78,Q32)+COUNTIF($D$83:$D$87,Q32)+COUNTIF($D$93:$D$102,Q32)+COUNTIF($D$107:$D$111,Q32)+COUNTIF($D$117:$D$126,Q32)+COUNTIF($D$131:$D$135,Q32)+COUNTIF($D$141:$D$150,Q32)+COUNTIF($D$155:$D$159,Q32)+COUNTIF($D$165:$D$174,Q32)+COUNTIF($D$179:$D$183,Q32) -> 0 | S32: =SUMIF($D$21:$D$30,Q32,$H$21:$H$30)+SUMIF($D$35:$D$39,Q32,$H$35:$H$39)+SUMIF($D$45:$D$54,Q32,$H$45:$H$54)+SUMIF($D$59:$D$63,Q32,$H$59:$H$63)+SUMIF($D$69:$D$78,Q32,$H$69:$H$78)+SUMIF($D$83:$D$87,Q32,$H$83:$H$87)+SUMIF($D$93:$D$102,Q32,$H$93:$H$102)+SUMIF($D$107:$D$111,Q32,$H$107:$H$111)+SUMIF($D$117:$D$126,Q32,$H$117:$H$126)+SUMIF($D$131:$D$135,Q32,$H$131:$H$135)+SUMIF($D$141:$D$150,Q32,$H$141:$H$150)+SUMIF($D$155:$D$159,Q32,$H$155:$H$159)+SUMIF($D$165:$D$174,Q32,$H$165:$H$174)+SUMIF($D$179:$D$183,Q32,$H$179:$H$183) -> 0
A33: ※片道のみ送迎を行った場合 | R33: =COUNTIF($D$21:$D$30,Q33)+COUNTIF($D$35:$D$39,Q33)+COUNTIF($D$45:$D$54,Q33)+COUNTIF($D$59:$D$63,Q33)+COUNTIF($D$69:$D$78,Q33)+COUNTIF($D$83:$D$87,Q33)+COUNTIF($D$93:$D$102,Q33)+COUNTIF($D$107:$D$111,Q33)+COUNTIF($D$117:$D$126,Q33)+COUNTIF($D$131:$D$135,Q33)+COUNTIF($D$141:$D$150,Q33)+COUNTIF($D$155:$D$159,Q33)+COUNTIF($D$165:$D$174,Q33)+COUNTIF($D$179:$D$183,Q33) -> 0 | S33: =SUMIF($D$21:$D$30,Q33,$H$21:$H$30)+SUMIF($D$35:$D$39,Q33,$H$35:$H$39)+SUMIF($D$45:$D$54,Q33,$H$45:$H$54)+SUMIF($D$59:$D$63,Q33,$H$59:$H$63)+SUMIF($D$69:$D$78,Q33,$H$69:$H$78)+SUMIF($D$83:$D$87,Q33,$H$83:$H$87)+SUMIF($D$93:$D$102,Q33,$H$93:$H$102)+SUMIF($D$107:$D$111,Q33,$H$107:$H$111)+SUMIF($D$117:$D$126,Q33,$H$117:$H$126)+SUMIF($D$131:$D$135,Q33,$H$131:$H$135)+SUMIF($D$141:$D$150,Q33,$H$141:$H$150)+SUMIF($D$155:$D$159,Q33,$H$155:$H$159)+SUMIF($D$165:$D$174,Q33,$H$165:$H$174)+SUMIF($D$179:$D$183,Q33,$H$179:$H$183) -> 0
A34: 所要時間1時間以上2時間未満の場合 | B34: 被保険者番号 | C34: 被保険者氏名 | D34: 地区名 | E34: 事業所から 利用者宅までの 距離（km） | F34: 事業所から 利用者宅までの 所要時間（分） | G34: 要介護度 | H34: サービス 提供回数 ※片道のみ | I34: 基本報酬 （月単位数） | J34: 基準額(月) | R34: =COUNTIF($D$21:$D$30,Q34)+COUNTIF($D$35:$D$39,Q34)+COUNTIF($D$45:$D$54,Q34)+COUNTIF($D$59:$D$63,Q34)+COUNTIF($D$69:$D$78,Q34)+COUNTIF($D$83:$D$87,Q34)+COUNTIF($D$93:$D$102,Q34)+COUNTIF($D$107:$D$111,Q34)+COUNTIF($D$117:$D$126,Q34)+COUNTIF($D$131:$D$135,Q34)+COUNTIF($D$141:$D$150,Q34)+COUNTIF($D$155:$D$159,Q34)+COUNTIF($D$165:$D$174,Q34)+COUNTIF($D$179:$D$183,Q34) -> 0 | S34: =SUMIF($D$21:$D$30,Q34,$H$21:$H$30)+SUMIF($D$35:$D$39,Q34,$H$35:$H$39)+SUMIF($D$45:$D$54,Q34,$H$45:$H$54)+SUMIF($D$59:$D$63,Q34,$H$59:$H$63)+SUMIF($D$69:$D$78,Q34,$H$69:$H$78)+SUMIF($D$83:$D$87,Q34,$H$83:$H$87)+SUMIF($D$93:$D$102,Q34,$H$93:$H$102)+SUMIF($D$107:$D$111,Q34,$H$107:$H$111)+SUMIF($D$117:$D$126,Q34,$H$117:$H$126)+SUMIF($D$131:$D$135,Q34,$H$131:$H$135)+SUMIF($D$141:$D$150,Q34,$H$141:$H$150)+SUMIF($D$155:$D$159,Q34,$H$155:$H$159)+SUMIF($D$165:$D$174,Q34,$H$165:$H$174)+SUMIF($D$179:$D$183,Q34,$H$179:$H$183) -> 0
I35: =IF(AND(B35<>"",C35<>"",D35<>"",E35<>"",F35<>"",G35<>"",H35<>""),VLOOKUP(G35,通所リハビリテーション費!$A$20:$B$24,2,0),0) -> 0 | J35: =((I35*H35)*0.1*10)/2 -> 0 | R35: =COUNTIF($D$21:$D$30,Q35)+COUNTIF($D$35:$D$39,Q35)+COUNTIF($D$45:$D$54,Q35)+COUNTIF($D$59:$D$63,Q35)+COUNTIF($D$69:$D$78,Q35)+COUNTIF($D$83:$D$87,Q35)+COUNTIF($D$93:$D$102,Q35)+COUNTIF($D$107:$D$111,Q35)+COUNTIF($D$117:$D$126,Q35)+COUNTIF($D$131:$D$135,Q35)+COUNTIF($D$141:$D$150,Q35)+COUNTIF($D$155:$D$159,Q35)+COUNTIF($D$165:$D$174,Q35)+COUNTIF($D$179:$D$183,Q35) -> 0 | S35: =SUMIF($D$21:$D$30,Q35,$H$21:$H$30)+SUMIF($D$35:$D$39,Q35,$H$35:$H$39)+SUMIF($D$45:$D$54,Q35,$H$45:$H$54)+SUMIF($D$59:$D$63,Q35,$H$59:$H$63)+SUMIF($D$69:$D$78,Q35,$H$69:$H$78)+SUMIF($D$83:$D$87,Q35,$H$83:$H$87)+SUMIF($D$93:$D$102,Q35,$H$93:$H$102)+SUMIF($D$107:$D$111,Q35,$H$107:$H$111)+SUMIF($D$117:$D$126,Q35,$H$117:$H$126)+SUMIF($D$131:$D$135,Q35,$H$131:$H$135)+SUMIF($D$141:$D$150,Q35,$H$141:$H$150)+SUMIF($D$155:$D$159,Q35,$H$155:$H$159)+SUMIF($D$165:$D$174,Q35,$H$165:$H$174)+SUMIF($D$179:$D$183,Q35,$H$179:$H$183) -> 0
I36: =IF(AND(B36<>"",C36<>"",D36<>"",E36<>"",F36<>"",G36<>"",H36<>""),VLOOKUP(G36,通所リハビリテーション費!$A$20:$B$24,2,0),0) -> 0 | J36: =((I36*H36)*0.1*10)/2 -> 0 | R36: =COUNTIF($D$21:$D$30,Q36)+COUNTIF($D$35:$D$39,Q36)+COUNTIF($D$45:$D$54,Q36)+COUNTIF($D$59:$D$63,Q36)+COUNTIF($D$69:$D$78,Q36)+COUNTIF($D$83:$D$87,Q36)+COUNTIF($D$93:$D$102,Q36)+COUNTIF($D$107:$D$111,Q36)+COUNTIF($D$117:$D$126,Q36)+COUNTIF($D$131:$D$135,Q36)+COUNTIF($D$141:$D$150,Q36)+COUNTIF($D$155:$D$159,Q36)+COUNTIF($D$165:$D$174,Q36)+COUNTIF($D$179:$D$183,Q36) -> 0 | S36: =SUMIF($D$21:$D$30,Q36,$H$21:$H$30)+SUMIF($D$35:$D$39,Q36,$H$35:$H$39)+SUMIF($D$45:$D$54,Q36,$H$45:$H$54)+SUMIF($D$59:$D$63,Q36,$H$59:$H$63)+SUMIF($D$69:$D$78,Q36,$H$69:$H$78)+SUMIF($D$83:$D$87,Q36,$H$83:$H$87)+SUMIF($D$93:$D$102,Q36,$H$93:$H$102)+SUMIF($D$107:$D$111,Q36,$H$107:$H$111)+SUMIF($D$117:$D$126,Q36,$H$117:$H$126)+SUMIF($D$131:$D$135,Q36,$H$131:$H$135)+SUMIF($D$141:$D$150,Q36,$H$141:$H$150)+SUMIF($D$155:$D$159,Q36,$H$155:$H$159)+SUMIF($D$165:$D$174,Q36,$H$165:$H$174)+SUMIF($D$179:$D$183,Q36,$H$179:$H$183) -> 0
I37: =IF(AND(B37<>"",C37<>"",D37<>"",E37<>"",F37<>"",G37<>"",H37<>""),VLOOKUP(G37,通所リハビリテーション費!$A$20:$B$24,2,0),0) -> 0 | J37: =((I37*H37)*0.1*10)/2 -> 0 | R37: =COUNTIF($D$21:$D$30,Q37)+COUNTIF($D$35:$D$39,Q37)+COUNTIF($D$45:$D$54,Q37)+COUNTIF($D$59:$D$63,Q37)+COUNTIF($D$69:$D$78,Q37)+COUNTIF($D$83:$D$87,Q37)+COUNTIF($D$93:$D$102,Q37)+COUNTIF($D$107:$D$111,Q37)+COUNTIF($D$117:$D$126,Q37)+COUNTIF($D$131:$D$135,Q37)+COUNTIF($D$141:$D$150,Q37)+COUNTIF($D$155:$D$159,Q37)+COUNTIF($D$165:$D$174,Q37)+COUNTIF($D$179:$D$183,Q37) -> 0 | S37: =SUMIF($D$21:$D$30,Q37,$H$21:$H$30)+SUMIF($D$35:$D$39,Q37,$H$35:$H$39)+SUMIF($D$45:$D$54,Q37,$H$45:$H$54)+SUMIF($D$59:$D$63,Q37,$H$59:$H$63)+SUMIF($D$69:$D$78,Q37,$H$69:$H$78)+SUMIF($D$83:$D$87,Q37,$H$83:$H$87)+SUMIF($D$93:$D$102,Q37,$H$93:$H$102)+SUMIF($D$107:$D$111,Q37,$H$107:$H$111)+SUMIF($D$117:$D$126,Q37,$H$117:$H$126)+SUMIF($D$131:$D$135,Q37,$H$131:$H$135)+SUMIF($D$141:$D$150,Q37,$H$141:$H$150)+SUMIF($D$155:$D$159,Q37,$H$155:$H$159)+SUMIF($D$165:$D$174,Q37,$H$165:$H$174)+SUMIF($D$179:$D$183,Q37,$H$179:$H$183) -> 0
I38: =IF(AND(B38<>"",C38<>"",D38<>"",E38<>"",F38<>"",G38<>"",H38<>""),VLOOKUP(G38,通所リハビリテーション費!$A$20:$B$24,2,0),0) -> 0 | J38: =((I38*H38)*0.1*10)/2 -> 0 | R38: =COUNTIF($D$21:$D$30,Q38)+COUNTIF($D$35:$D$39,Q38)+COUNTIF($D$45:$D$54,Q38)+COUNTIF($D$59:$D$63,Q38)+COUNTIF($D$69:$D$78,Q38)+COUNTIF($D$83:$D$87,Q38)+COUNTIF($D$93:$D$102,Q38)+COUNTIF($D$107:$D$111,Q38)+COUNTIF($D$117:$D$126,Q38)+COUNTIF($D$131:$D$135,Q38)+COUNTIF($D$141:$D$150,Q38)+COUNTIF($D$155:$D$159,Q38)+COUNTIF($D$165:$D$174,Q38)+COUNTIF($D$179:$D$183,Q38) -> 0 | S38: =SUMIF($D$21:$D$30,Q38,$H$21:$H$30)+SUMIF($D$35:$D$39,Q38,$H$35:$H$39)+SUMIF($D$45:$D$54,Q38,$H$45:$H$54)+SUMIF($D$59:$D$63,Q38,$H$59:$H$63)+SUMIF($D$69:$D$78,Q38,$H$69:$H$78)+SUMIF($D$83:$D$87,Q38,$H$83:$H$87)+SUMIF($D$93:$D$102,Q38,$H$93:$H$102)+SUMIF($D$107:$D$111,Q38,$H$107:$H$111)+SUMIF($D$117:$D$126,Q38,$H$117:$H$126)+SUMIF($D$131:$D$135,Q38,$H$131:$H$135)+SUMIF($D$141:$D$150,Q38,$H$141:$H$150)+SUMIF($D$155:$D$159,Q38,$H$155:$H$159)+SUMIF($D$165:$D$174,Q38,$H$165:$H$174)+SUMIF($D$179:$D$183,Q38,$H$179:$H$183) -> 0
I39: =IF(AND(B39<>"",C39<>"",D39<>"",E39<>"",F39<>"",G39<>"",H39<>""),VLOOKUP(G39,通所リハビリテーション費!$A$20:$B$24,2,0),0) -> 0 | J39: =((I39*H39)*0.1*10)/2 -> 0 | R39: =COUNTIF($D$21:$D$30,Q39)+COUNTIF($D$35:$D$39,Q39)+COUNTIF($D$45:$D$54,Q39)+COUNTIF($D$59:$D$63,Q39)+COUNTIF($D$69:$D$78,Q39)+COUNTIF($D$83:$D$87,Q39)+COUNTIF($D$93:$D$102,Q39)+COUNTIF($D$107:$D$111,Q39)+COUNTIF($D$117:$D$126,Q39)+COUNTIF($D$131:$D$135,Q39)+COUNTIF($D$141:$D$150,Q39)+COUNTIF($D$155:$D$159,Q39)+COUNTIF($D$165:$D$174,Q39)+COUNTIF($D$179:$D$183,Q39) -> 0 | S39: =SUMIF($D$21:$D$30,Q39,$H$21:$H$30)+SUMIF($D$35:$D$39,Q39,$H$35:$H$39)+SUMIF($D$45:$D$54,Q39,$H$45:$H$54)+SUMIF($D$59:$D$63,Q39,$H$59:$H$63)+SUMIF($D$69:$D$78,Q39,$H$69:$H$78)+SUMIF($D$83:$D$87,Q39,$H$83:$H$87)+SUMIF($D$93:$D$102,Q39,$H$93:$H$102)+SUMIF($D$107:$D$111,Q39,$H$107:$H$111)+SUMIF($D$117:$D$126,Q39,$H$117:$H$126)+SUMIF($D$131:$D$135,Q39,$H$131:$H$135)+SUMIF($D$141:$D$150,Q39,$H$141:$H$150)+SUMIF($D$155:$D$159,Q39,$H$155:$H$159)+SUMIF($D$165:$D$174,Q39,$H$165:$H$174)+SUMIF($D$179:$D$183,Q39,$H$179:$H$183) -> 0
A40: 合計 | H40: =SUMIF(H35:H39,"<>#N/A") -> 0 | I40: =SUMIF(I35:I39,"<>#N/A") -> 0 | J40: =SUMIF(J35:J39,"<>#N/A") -> 0 | R40: =COUNTIF($D$21:$D$30,Q40)+COUNTIF($D$35:$D$39,Q40)+COUNTIF($D$45:$D$54,Q40)+COUNTIF($D$59:$D$63,Q40)+COUNTIF($D$69:$D$78,Q40)+COUNTIF($D$83:$D$87,Q40)+COUNTIF($D$93:$D$102,Q40)+COUNTIF($D$107:$D$111,Q40)+COUNTIF($D$117:$D$126,Q40)+COUNTIF($D$131:$D$135,Q40)+COUNTIF($D$141:$D$150,Q40)+COUNTIF($D$155:$D$159,Q40)+COUNTIF($D$165:$D$174,Q40)+COUNTIF($D$179:$D$183,Q40) -> 0 | S40: =SUMIF($D$21:$D$30,Q40,$H$21:$H$30)+SUMIF($D$35:$D$39,Q40,$H$35:$H$39)+SUMIF($D$45:$D$54,Q40,$H$45:$H$54)+SUMIF($D$59:$D$63,Q40,$H$59:$H$63)+SUMIF($D$69:$D$78,Q40,$H$69:$H$78)+SUMIF($D$83:$D$87,Q40,$H$83:$H$87)+SUMIF($D$93:$D$102,Q40,$H$93:$H$102)+SUMIF($D$107:$D$111,Q40,$H$107:$H$111)+SUMIF($D$117:$D$126,Q40,$H$117:$H$126)+SUMIF($D$131:$D$135,Q40,$H$131:$H$135)+SUMIF($D$141:$D$150,Q40,$H$141:$H$150)+SUMIF($D$155:$D$159,Q40,$H$155:$H$159)+SUMIF($D$165:$D$174,Q40,$H$165:$H$174)+SUMIF($D$179:$D$183,Q40,$H$179:$H$183) -> 0
R41: =COUNTIF($D$21:$D$30,Q41)+COUNTIF($D$35:$D$39,Q41)+COUNTIF($D$45:$D$54,Q41)+COUNTIF($D$59:$D$63,Q41)+COUNTIF($D$69:$D$78,Q41)+COUNTIF($D$83:$D$87,Q41)+COUNTIF($D$93:$D$102,Q41)+COUNTIF($D$107:$D$111,Q41)+COUNTIF($D$117:$D$126,Q41)+COUNTIF($D$131:$D$135,Q41)+COUNTIF($D$141:$D$150,Q41)+COUNTIF($D$155:$D$159,Q41)+COUNTIF($D$165:$D$174,Q41)+COUNTIF($D$179:$D$183,Q41) -> 0 | S41: =SUMIF($D$21:$D$30,Q41,$H$21:$H$30)+SUMIF($D$35:$D$39,Q41,$H$35:$H$39)+SUMIF($D$45:$D$54,Q41,$H$45:$H$54)+SUMIF($D$59:$D$63,Q41,$H$59:$H$63)+SUMIF($D$69:$D$78,Q41,$H$69:$H$78)+SUMIF($D$83:$D$87,Q41,$H$83:$H$87)+SUMIF($D$93:$D$102,Q41,$H$93:$H$102)+SUMIF($D$107:$D$111,Q41,$H$107:$H$111)+SUMIF($D$117:$D$126,Q41,$H$117:$H$126)+SUMIF($D$131:$D$135,Q41,$H$131:$H$135)+SUMIF($D$141:$D$150,Q41,$H$141:$H$150)+SUMIF($D$155:$D$159,Q41,$H$155:$H$159)+SUMIF($D$165:$D$174,Q41,$H$165:$H$174)+SUMIF($D$179:$D$183,Q41,$H$179:$H$183) -> 0
A42: （2）所要時間2時間以上3時間未満の場合 | R42: =COUNTIF($D$21:$D$30,Q42)+COUNTIF($D$35:$D$39,Q42)+COUNTIF($D$45:$D$54,Q42)+COUNTIF($D$59:$D$63,Q42)+COUNTIF($D$69:$D$78,Q42)+COUNTIF($D$83:$D$87,Q42)+COUNTIF($D$93:$D$102,Q42)+COUNTIF($D$107:$D$111,Q42)+COUNTIF($D$117:$D$126,Q42)+COUNTIF($D$131:$D$135,Q42)+COUNTIF($D$141:$D$150,Q42)+COUNTIF($D$155:$D$159,Q42)+COUNTIF($D$165:$D$174,Q42)+COUNTIF($D$179:$D$183,Q42) -> 0 | S42: =SUMIF($D$21:$D$30,Q42,$H$21:$H$30)+SUMIF($D$35:$D$39,Q42,$H$35:$H$39)+SUMIF($D$45:$D$54,Q42,$H$45:$H$54)+SUMIF($D$59:$D$63,Q42,$H$59:$H$63)+SUMIF($D$69:$D$78,Q42,$H$69:$H$78)+SUMIF($D$83:$D$87,Q42,$H$83:$H$87)+SUMIF($D$93:$D$102,Q42,$H$93:$H$102)+SUMIF($D$107:$D$111,Q42,$H$107:$H$111)+SUMIF($D$117:$D$126,Q42,$H$117:$H$126)+SUMIF($D$131:$D$135,Q42,$H$131:$H$135)+SUMIF($D$141:$D$150,Q42,$H$141:$H$150)+SUMIF($D$155:$D$159,Q42,$H$155:$H$159)+SUMIF($D$165:$D$174,Q42,$H$165:$H$174)+SUMIF($D$179:$D$183,Q42,$H$179:$H$183) -> 0
A43: ※往復の送迎を行った場合 （片道のみ送迎を行った場合は下記別表に入力すること） | R43: =COUNTIF($D$21:$D$30,Q43)+COUNTIF($D$35:$D$39,Q43)+COUNTIF($D$45:$D$54,Q43)+COUNTIF($D$59:$D$63,Q43)+COUNTIF($D$69:$D$78,Q43)+COUNTIF($D$83:$D$87,Q43)+COUNTIF($D$93:$D$102,Q43)+COUNTIF($D$107:$D$111,Q43)+COUNTIF($D$117:$D$126,Q43)+COUNTIF($D$131:$D$135,Q43)+COUNTIF($D$141:$D$150,Q43)+COUNTIF($D$155:$D$159,Q43)+COUNTIF($D$165:$D$174,Q43)+COUNTIF($D$179:$D$183,Q43) -> 0 | S43: =SUMIF($D$21:$D$30,Q43,$H$21:$H$30)+SUMIF($D$35:$D$39,Q43,$H$35:$H$39)+SUMIF($D$45:$D$54,Q43,$H$45:$H$54)+SUMIF($D$59:$D$63,Q43,$H$59:$H$63)+SUMIF($D$69:$D$78,Q43,$H$69:$H$78)+SUMIF($D$83:$D$87,Q43,$H$83:$H$87)+SUMIF($D$93:$D$102,Q43,$H$93:$H$102)+SUMIF($D$107:$D$111,Q43,$H$107:$H$111)+SUMIF($D$117:$D$126,Q43,$H$117:$H$126)+SUMIF($D$131:$D$135,Q43,$H$131:$H$135)+SUMIF($D$141:$D$150,Q43,$H$141:$H$150)+SUMIF($D$155:$D$159,Q43,$H$155:$H$159)+SUMIF($D$165:$D$174,Q43,$H$165:$H$174)+SUMIF($D$179:$D$183,Q43,$H$179:$H$183) -> 0
A44: 所要時間2時間以上3時間未満の場合 | B44: 被保険者番号 | C44: 被保険者氏名 | D44: 地区名 | E44: 事業所から 利用者宅までの 距離（km） | F44: 事業所から 利用者宅までの 所要時間（分） | G44: 要介護度 | H44: サービス 提供回数 | I44: 基本報酬 （月単位数） | J44: 基準額(月) | R44: =COUNTIF($D$21:$D$30,Q44)+COUNTIF($D$35:$D$39,Q44)+COUNTIF($D$45:$D$54,Q44)+COUNTIF($D$59:$D$63,Q44)+COUNTIF($D$69:$D$78,Q44)+COUNTIF($D$83:$D$87,Q44)+COUNTIF($D$93:$D$102,Q44)+COUNTIF($D$107:$D$111,Q44)+COUNTIF($D$117:$D$126,Q44)+COUNTIF($D$131:$D$135,Q44)+COUNTIF($D$141:$D$150,Q44)+COUNTIF($D$155:$D$159,Q44)+COUNTIF($D$165:$D$174,Q44)+COUNTIF($D$179:$D$183,Q44) -> 0 | S44: =SUMIF($D$21:$D$30,Q44,$H$21:$H$30)+SUMIF($D$35:$D$39,Q44,$H$35:$H$39)+SUMIF($D$45:$D$54,Q44,$H$45:$H$54)+SUMIF($D$59:$D$63,Q44,$H$59:$H$63)+SUMIF($D$69:$D$78,Q44,$H$69:$H$78)+SUMIF($D$83:$D$87,Q44,$H$83:$H$87)+SUMIF($D$93:$D$102,Q44,$H$93:$H$102)+SUMIF($D$107:$D$111,Q44,$H$107:$H$111)+SUMIF($D$117:$D$126,Q44,$H$117:$H$126)+SUMIF($D$131:$D$135,Q44,$H$131:$H$135)+SUMIF($D$141:$D$150,Q44,$H$141:$H$150)+SUMIF($D$155:$D$159,Q44,$H$155:$H$159)+SUMIF($D$165:$D$174,Q44,$H$165:$H$174)+SUMIF($D$179:$D$183,Q44,$H$179:$H$183) -> 0
I45: =IF(AND(B45<>"",C45<>"",D45<>"",E45<>"",F45<>"",G45<>"",H45<>""),VLOOKUP(G45,通所リハビリテーション費!$A$27:$B$31,2,0),0) -> 0 | J45: =(I45*H45)*0.1*10 -> 0 | R45: =COUNTIF($D$21:$D$30,Q45)+COUNTIF($D$35:$D$39,Q45)+COUNTIF($D$45:$D$54,Q45)+COUNTIF($D$59:$D$63,Q45)+COUNTIF($D$69:$D$78,Q45)+COUNTIF($D$83:$D$87,Q45)+COUNTIF($D$93:$D$102,Q45)+COUNTIF($D$107:$D$111,Q45)+COUNTIF($D$117:$D$126,Q45)+COUNTIF($D$131:$D$135,Q45)+COUNTIF($D$141:$D$150,Q45)+COUNTIF($D$155:$D$159,Q45)+COUNTIF($D$165:$D$174,Q45)+COUNTIF($D$179:$D$183,Q45) -> 0 | S45: =SUMIF($D$21:$D$30,Q45,$H$21:$H$30)+SUMIF($D$35:$D$39,Q45,$H$35:$H$39)+SUMIF($D$45:$D$54,Q45,$H$45:$H$54)+SUMIF($D$59:$D$63,Q45,$H$59:$H$63)+SUMIF($D$69:$D$78,Q45,$H$69:$H$78)+SUMIF($D$83:$D$87,Q45,$H$83:$H$87)+SUMIF($D$93:$D$102,Q45,$H$93:$H$102)+SUMIF($D$107:$D$111,Q45,$H$107:$H$111)+SUMIF($D$117:$D$126,Q45,$H$117:$H$126)+SUMIF($D$131:$D$135,Q45,$H$131:$H$135)+SUMIF($D$141:$D$150,Q45,$H$141:$H$150)+SUMIF($D$155:$D$159,Q45,$H$155:$H$159)+SUMIF($D$165:$D$174,Q45,$H$165:$H$174)+SUMIF($D$179:$D$183,Q45,$H$179:$H$183) -> 0
I46: =IF(AND(B46<>"",C46<>"",D46<>"",E46<>"",F46<>"",G46<>"",H46<>""),VLOOKUP(G46,通所リハビリテーション費!$A$27:$B$31,2,0),0) -> 0 | J46: =(I46*H46)*0.1*10 -> 0 | R46: =SUM(R3:R45) -> 0 | S46: =SUM(S3:S45) -> 0
I47: =IF(AND(B47<>"",C47<>"",D47<>"",E47<>"",F47<>"",G47<>"",H47<>""),VLOOKUP(G47,通所リハビリテーション費!$A$27:$B$31,2,0),0) -> 0 | J47: =(I47*H47)*0.1*10 -> 0
I48: =IF(AND(B48<>"",C48<>"",D48<>"",E48<>"",F48<>"",G48<>"",H48<>""),VLOOKUP(G48,通所リハビリテーション費!$A$27:$B$31,2,0),0) -> 0 | J48: =(I48*H48)*0.1*10 -> 0
I49: =IF(AND(B49<>"",C49<>"",D49<>"",E49<>"",F49<>"",G49<>"",H49<>""),VLOOKUP(G49,通所リハビリテーション費!$A$27:$B$31,2,0),0) -> 0 | J49: =(I49*H49)*0.1*10 -> 0
I50: =IF(AND(B50<>"",C50<>"",D50<>"",E50<>"",F50<>"",G50<>"",H50<>""),VLOOKUP(G50,通所リハビリテーション費!$A$27:$B$31,2,0),0) -> 0 | J50: =(I50*H50)*0.1*10 -> 0
I51: =IF(AND(B51<>"",C51<>"",D51<>"",E51<>"",F51<>"",G51<>"",H51<>""),VLOOKUP(G51,通所リハビリテーション費!$A$27:$B$31,2,0),0) -> 0 | J51: =(I51*H51)*0.1*10 -> 0
I52: =IF(AND(B52<>"",C52<>"",D52<>"",E52<>"",F52<>"",G52<>"",H52<>""),VLOOKUP(G52,通所リハビリテーション費!$A$27:$B$31,2,0),0) -> 0 | J52: =(I52*H52)*0.1*10 -> 0
I53: =IF(AND(B53<>"",C53<>"",D53<>"",E53<>"",F53<>"",G53<>"",H53<>""),VLOOKUP(G53,通所リハビリテーション費!$A$27:$B$31,2,0),0) -> 0 | J53: =(I53*H53)*0.1*10 -> 0
I54: =IF(AND(B54<>"",C54<>"",D54<>"",E54<>"",F54<>"",G54<>"",H54<>""),VLOOKUP(G54,通所リハビリテーション費!$A$27:$B$31,2,0),0) -> 0 | J54: =(I54*H54)*0.1*10 -> 0
A55: 合計 | H55: =SUMIF(H45:H54,"<>#N/A") -> 0 | I55: =SUMIF(I45:I54,"<>#N/A") -> 0 | J55: =SUMIF(J45:J54,"<>#N/A") -> 0
A57: ※片道のみ送迎を行った場合
A58: 所要時間2時間以上3時間未満の場合 | B58: 被保険者番号 | C58: 被保険者氏名 | D58: 地区名 | E58: 事業所から 利用者宅までの 距離（km） | F58: 事業所から 利用者宅までの 所要時間（分） | G58: 要介護度 | H58: サービス 提供回数 ※片道のみ | I58: 基本報酬 （月単位数） | J58: 基準額(月)
I59: =IF(AND(B59<>"",C59<>"",D59<>"",E59<>"",F59<>"",G59<>"",H59<>""),VLOOKUP(G59,通所リハビリテーション費!$A$27:$B$31,2,0),0) -> 0 | J59: =((I59*H59)*0.1*10)/2 -> 0
I60: =IF(AND(B60<>"",C60<>"",D60<>"",E60<>"",F60<>"",G60<>"",H60<>""),VLOOKUP(G60,通所リハビリテーション費!$A$27:$B$31,2,0),0) -> 0 | J60: =((I60*H60)*0.1*10)/2 -> 0
I61: =IF(AND(B61<>"",C61<>"",D61<>"",E61<>"",F61<>"",G61<>"",H61<>""),VLOOKUP(G61,通所リハビリテーション費!$A$27:$B$31,2,0),0) -> 0 | J61: =((I61*H61)*0.1*10)/2 -> 0
I62: =IF(AND(B62<>"",C62<>"",D62<>"",E62<>"",F62<>"",G62<>"",H62<>""),VLOOKUP(G62,通所リハビリテーション費!$A$27:$B$31,2,0),0) -> 0 | J62: =((I62*H62)*0.1*10)/2 -> 0
I63: =IF(AND(B63<>"",C63<>"",D63<>"",E63<>"",F63<>"",G63<>"",H63<>""),VLOOKUP(G63,通所リハビリテーション費!$A$27:$B$31,2,0),0) -> 0 | J63: =((I63*H63)*0.1*10)/2 -> 0
A64: 合計 | H64: =SUMIF(H59:H63,"<>#N/A") -> 0 | I64: =SUMIF(I59:I63,"<>#N/A") -> 0 | J64: =SUMIF(J59:J63,"<>#N/A") -> 0
A66: （3）所要時間3時間以上4時間未満の場合
A67: ※往復の送迎を行った場合 （片道のみ送迎を行った場合は下記別表に入力すること）
A68: 所要時間3時間以上4時間未満の場合 | B68: 被保険者番号 | C68: 被保険者氏名 | D68: 地区名 | E68: 事業所から 利用者宅までの 距離（km） | F68: 事業所から 利用者宅までの 所要時間（分） | G68: 要介護度 | H68: サービス 提供回数 | I68: 基本報酬 （月単位数） | J68: 基準額(月)
I69: =IF(AND(B69<>"",C69<>"",D69<>"",E69<>"",F69<>"",G69<>"",H69<>""),VLOOKUP(G69,通所リハビリテーション費!$A$34:$B$38,2,0),0) -> 0 | J69: =(I69*H69)*0.1*10 -> 0
I70: =IF(AND(B70<>"",C70<>"",D70<>"",E70<>"",F70<>"",G70<>"",H70<>""),VLOOKUP(G70,通所リハビリテーション費!$A$34:$B$38,2,0),0) -> 0 | J70: =(I70*H70)*0.1*10 -> 0
I71: =IF(AND(B71<>"",C71<>"",D71<>"",E71<>"",F71<>"",G71<>"",H71<>""),VLOOKUP(G71,通所リハビリテーション費!$A$34:$B$38,2,0),0) -> 0 | J71: =(I71*H71)*0.1*10 -> 0
I72: =IF(AND(B72<>"",C72<>"",D72<>"",E72<>"",F72<>"",G72<>"",H72<>""),VLOOKUP(G72,通所リハビリテーション費!$A$34:$B$38,2,0),0) -> 0 | J72: =(I72*H72)*0.1*10 -> 0
I73: =IF(AND(B73<>"",C73<>"",D73<>"",E73<>"",F73<>"",G73<>"",H73<>""),VLOOKUP(G73,通所リハビリテーション費!$A$34:$B$38,2,0),0) -> 0 | J73: =(I73*H73)*0.1*10 -> 0
I74: =IF(AND(B74<>"",C74<>"",D74<>"",E74<>"",F74<>"",G74<>"",H74<>""),VLOOKUP(G74,通所リハビリテーション費!$A$34:$B$38,2,0),0) -> 0 | J74: =(I74*H74)*0.1*10 -> 0
I75: =IF(AND(B75<>"",C75<>"",D75<>"",E75<>"",F75<>"",G75<>"",H75<>""),VLOOKUP(G75,通所リハビリテーション費!$A$34:$B$38,2,0),0) -> 0 | J75: =(I75*H75)*0.1*10 -> 0
I76: =IF(AND(B76<>"",C76<>"",D76<>"",E76<>"",F76<>"",G76<>"",H76<>""),VLOOKUP(G76,通所リハビリテーション費!$A$34:$B$38,2,0),0) -> 0 | J76: =(I76*H76)*0.1*10 -> 0
I77: =IF(AND(B77<>"",C77<>"",D77<>"",E77<>"",F77<>"",G77<>"",H77<>""),VLOOKUP(G77,通所リハビリテーション費!$A$34:$B$38,2,0),0) -> 0 | J77: =(I77*H77)*0.1*10 -> 0
I78: =IF(AND(B78<>"",C78<>"",D78<>"",E78<>"",F78<>"",G78<>"",H78<>""),VLOOKUP(G78,通所リハビリテーション費!$A$34:$B$38,2,0),0) -> 0 | J78: =(I78*H78)*0.1*10 -> 0
A79: 合計 | H79: =SUMIF(H69:H78,"<>#N/A") -> 0 | I79: =SUMIF(I69:I78,"<>#N/A") -> 0 | J79: =SUMIF(J69:J78,"<>#N/A") -> 0
A81: ※片道のみ送迎を行った場合
A82: 所要時間3時間以上4時間未満の場合 | B82: 被保険者番号 | C82: 被保険者氏名 | D82: 地区名 | E82: 事業所から 利用者宅までの 距離（km） | F82: 事業所から 利用者宅までの 所要時間（分） | G82: 要介護度 | H82: サービス 提供回数 ※片道のみ | I82: 基本報酬 （月単位数） | J82: 基準額(月)
I83: =IF(AND(B83<>"",C83<>"",D83<>"",E83<>"",F83<>"",G83<>"",H83<>""),VLOOKUP(G83,通所リハビリテーション費!$A$34:$B$38,2,0),0) -> 0 | J83: =((I83*H83)*0.1*10)/2 -> 0
I84: =IF(AND(B84<>"",C84<>"",D84<>"",E84<>"",F84<>"",G84<>"",H84<>""),VLOOKUP(G84,通所リハビリテーション費!$A$34:$B$38,2,0),0) -> 0 | J84: =((I84*H84)*0.1*10)/2 -> 0
I85: =IF(AND(B85<>"",C85<>"",D85<>"",E85<>"",F85<>"",G85<>"",H85<>""),VLOOKUP(G85,通所リハビリテーション費!$A$34:$B$38,2,0),0) -> 0 | J85: =((I85*H85)*0.1*10)/2 -> 0
I86: =IF(AND(B86<>"",C86<>"",D86<>"",E86<>"",F86<>"",G86<>"",H86<>""),VLOOKUP(G86,通所リハビリテーション費!$A$34:$B$38,2,0),0) -> 0 | J86: =((I86*H86)*0.1*10)/2 -> 0
I87: =IF(AND(B87<>"",C87<>"",D87<>"",E87<>"",F87<>"",G87<>"",H87<>""),VLOOKUP(G87,通所リハビリテーション費!$A$34:$B$38,2,0),0) -> 0 | J87: =((I87*H87)*0.1*10)/2 -> 0
A88: 合計 | H88: =SUMIF(H83:H87,"<>#N/A") -> 0 | I88: =SUMIF(I83:I87,"<>#N/A") -> 0 | J88: =SUMIF(J83:J87,"<>#N/A") -> 0
A90: （4）所要時間4時間以上5時間未満の場合
A91: ※往復の送迎を行った場合 （片道のみ送迎を行った場合は下記別表に入力すること）
A92: 所要時間4時間以上5時間未満の場合 | B92: 被保険者番号 | C92: 被保険者氏名 | D92: 地区名 | E92: 事業所から 利用者宅までの 距離（km） | F92: 事業所から 利用者宅までの 所要時間（分） | G92: 要介護度 | H92: サービス 提供回数 | I92: 基本報酬 （月単位数） | J92: 基準額(月)
I93: =IF(AND(B93<>"",C93<>"",D93<>"",E93<>"",F93<>"",G93<>"",H93<>""),VLOOKUP(G93,通所リハビリテーション費!$A$41:$B$45,2,0),0) -> 0 | J93: =(I93*H93)*0.1*10 -> 0
I94: =IF(AND(B94<>"",C94<>"",D94<>"",E94<>"",F94<>"",G94<>"",H94<>""),VLOOKUP(G94,通所リハビリテーション費!$A$41:$B$45,2,0),0) -> 0 | J94: =(I94*H94)*0.1*10 -> 0
I95: =IF(AND(B95<>"",C95<>"",D95<>"",E95<>"",F95<>"",G95<>"",H95<>""),VLOOKUP(G95,通所リハビリテーション費!$A$41:$B$45,2,0),0) -> 0 | J95: =(I95*H95)*0.1*10 -> 0
I96: =IF(AND(B96<>"",C96<>"",D96<>"",E96<>"",F96<>"",G96<>"",H96<>""),VLOOKUP(G96,通所リハビリテーション費!$A$41:$B$45,2,0),0) -> 0 | J96: =(I96*H96)*0.1*10 -> 0
I97: =IF(AND(B97<>"",C97<>"",D97<>"",E97<>"",F97<>"",G97<>"",H97<>""),VLOOKUP(G97,通所リハビリテーション費!$A$41:$B$45,2,0),0) -> 0 | J97: =(I97*H97)*0.1*10 -> 0
I98: =IF(AND(B98<>"",C98<>"",D98<>"",E98<>"",F98<>"",G98<>"",H98<>""),VLOOKUP(G98,通所リハビリテーション費!$A$41:$B$45,2,0),0) -> 0 | J98: =(I98*H98)*0.1*10 -> 0
I99: =IF(AND(B99<>"",C99<>"",D99<>"",E99<>"",F99<>"",G99<>"",H99<>""),VLOOKUP(G99,通所リハビリテーション費!$A$41:$B$45,2,0),0) -> 0 | J99: =(I99*H99)*0.1*10 -> 0
I100: =IF(AND(B100<>"",C100<>"",D100<>"",E100<>"",F100<>"",G100<>"",H100<>""),VLOOKUP(G100,通所リハビリテーション費!$A$41:$B$45,2,0),0) -> 0 | J100: =(I100*H100)*0.1*10 -> 0
I101: =IF(AND(B101<>"",C101<>"",D101<>"",E101<>"",F101<>"",G101<>"",H101<>""),VLOOKUP(G101,通所リハビリテーション費!$A$41:$B$45,2,0),0) -> 0 | J101: =(I101*H101)*0.1*10 -> 0
I102: =IF(AND(B102<>"",C102<>"",D102<>"",E102<>"",F102<>"",G102<>"",H102<>""),VLOOKUP(G102,通所リハビリテーション費!$A$41:$B$45,2,0),0) -> 0 | J102: =(I102*H102)*0.1*10 -> 0
A103: 合計 | H103: =SUMIF(H93:H102,"<>#N/A") -> 0 | I103: =SUMIF(I93:I102,"<>#N/A") -> 0 | J103: =SUMIF(J93:J102,"<>#N/A") -> 0
A105: ※片道のみ送迎を行った場合
...

Sheet (附表2)実施状況報告（５月）
A1: 附表2 | H1: 令和 年 月 日
A2: 吉備中央町長 様 | R2: 対象者人数 | S2: サービス 提供回数
Q3: ='(附表2)実施状況報告（４月）'!Q3 -> 広面 | R3: =COUNTIF($D$21:$D$30,Q3)+COUNTIF($D$35:$D$39,Q3)+COUNTIF($D$45:$D$54,Q3)+COUNTIF($D$59:$D$63,Q3)+COUNTIF($D$69:$D$78,Q3)+COUNTIF($D$83:$D$87,Q3)+COUNTIF($D$93:$D$102,Q3)+COUNTIF($D$107:$D$111,Q3)+COUNTIF($D$117:$D$126,Q3)+COUNTIF($D$131:$D$135,Q3)+COUNTIF($D$141:$D$150,Q3)+COUNTIF($D$155:$D$159,Q3)+COUNTIF($D$165:$D$174,Q3)+COUNTIF($D$179:$D$183,Q3) -> 0 | S3: =SUMIF($D$21:$D$30,Q3,$H$21:$H$30)+SUMIF($D$35:$D$39,Q3,$H$35:$H$39)+SUMIF($D$45:$D$54,Q3,$H$45:$H$54)+SUMIF($D$59:$D$63,Q3,$H$59:$H$63)+SUMIF($D$69:$D$78,Q3,$H$69:$H$78)+SUMIF($D$83:$D$87,Q3,$H$83:$H$87)+SUMIF($D$93:$D$102,Q3,$H$93:$H$102)+SUMIF($D$107:$D$111,Q3,$H$107:$H$111)+SUMIF($D$117:$D$126,Q3,$H$117:$H$126)+SUMIF($D$131:$D$135,Q3,$H$131:$H$135)+SUMIF($D$141:$D$150,Q3,$H$141:$H$150)+SUMIF($D$155:$D$159,Q3,$H$155:$H$159)+SUMIF($D$165:$D$174,Q3,$H$165:$H$174)+SUMIF($D$179:$D$183,Q3,$H$179:$H$183) -> 0
A4: 実 施 状 況 報 告 明 細 書 （通所リハビリテーション事業所用、通常規模型リハビリテーション費） 令和８年５月分 | Q4: ='(附表2)実施状況報告（４月）'!Q4 -> 上加茂 | R4: =COUNTIF($D$21:$D$30,Q4)+COUNTIF($D$35:$D$39,Q4)+COUNTIF($D$45:$D$54,Q4)+COUNTIF($D$59:$D$63,Q4)+COUNTIF($D$69:$D$78,Q4)+COUNTIF($D$83:$D$87,Q4)+COUNTIF($D$93:$D$102,Q4)+COUNTIF($D$107:$D$111,Q4)+COUNTIF($D$117:$D$126,Q4)+COUNTIF($D$131:$D$135,Q4)+COUNTIF($D$141:$D$150,Q4)+COUNTIF($D$155:$D$159,Q4)+COUNTIF($D$165:$D$174,Q4)+COUNTIF($D$179:$D$183,Q4) -> 0 | S4: =SUMIF($D$21:$D$30,Q4,$H$21:$H$30)+SUMIF($D$35:$D$39,Q4,$H$35:$H$39)+SUMIF($D$45:$D$54,Q4,$H$45:$H$54)+SUMIF($D$59:$D$63,Q4,$H$59:$H$63)+SUMIF($D$69:$D$78,Q4,$H$69:$H$78)+SUMIF($D$83:$D$87,Q4,$H$83:$H$87)+SUMIF($D$93:$D$102,Q4,$H$93:$H$102)+SUMIF($D$107:$D$111,Q4,$H$107:$H$111)+SUMIF($D$117:$D$126,Q4,$H$117:$H$126)+SUMIF($D$131:$D$135,Q4,$H$131:$H$135)+SUMIF($D$141:$D$150,Q4,$H$141:$H$150)+SUMIF($D$155:$D$159,Q4,$H$155:$H$159)+SUMIF($D$165:$D$174,Q4,$H$165:$H$174)+SUMIF($D$179:$D$183,Q4,$H$179:$H$183) -> 0
Q5: ='(附表2)実施状況報告（４月）'!Q5 -> 下加茂 | R5: =COUNTIF($D$21:$D$30,Q5)+COUNTIF($D$35:$D$39,Q5)+COUNTIF($D$45:$D$54,Q5)+COUNTIF($D$59:$D$63,Q5)+COUNTIF($D$69:$D$78,Q5)+COUNTIF($D$83:$D$87,Q5)+COUNTIF($D$93:$D$102,Q5)+COUNTIF($D$107:$D$111,Q5)+COUNTIF($D$117:$D$126,Q5)+COUNTIF($D$131:$D$135,Q5)+COUNTIF($D$141:$D$150,Q5)+COUNTIF($D$155:$D$159,Q5)+COUNTIF($D$165:$D$174,Q5)+COUNTIF($D$179:$D$183,Q5) -> 0 | S5: =SUMIF($D$21:$D$30,Q5,$H$21:$H$30)+SUMIF($D$35:$D$39,Q5,$H$35:$H$39)+SUMIF($D$45:$D$54,Q5,$H$45:$H$54)+SUMIF($D$59:$D$63,Q5,$H$59:$H$63)+SUMIF($D$69:$D$78,Q5,$H$69:$H$78)+SUMIF($D$83:$D$87,Q5,$H$83:$H$87)+SUMIF($D$93:$D$102,Q5,$H$93:$H$102)+SUMIF($D$107:$D$111,Q5,$H$107:$H$111)+SUMIF($D$117:$D$126,Q5,$H$117:$H$126)+SUMIF($D$131:$D$135,Q5,$H$131:$H$135)+SUMIF($D$141:$D$150,Q5,$H$141:$H$150)+SUMIF($D$155:$D$159,Q5,$H$155:$H$159)+SUMIF($D$165:$D$174,Q5,$H$165:$H$174)+SUMIF($D$179:$D$183,Q5,$H$179:$H$183) -> 0
A6: 1.事業所情報 | Q6: ='(附表2)実施状況報告（４月）'!Q6 -> 美原 | R6: =COUNTIF($D$21:$D$30,Q6)+COUNTIF($D$35:$D$39,Q6)+COUNTIF($D$45:$D$54,Q6)+COUNTIF($D$59:$D$63,Q6)+COUNTIF($D$69:$D$78,Q6)+COUNTIF($D$83:$D$87,Q6)+COUNTIF($D$93:$D$102,Q6)+COUNTIF($D$107:$D$111,Q6)+COUNTIF($D$117:$D$126,Q6)+COUNTIF($D$131:$D$135,Q6)+COUNTIF($D$141:$D$150,Q6)+COUNTIF($D$155:$D$159,Q6)+COUNTIF($D$165:$D$174,Q6)+COUNTIF($D$179:$D$183,Q6) -> 0 | S6: =SUMIF($D$21:$D$30,Q6,$H$21:$H$30)+SUMIF($D$35:$D$39,Q6,$H$35:$H$39)+SUMIF($D$45:$D$54,Q6,$H$45:$H$54)+SUMIF($D$59:$D$63,Q6,$H$59:$H$63)+SUMIF($D$69:$D$78,Q6,$H$69:$H$78)+SUMIF($D$83:$D$87,Q6,$H$83:$H$87)+SUMIF($D$93:$D$102,Q6,$H$93:$H$102)+SUMIF($D$107:$D$111,Q6,$H$107:$H$111)+SUMIF($D$117:$D$126,Q6,$H$117:$H$126)+SUMIF($D$131:$D$135,Q6,$H$131:$H$135)+SUMIF($D$141:$D$150,Q6,$H$141:$H$150)+SUMIF($D$155:$D$159,Q6,$H$155:$H$159)+SUMIF($D$165:$D$174,Q6,$H$165:$H$174)+SUMIF($D$179:$D$183,Q6,$H$179:$H$183) -> 0
A7: 事業者名 | C7: =IF(基本情報入力シート!V8="","",基本情報入力シート!V8) | Q7: ='(附表2)実施状況報告（４月）'!Q7 -> 加茂市場 | R7: =COUNTIF($D$21:$D$30,Q7)+COUNTIF($D$35:$D$39,Q7)+COUNTIF($D$45:$D$54,Q7)+COUNTIF($D$59:$D$63,Q7)+COUNTIF($D$69:$D$78,Q7)+COUNTIF($D$83:$D$87,Q7)+COUNTIF($D$93:$D$102,Q7)+COUNTIF($D$107:$D$111,Q7)+COUNTIF($D$117:$D$126,Q7)+COUNTIF($D$131:$D$135,Q7)+COUNTIF($D$141:$D$150,Q7)+COUNTIF($D$155:$D$159,Q7)+COUNTIF($D$165:$D$174,Q7)+COUNTIF($D$179:$D$183,Q7) -> 0 | S7: =SUMIF($D$21:$D$30,Q7,$H$21:$H$30)+SUMIF($D$35:$D$39,Q7,$H$35:$H$39)+SUMIF($D$45:$D$54,Q7,$H$45:$H$54)+SUMIF($D$59:$D$63,Q7,$H$59:$H$63)+SUMIF($D$69:$D$78,Q7,$H$69:$H$78)+SUMIF($D$83:$D$87,Q7,$H$83:$H$87)+SUMIF($D$93:$D$102,Q7,$H$93:$H$102)+SUMIF($D$107:$D$111,Q7,$H$107:$H$111)+SUMIF($D$117:$D$126,Q7,$H$117:$H$126)+SUMIF($D$131:$D$135,Q7,$H$131:$H$135)+SUMIF($D$141:$D$150,Q7,$H$141:$H$150)+SUMIF($D$155:$D$159,Q7,$H$155:$H$159)+SUMIF($D$165:$D$174,Q7,$H$165:$H$174)+SUMIF($D$179:$D$183,Q7,$H$179:$H$183) -> 0
A8: 事業所名 | C8: =IF(基本情報入力シート!V19="","",基本情報入力シート!V19) | Q8: ='(附表2)実施状況報告（４月）'!Q8 -> 高谷 | R8: =COUNTIF($D$21:$D$30,Q8)+COUNTIF($D$35:$D$39,Q8)+COUNTIF($D$45:$D$54,Q8)+COUNTIF($D$59:$D$63,Q8)+COUNTIF($D$69:$D$78,Q8)+COUNTIF($D$83:$D$87,Q8)+COUNTIF($D$93:$D$102,Q8)+COUNTIF($D$107:$D$111,Q8)+COUNTIF($D$117:$D$126,Q8)+COUNTIF($D$131:$D$135,Q8)+COUNTIF($D$141:$D$150,Q8)+COUNTIF($D$155:$D$159,Q8)+COUNTIF($D$165:$D$174,Q8)+COUNTIF($D$179:$D$183,Q8) -> 0 | S8: =SUMIF($D$21:$D$30,Q8,$H$21:$H$30)+SUMIF($D$35:$D$39,Q8,$H$35:$H$39)+SUMIF($D$45:$D$54,Q8,$H$45:$H$54)+SUMIF($D$59:$D$63,Q8,$H$59:$H$63)+SUMIF($D$69:$D$78,Q8,$H$69:$H$78)+SUMIF($D$83:$D$87,Q8,$H$83:$H$87)+SUMIF($D$93:$D$102,Q8,$H$93:$H$102)+SUMIF($D$107:$D$111,Q8,$H$107:$H$111)+SUMIF($D$117:$D$126,Q8,$H$117:$H$126)+SUMIF($D$131:$D$135,Q8,$H$131:$H$135)+SUMIF($D$141:$D$150,Q8,$H$141:$H$150)+SUMIF($D$155:$D$159,Q8,$H$155:$H$159)+SUMIF($D$165:$D$174,Q8,$H$165:$H$174)+SUMIF($D$179:$D$183,Q8,$H$179:$H$183) -> 0
A9: 事業所所在地 | C9: =IF(基本情報入力シート!V20="","",基本情報入力シート!V20) | Q9: ='(附表2)実施状況報告（４月）'!Q9 -> 平岡 | R9: =COUNTIF($D$21:$D$30,Q9)+COUNTIF($D$35:$D$39,Q9)+COUNTIF($D$45:$D$54,Q9)+COUNTIF($D$59:$D$63,Q9)+COUNTIF($D$69:$D$78,Q9)+COUNTIF($D$83:$D$87,Q9)+COUNTIF($D$93:$D$102,Q9)+COUNTIF($D$107:$D$111,Q9)+COUNTIF($D$117:$D$126,Q9)+COUNTIF($D$131:$D$135,Q9)+COUNTIF($D$141:$D$150,Q9)+COUNTIF($D$155:$D$159,Q9)+COUNTIF($D$165:$D$174,Q9)+COUNTIF($D$179:$D$183,Q9) -> 0 | S9: =SUMIF($D$21:$D$30,Q9,$H$21:$H$30)+SUMIF($D$35:$D$39,Q9,$H$35:$H$39)+SUMIF($D$45:$D$54,Q9,$H$45:$H$54)+SUMIF($D$59:$D$63,Q9,$H$59:$H$63)+SUMIF($D$69:$D$78,Q9,$H$69:$H$78)+SUMIF($D$83:$D$87,Q9,$H$83:$H$87)+SUMIF($D$93:$D$102,Q9,$H$93:$H$102)+SUMIF($D$107:$D$111,Q9,$H$107:$H$111)+SUMIF($D$117:$D$126,Q9,$H$117:$H$126)+SUMIF($D$131:$D$135,Q9,$H$131:$H$135)+SUMIF($D$141:$D$150,Q9,$H$141:$H$150)+SUMIF($D$155:$D$159,Q9,$H$155:$H$159)+SUMIF($D$165:$D$174,Q9,$H$165:$H$174)+SUMIF($D$179:$D$183,Q9,$H$179:$H$183) -> 0
A10: サービス種別 | C10: =IF(基本情報入力シート!V21="","",基本情報入力シート!V21) -> 通所リハビリテーション | Q10: ='(附表2)実施状況報告（４月）'!Q10 -> 上野 | R10: =COUNTIF($D$21:$D$30,Q10)+COUNTIF($D$35:$D$39,Q10)+COUNTIF($D$45:$D$54,Q10)+COUNTIF($D$59:$D$63,Q10)+COUNTIF($D$69:$D$78,Q10)+COUNTIF($D$83:$D$87,Q10)+COUNTIF($D$93:$D$102,Q10)+COUNTIF($D$107:$D$111,Q10)+COUNTIF($D$117:$D$126,Q10)+COUNTIF($D$131:$D$135,Q10)+COUNTIF($D$141:$D$150,Q10)+COUNTIF($D$155:$D$159,Q10)+COUNTIF($D$165:$D$174,Q10)+COUNTIF($D$179:$D$183,Q10) -> 0 | S10: =SUMIF($D$21:$D$30,Q10,$H$21:$H$30)+SUMIF($D$35:$D$39,Q10,$H$35:$H$39)+SUMIF($D$45:$D$54,Q10,$H$45:$H$54)+SUMIF($D$59:$D$63,Q10,$H$59:$H$63)+SUMIF($D$69:$D$78,Q10,$H$69:$H$78)+SUMIF($D$83:$D$87,Q10,$H$83:$H$87)+SUMIF($D$93:$D$102,Q10,$H$93:$H$102)+SUMIF($D$107:$D$111,Q10,$H$107:$H$111)+SUMIF($D$117:$D$126,Q10,$H$117:$H$126)+SUMIF($D$131:$D$135,Q10,$H$131:$H$135)+SUMIF($D$141:$D$150,Q10,$H$141:$H$150)+SUMIF($D$155:$D$159,Q10,$H$155:$H$159)+SUMIF($D$165:$D$174,Q10,$H$165:$H$174)+SUMIF($D$179:$D$183,Q10,$H$179:$H$183) -> 0
A11: 補助対象事業区分 | C11: =IF(基本情報入力シート!V22="","",基本情報入力シート!V22) -> 別表第1の1 区分1 移動に片道20分以上の時間を要するサービス（特別地域加算対象地域内に居住する利用者を対象に行う場合） | Q11: ='(附表2)実施状況報告（４月）'!Q11 -> 竹部 | R11: =COUNTIF($D$21:$D$30,Q11)+COUNTIF($D$35:$D$39,Q11)+COUNTIF($D$45:$D$54,Q11)+COUNTIF($D$59:$D$63,Q11)+COUNTIF($D$69:$D$78,Q11)+COUNTIF($D$83:$D$87,Q11)+COUNTIF($D$93:$D$102,Q11)+COUNTIF($D$107:$D$111,Q11)+COUNTIF($D$117:$D$126,Q11)+COUNTIF($D$131:$D$135,Q11)+COUNTIF($D$141:$D$150,Q11)+COUNTIF($D$155:$D$159,Q11)+COUNTIF($D$165:$D$174,Q11)+COUNTIF($D$179:$D$183,Q11) -> 0 | S11: =SUMIF($D$21:$D$30,Q11,$H$21:$H$30)+SUMIF($D$35:$D$39,Q11,$H$35:$H$39)+SUMIF($D$45:$D$54,Q11,$H$45:$H$54)+SUMIF($D$59:$D$63,Q11,$H$59:$H$63)+SUMIF($D$69:$D$78,Q11,$H$69:$H$78)+SUMIF($D$83:$D$87,Q11,$H$83:$H$87)+SUMIF($D$93:$D$102,Q11,$H$93:$H$102)+SUMIF($D$107:$D$111,Q11,$H$107:$H$111)+SUMIF($D$117:$D$126,Q11,$H$117:$H$126)+SUMIF($D$131:$D$135,Q11,$H$131:$H$135)+SUMIF($D$141:$D$150,Q11,$H$141:$H$150)+SUMIF($D$155:$D$159,Q11,$H$155:$H$159)+SUMIF($D$165:$D$174,Q11,$H$165:$H$174)+SUMIF($D$179:$D$183,Q11,$H$179:$H$183) -> 0
A12: 加算区分 | C12: 通常規模型リハビリテーション費 | Q12: ='(附表2)実施状況報告（４月）'!Q12 -> 上田東 | R12: =COUNTIF($D$21:$D$30,Q12)+COUNTIF($D$35:$D$39,Q12)+COUNTIF($D$45:$D$54,Q12)+COUNTIF($D$59:$D$63,Q12)+COUNTIF($D$69:$D$78,Q12)+COUNTIF($D$83:$D$87,Q12)+COUNTIF($D$93:$D$102,Q12)+COUNTIF($D$107:$D$111,Q12)+COUNTIF($D$117:$D$126,Q12)+COUNTIF($D$131:$D$135,Q12)+COUNTIF($D$141:$D$150,Q12)+COUNTIF($D$155:$D$159,Q12)+COUNTIF($D$165:$D$174,Q12)+COUNTIF($D$179:$D$183,Q12) -> 0 | S12: =SUMIF($D$21:$D$30,Q12,$H$21:$H$30)+SUMIF($D$35:$D$39,Q12,$H$35:$H$39)+SUMIF($D$45:$D$54,Q12,$H$45:$H$54)+SUMIF($D$59:$D$63,Q12,$H$59:$H$63)+SUMIF($D$69:$D$78,Q12,$H$69:$H$78)+SUMIF($D$83:$D$87,Q12,$H$83:$H$87)+SUMIF($D$93:$D$102,Q12,$H$93:$H$102)+SUMIF($D$107:$D$111,Q12,$H$107:$H$111)+SUMIF($D$117:$D$126,Q12,$H$117:$H$126)+SUMIF($D$131:$D$135,Q12,$H$131:$H$135)+SUMIF($D$141:$D$150,Q12,$H$141:$H$150)+SUMIF($D$155:$D$159,Q12,$H$155:$H$159)+SUMIF($D$165:$D$174,Q12,$H$165:$H$174)+SUMIF($D$179:$D$183,Q12,$H$179:$H$183) -> 0
Q13: ='(附表2)実施状況報告（４月）'!Q13 -> 細田 | R13: =COUNTIF($D$21:$D$30,Q13)+COUNTIF($D$35:$D$39,Q13)+COUNTIF($D$45:$D$54,Q13)+COUNTIF($D$59:$D$63,Q13)+COUNTIF($D$69:$D$78,Q13)+COUNTIF($D$83:$D$87,Q13)+COUNTIF($D$93:$D$102,Q13)+COUNTIF($D$107:$D$111,Q13)+COUNTIF($D$117:$D$126,Q13)+COUNTIF($D$131:$D$135,Q13)+COUNTIF($D$141:$D$150,Q13)+COUNTIF($D$155:$D$159,Q13)+COUNTIF($D$165:$D$174,Q13)+COUNTIF($D$179:$D$183,Q13) -> 0 | S13: =SUMIF($D$21:$D$30,Q13,$H$21:$H$30)+SUMIF($D$35:$D$39,Q13,$H$35:$H$39)+SUMIF($D$45:$D$54,Q13,$H$45:$H$54)+SUMIF($D$59:$D$63,Q13,$H$59:$H$63)+SUMIF($D$69:$D$78,Q13,$H$69:$H$78)+SUMIF($D$83:$D$87,Q13,$H$83:$H$87)+SUMIF($D$93:$D$102,Q13,$H$93:$H$102)+SUMIF($D$107:$D$111,Q13,$H$107:$H$111)+SUMIF($D$117:$D$126,Q13,$H$117:$H$126)+SUMIF($D$131:$D$135,Q13,$H$131:$H$135)+SUMIF($D$141:$D$150,Q13,$H$141:$H$150)+SUMIF($D$155:$D$159,Q13,$H$155:$H$159)+SUMIF($D$165:$D$174,Q13,$H$165:$H$174)+SUMIF($D$179:$D$183,Q13,$H$179:$H$183) -> 0
Q14: ='(附表2)実施状況報告（４月）'!Q14 -> 三納谷 | R14: =COUNTIF($D$21:$D$30,Q14)+COUNTIF($D$35:$D$39,Q14)+COUNTIF($D$45:$D$54,Q14)+COUNTIF($D$59:$D$63,Q14)+COUNTIF($D$69:$D$78,Q14)+COUNTIF($D$83:$D$87,Q14)+COUNTIF($D$93:$D$102,Q14)+COUNTIF($D$107:$D$111,Q14)+COUNTIF($D$117:$D$126,Q14)+COUNTIF($D$131:$D$135,Q14)+COUNTIF($D$141:$D$150,Q14)+COUNTIF($D$155:$D$159,Q14)+COUNTIF($D$165:$D$174,Q14)+COUNTIF($D$179:$D$183,Q14) -> 0 | S14: =SUMIF($D$21:$D$30,Q14,$H$21:$H$30)+SUMIF($D$35:$D$39,Q14,$H$35:$H$39)+SUMIF($D$45:$D$54,Q14,$H$45:$H$54)+SUMIF($D$59:$D$63,Q14,$H$59:$H$63)+SUMIF($D$69:$D$78,Q14,$H$69:$H$78)+SUMIF($D$83:$D$87,Q14,$H$83:$H$87)+SUMIF($D$93:$D$102,Q14,$H$93:$H$102)+SUMIF($D$107:$D$111,Q14,$H$107:$H$111)+SUMIF($D$117:$D$126,Q14,$H$117:$H$126)+SUMIF($D$131:$D$135,Q14,$H$131:$H$135)+SUMIF($D$141:$D$150,Q14,$H$141:$H$150)+SUMIF($D$155:$D$159,Q14,$H$155:$H$159)+SUMIF($D$165:$D$174,Q14,$H$165:$H$174)+SUMIF($D$179:$D$183,Q14,$H$179:$H$183) -> 0
Q15: ='(附表2)実施状況報告（４月）'!Q15 -> 上田西 | R15: =COUNTIF($D$21:$D$30,Q15)+COUNTIF($D$35:$D$39,Q15)+COUNTIF($D$45:$D$54,Q15)+COUNTIF($D$59:$D$63,Q15)+COUNTIF($D$69:$D$78,Q15)+COUNTIF($D$83:$D$87,Q15)+COUNTIF($D$93:$D$102,Q15)+COUNTIF($D$107:$D$111,Q15)+COUNTIF($D$117:$D$126,Q15)+COUNTIF($D$131:$D$135,Q15)+COUNTIF($D$141:$D$150,Q15)+COUNTIF($D$155:$D$159,Q15)+COUNTIF($D$165:$D$174,Q15)+COUNTIF($D$179:$D$183,Q15) -> 0 | S15: =SUMIF($D$21:$D$30,Q15,$H$21:$H$30)+SUMIF($D$35:$D$39,Q15,$H$35:$H$39)+SUMIF($D$45:$D$54,Q15,$H$45:$H$54)+SUMIF($D$59:$D$63,Q15,$H$59:$H$63)+SUMIF($D$69:$D$78,Q15,$H$69:$H$78)+SUMIF($D$83:$D$87,Q15,$H$83:$H$87)+SUMIF($D$93:$D$102,Q15,$H$93:$H$102)+SUMIF($D$107:$D$111,Q15,$H$107:$H$111)+SUMIF($D$117:$D$126,Q15,$H$117:$H$126)+SUMIF($D$131:$D$135,Q15,$H$131:$H$135)+SUMIF($D$141:$D$150,Q15,$H$141:$H$150)+SUMIF($D$155:$D$159,Q15,$H$155:$H$159)+SUMIF($D$165:$D$174,Q15,$H$165:$H$174)+SUMIF($D$179:$D$183,Q15,$H$179:$H$183) -> 0
Q16: ='(附表2)実施状況報告（４月）'!Q16 -> 円城 | R16: =COUNTIF($D$21:$D$30,Q16)+COUNTIF($D$35:$D$39,Q16)+COUNTIF($D$45:$D$54,Q16)+COUNTIF($D$59:$D$63,Q16)+COUNTIF($D$69:$D$78,Q16)+COUNTIF($D$83:$D$87,Q16)+COUNTIF($D$93:$D$102,Q16)+COUNTIF($D$107:$D$111,Q16)+COUNTIF($D$117:$D$126,Q16)+COUNTIF($D$131:$D$135,Q16)+COUNTIF($D$141:$D$150,Q16)+COUNTIF($D$155:$D$159,Q16)+COUNTIF($D$165:$D$174,Q16)+COUNTIF($D$179:$D$183,Q16) -> 0 | S16: =SUMIF($D$21:$D$30,Q16,$H$21:$H$30)+SUMIF($D$35:$D$39,Q16,$H$35:$H$39)+SUMIF($D$45:$D$54,Q16,$H$45:$H$54)+SUMIF($D$59:$D$63,Q16,$H$59:$H$63)+SUMIF($D$69:$D$78,Q16,$H$69:$H$78)+SUMIF($D$83:$D$87,Q16,$H$83:$H$87)+SUMIF($D$93:$D$102,Q16,$H$93:$H$102)+SUMIF($D$107:$D$111,Q16,$H$107:$H$111)+SUMIF($D$117:$D$126,Q16,$H$117:$H$126)+SUMIF($D$131:$D$135,Q16,$H$131:$H$135)+SUMIF($D$141:$D$150,Q16,$H$141:$H$150)+SUMIF($D$155:$D$159,Q16,$H$155:$H$159)+SUMIF($D$165:$D$174,Q16,$H$165:$H$174)+SUMIF($D$179:$D$183,Q16,$H$179:$H$183) -> 0
A17: 2. 実績内訳 | Q17: ='(附表2)実施状況報告（４月）'!Q17 -> 案田 | R17: =COUNTIF($D$21:$D$30,Q17)+COUNTIF($D$35:$D$39,Q17)+COUNTIF($D$45:$D$54,Q17)+COUNTIF($D$59:$D$63,Q17)+COUNTIF($D$69:$D$78,Q17)+COUNTIF($D$83:$D$87,Q17)+COUNTIF($D$93:$D$102,Q17)+COUNTIF($D$107:$D$111,Q17)+COUNTIF($D$117:$D$126,Q17)+COUNTIF($D$131:$D$135,Q17)+COUNTIF($D$141:$D$150,Q17)+COUNTIF($D$155:$D$159,Q17)+COUNTIF($D$165:$D$174,Q17)+COUNTIF($D$179:$D$183,Q17) -> 0 | S17: =SUMIF($D$21:$D$30,Q17,$H$21:$H$30)+SUMIF($D$35:$D$39,Q17,$H$35:$H$39)+SUMIF($D$45:$D$54,Q17,$H$45:$H$54)+SUMIF($D$59:$D$63,Q17,$H$59:$H$63)+SUMIF($D$69:$D$78,Q17,$H$69:$H$78)+SUMIF($D$83:$D$87,Q17,$H$83:$H$87)+SUMIF($D$93:$D$102,Q17,$H$93:$H$102)+SUMIF($D$107:$D$111,Q17,$H$107:$H$111)+SUMIF($D$117:$D$126,Q17,$H$117:$H$126)+SUMIF($D$131:$D$135,Q17,$H$131:$H$135)+SUMIF($D$141:$D$150,Q17,$H$141:$H$150)+SUMIF($D$155:$D$159,Q17,$H$155:$H$159)+SUMIF($D$165:$D$174,Q17,$H$165:$H$174)+SUMIF($D$179:$D$183,Q17,$H$179:$H$183) -> 0
A18: （1）所要時間1時間以上2時間未満の場合 | Q18: ='(附表2)実施状況報告（４月）'!Q18 -> 高富 | R18: =COUNTIF($D$21:$D$30,Q18)+COUNTIF($D$35:$D$39,Q18)+COUNTIF($D$45:$D$54,Q18)+COUNTIF($D$59:$D$63,Q18)+COUNTIF($D$69:$D$78,Q18)+COUNTIF($D$83:$D$87,Q18)+COUNTIF($D$93:$D$102,Q18)+COUNTIF($D$107:$D$111,Q18)+COUNTIF($D$117:$D$126,Q18)+COUNTIF($D$131:$D$135,Q18)+COUNTIF($D$141:$D$150,Q18)+COUNTIF($D$155:$D$159,Q18)+COUNTIF($D$165:$D$174,Q18)+COUNTIF($D$179:$D$183,Q18) -> 0 | S18: =SUMIF($D$21:$D$30,Q18,$H$21:$H$30)+SUMIF($D$35:$D$39,Q18,$H$35:$H$39)+SUMIF($D$45:$D$54,Q18,$H$45:$H$54)+SUMIF($D$59:$D$63,Q18,$H$59:$H$63)+SUMIF($D$69:$D$78,Q18,$H$69:$H$78)+SUMIF($D$83:$D$87,Q18,$H$83:$H$87)+SUMIF($D$93:$D$102,Q18,$H$93:$H$102)+SUMIF($D$107:$D$111,Q18,$H$107:$H$111)+SUMIF($D$117:$D$126,Q18,$H$117:$H$126)+SUMIF($D$131:$D$135,Q18,$H$131:$H$135)+SUMIF($D$141:$D$150,Q18,$H$141:$H$150)+SUMIF($D$155:$D$159,Q18,$H$155:$H$159)+SUMIF($D$165:$D$174,Q18,$H$165:$H$174)+SUMIF($D$179:$D$183,Q18,$H$179:$H$183) -> 0
A19: ※往復の送迎を行った場合 （片道のみ送迎を行った場合は下記別表に入力すること） | Q19: ='(附表2)実施状況報告（４月）'!Q19 -> 神瀬 | R19: =COUNTIF($D$21:$D$30,Q19)+COUNTIF($D$35:$D$39,Q19)+COUNTIF($D$45:$D$54,Q19)+COUNTIF($D$59:$D$63,Q19)+COUNTIF($D$69:$D$78,Q19)+COUNTIF($D$83:$D$87,Q19)+COUNTIF($D$93:$D$102,Q19)+COUNTIF($D$107:$D$111,Q19)+COUNTIF($D$117:$D$126,Q19)+COUNTIF($D$131:$D$135,Q19)+COUNTIF($D$141:$D$150,Q19)+COUNTIF($D$155:$D$159,Q19)+COUNTIF($D$165:$D$174,Q19)+COUNTIF($D$179:$D$183,Q19) -> 0 | S19: =SUMIF($D$21:$D$30,Q19,$H$21:$H$30)+SUMIF($D$35:$D$39,Q19,$H$35:$H$39)+SUMIF($D$45:$D$54,Q19,$H$45:$H$54)+SUMIF($D$59:$D$63,Q19,$H$59:$H$63)+SUMIF($D$69:$D$78,Q19,$H$69:$H$78)+SUMIF($D$83:$D$87,Q19,$H$83:$H$87)+SUMIF($D$93:$D$102,Q19,$H$93:$H$102)+SUMIF($D$107:$D$111,Q19,$H$107:$H$111)+SUMIF($D$117:$D$126,Q19,$H$117:$H$126)+SUMIF($D$131:$D$135,Q19,$H$131:$H$135)+SUMIF($D$141:$D$150,Q19,$H$141:$H$150)+SUMIF($D$155:$D$159,Q19,$H$155:$H$159)+SUMIF($D$165:$D$174,Q19,$H$165:$H$174)+SUMIF($D$179:$D$183,Q19,$H$179:$H$183) -> 0
A20: 所要時間1時間以上2時間未満の場合 | B20: 被保険者番号 | C20: 被保険者氏名 | D20: 地区名 | E20: 事業所から 利用者宅までの 距離（km） | F20: 事業所から 利用者宅までの 所要時間（分） | G20: 要介護度 | H20: サービス 提供回数 | I20: 基本報酬 （月単位数） | J20: 基準額(月) | Q20: ='(附表2)実施状況報告（４月）'!Q20 -> 小森 | R20: =COUNTIF($D$21:$D$30,Q20)+COUNTIF($D$35:$D$39,Q20)+COUNTIF($D$45:$D$54,Q20)+COUNTIF($D$59:$D$63,Q20)+COUNTIF($D$69:$D$78,Q20)+COUNTIF($D$83:$D$87,Q20)+COUNTIF($D$93:$D$102,Q20)+COUNTIF($D$107:$D$111,Q20)+COUNTIF($D$117:$D$126,Q20)+COUNTIF($D$131:$D$135,Q20)+COUNTIF($D$141:$D$150,Q20)+COUNTIF($D$155:$D$159,Q20)+COUNTIF($D$165:$D$174,Q20)+COUNTIF($D$179:$D$183,Q20) -> 0 | S20: =SUMIF($D$21:$D$30,Q20,$H$21:$H$30)+SUMIF($D$35:$D$39,Q20,$H$35:$H$39)+SUMIF($D$45:$D$54,Q20,$H$45:$H$54)+SUMIF($D$59:$D$63,Q20,$H$59:$H$63)+SUMIF($D$69:$D$78,Q20,$H$69:$H$78)+SUMIF($D$83:$D$87,Q20,$H$83:$H$87)+SUMIF($D$93:$D$102,Q20,$H$93:$H$102)+SUMIF($D$107:$D$111,Q20,$H$107:$H$111)+SUMIF($D$117:$D$126,Q20,$H$117:$H$126)+SUMIF($D$131:$D$135,Q20,$H$131:$H$135)+SUMIF($D$141:$D$150,Q20,$H$141:$H$150)+SUMIF($D$155:$D$159,Q20,$H$155:$H$159)+SUMIF($D$165:$D$174,Q20,$H$165:$H$174)+SUMIF($D$179:$D$183,Q20,$H$179:$H$183) -> 0
I21: =IF(AND(B21<>"",C21<>"",D21<>"",E21<>"",F21<>"",G21<>"",H21<>""),VLOOKUP(G21,通所リハビリテーション費!$A$20:$B$24,2,0),0) -> 0 | J21: =(I21*H21)*0.1*10 -> 0 | Q21: ='(附表2)実施状況報告（４月）'!Q21 -> 尾原 | R21: =COUNTIF($D$21:$D$30,Q21)+COUNTIF($D$35:$D$39,Q21)+COUNTIF($D$45:$D$54,Q21)+COUNTIF($D$59:$D$63,Q21)+COUNTIF($D$69:$D$78,Q21)+COUNTIF($D$83:$D$87,Q21)+COUNTIF($D$93:$D$102,Q21)+COUNTIF($D$107:$D$111,Q21)+COUNTIF($D$117:$D$126,Q21)+COUNTIF($D$131:$D$135,Q21)+COUNTIF($D$141:$D$150,Q21)+COUNTIF($D$155:$D$159,Q21)+COUNTIF($D$165:$D$174,Q21)+COUNTIF($D$179:$D$183,Q21) -> 0 | S21: =SUMIF($D$21:$D$30,Q21,$H$21:$H$30)+SUMIF($D$35:$D$39,Q21,$H$35:$H$39)+SUMIF($D$45:$D$54,Q21,$H$45:$H$54)+SUMIF($D$59:$D$63,Q21,$H$59:$H$63)+SUMIF($D$69:$D$78,Q21,$H$69:$H$78)+SUMIF($D$83:$D$87,Q21,$H$83:$H$87)+SUMIF($D$93:$D$102,Q21,$H$93:$H$102)+SUMIF($D$107:$D$111,Q21,$H$107:$H$111)+SUMIF($D$117:$D$126,Q21,$H$117:$H$126)+SUMIF($D$131:$D$135,Q21,$H$131:$H$135)+SUMIF($D$141:$D$150,Q21,$H$141:$H$150)+SUMIF($D$155:$D$159,Q21,$H$155:$H$159)+SUMIF($D$165:$D$174,Q21,$H$165:$H$174)+SUMIF($D$179:$D$183,Q21,$H$179:$H$183) -> 0
I22: =IF(AND(B22<>"",C22<>"",D22<>"",E22<>"",F22<>"",G22<>"",H22<>""),VLOOKUP(G22,通所リハビリテーション費!$A$20:$B$24,2,0),0) -> 0 | J22: =(I22*H22)*0.1*10 -> 0 | Q22: ='(附表2)実施状況報告（４月）'!Q22 -> 笹目 | R22: =COUNTIF($D$21:$D$30,Q22)+COUNTIF($D$35:$D$39,Q22)+COUNTIF($D$45:$D$54,Q22)+COUNTIF($D$59:$D$63,Q22)+COUNTIF($D$69:$D$78,Q22)+COUNTIF($D$83:$D$87,Q22)+COUNTIF($D$93:$D$102,Q22)+COUNTIF($D$107:$D$111,Q22)+COUNTIF($D$117:$D$126,Q22)+COUNTIF($D$131:$D$135,Q22)+COUNTIF($D$141:$D$150,Q22)+COUNTIF($D$155:$D$159,Q22)+COUNTIF($D$165:$D$174,Q22)+COUNTIF($D$179:$D$183,Q22) -> 0 | S22: =SUMIF($D$21:$D$30,Q22,$H$21:$H$30)+SUMIF($D$35:$D$39,Q22,$H$35:$H$39)+SUMIF($D$45:$D$54,Q22,$H$45:$H$54)+SUMIF($D$59:$D$63,Q22,$H$59:$H$63)+SUMIF($D$69:$D$78,Q22,$H$69:$H$78)+SUMIF($D$83:$D$87,Q22,$H$83:$H$87)+SUMIF($D$93:$D$102,Q22,$H$93:$H$102)+SUMIF($D$107:$D$111,Q22,$H$107:$H$111)+SUMIF($D$117:$D$126,Q22,$H$117:$H$126)+SUMIF($D$131:$D$135,Q22,$H$131:$H$135)+SUMIF($D$141:$D$150,Q22,$H$141:$H$150)+SUMIF($D$155:$D$159,Q22,$H$155:$H$159)+SUMIF($D$165:$D$174,Q22,$H$165:$H$174)+SUMIF($D$179:$D$183,Q22,$H$179:$H$183) -> 0
I23: =IF(AND(B23<>"",C23<>"",D23<>"",E23<>"",F23<>"",G23<>"",H23<>""),VLOOKUP(G23,通所リハビリテーション費!$A$20:$B$24,2,0),0) -> 0 | J23: =(I23*H23)*0.1*10 -> 0 | Q23: ='(附表2)実施状況報告（４月）'!Q23 -> 福沢 | R23: =COUNTIF($D$21:$D$30,Q23)+COUNTIF($D$35:$D$39,Q23)+COUNTIF($D$45:$D$54,Q23)+COUNTIF($D$59:$D$63,Q23)+COUNTIF($D$69:$D$78,Q23)+COUNTIF($D$83:$D$87,Q23)+COUNTIF($D$93:$D$102,Q23)+COUNTIF($D$107:$D$111,Q23)+COUNTIF($D$117:$D$126,Q23)+COUNTIF($D$131:$D$135,Q23)+COUNTIF($D$141:$D$150,Q23)+COUNTIF($D$155:$D$159,Q23)+COUNTIF($D$165:$D$174,Q23)+COUNTIF($D$179:$D$183,Q23) -> 0 | S23: =SUMIF($D$21:$D$30,Q23,$H$21:$H$30)+SUMIF($D$35:$D$39,Q23,$H$35:$H$39)+SUMIF($D$45:$D$54,Q23,$H$45:$H$54)+SUMIF($D$59:$D$63,Q23,$H$59:$H$63)+SUMIF($D$69:$D$78,Q23,$H$69:$H$78)+SUMIF($D$83:$D$87,Q23,$H$83:$H$87)+SUMIF($D$93:$D$102,Q23,$H$93:$H$102)+SUMIF($D$107:$D$111,Q23,$H$107:$H$111)+SUMIF($D$117:$D$126,Q23,$H$117:$H$126)+SUMIF($D$131:$D$135,Q23,$H$131:$H$135)+SUMIF($D$141:$D$150,Q23,$H$141:$H$150)+SUMIF($D$155:$D$159,Q23,$H$155:$H$159)+SUMIF($D$165:$D$174,Q23,$H$165:$H$174)+SUMIF($D$179:$D$183,Q23,$H$179:$H$183) -> 0
I24: =IF(AND(B24<>"",C24<>"",D24<>"",E24<>"",F24<>"",G24<>"",H24<>""),VLOOKUP(G24,通所リハビリテーション費!$A$20:$B$24,2,0),0) -> 0 | J24: =(I24*H24)*0.1*10 -> 0 | Q24: ='(附表2)実施状況報告（４月）'!Q24 -> 溝部 | R24: =COUNTIF($D$21:$D$30,Q24)+COUNTIF($D$35:$D$39,Q24)+COUNTIF($D$45:$D$54,Q24)+COUNTIF($D$59:$D$63,Q24)+COUNTIF($D$69:$D$78,Q24)+COUNTIF($D$83:$D$87,Q24)+COUNTIF($D$93:$D$102,Q24)+COUNTIF($D$107:$D$111,Q24)+COUNTIF($D$117:$D$126,Q24)+COUNTIF($D$131:$D$135,Q24)+COUNTIF($D$141:$D$150,Q24)+COUNTIF($D$155:$D$159,Q24)+COUNTIF($D$165:$D$174,Q24)+COUNTIF($D$179:$D$183,Q24) -> 0 | S24: =SUMIF($D$21:$D$30,Q24,$H$21:$H$30)+SUMIF($D$35:$D$39,Q24,$H$35:$H$39)+SUMIF($D$45:$D$54,Q24,$H$45:$H$54)+SUMIF($D$59:$D$63,Q24,$H$59:$H$63)+SUMIF($D$69:$D$78,Q24,$H$69:$H$78)+SUMIF($D$83:$D$87,Q24,$H$83:$H$87)+SUMIF($D$93:$D$102,Q24,$H$93:$H$102)+SUMIF($D$107:$D$111,Q24,$H$107:$H$111)+SUMIF($D$117:$D$126,Q24,$H$117:$H$126)+SUMIF($D$131:$D$135,Q24,$H$131:$H$135)+SUMIF($D$141:$D$150,Q24,$H$141:$H$150)+SUMIF($D$155:$D$159,Q24,$H$155:$H$159)+SUMIF($D$165:$D$174,Q24,$H$165:$H$174)+SUMIF($D$179:$D$183,Q24,$H$179:$H$183) -> 0
I25: =IF(AND(B25<>"",C25<>"",D25<>"",E25<>"",F25<>"",G25<>"",H25<>""),VLOOKUP(G25,通所リハビリテーション費!$A$20:$B$24,2,0),0) -> 0 | J25: =(I25*H25)*0.1*10 -> 0 | R25: =COUNTIF($D$21:$D$30,Q25)+COUNTIF($D$35:$D$39,Q25)+COUNTIF($D$45:$D$54,Q25)+COUNTIF($D$59:$D$63,Q25)+COUNTIF($D$69:$D$78,Q25)+COUNTIF($D$83:$D$87,Q25)+COUNTIF($D$93:$D$102,Q25)+COUNTIF($D$107:$D$111,Q25)+COUNTIF($D$117:$D$126,Q25)+COUNTIF($D$131:$D$135,Q25)+COUNTIF($D$141:$D$150,Q25)+COUNTIF($D$155:$D$159,Q25)+COUNTIF($D$165:$D$174,Q25)+COUNTIF($D$179:$D$183,Q25) -> 0 | S25: =SUMIF($D$21:$D$30,Q25,$H$21:$H$30)+SUMIF($D$35:$D$39,Q25,$H$35:$H$39)+SUMIF($D$45:$D$54,Q25,$H$45:$H$54)+SUMIF($D$59:$D$63,Q25,$H$59:$H$63)+SUMIF($D$69:$D$78,Q25,$H$69:$H$78)+SUMIF($D$83:$D$87,Q25,$H$83:$H$87)+SUMIF($D$93:$D$102,Q25,$H$93:$H$102)+SUMIF($D$107:$D$111,Q25,$H$107:$H$111)+SUMIF($D$117:$D$126,Q25,$H$117:$H$126)+SUMIF($D$131:$D$135,Q25,$H$131:$H$135)+SUMIF($D$141:$D$150,Q25,$H$141:$H$150)+SUMIF($D$155:$D$159,Q25,$H$155:$H$159)+SUMIF($D$165:$D$174,Q25,$H$165:$H$174)+SUMIF($D$179:$D$183,Q25,$H$179:$H$183) -> 0
I26: =IF(AND(B26<>"",C26<>"",D26<>"",E26<>"",F26<>"",G26<>"",H26<>""),VLOOKUP(G26,通所リハビリテーション費!$A$20:$B$24,2,0),0) -> 0 | J26: =(I26*H26)*0.1*10 -> 0 | R26: =COUNTIF($D$21:$D$30,Q26)+COUNTIF($D$35:$D$39,Q26)+COUNTIF($D$45:$D$54,Q26)+COUNTIF($D$59:$D$63,Q26)+COUNTIF($D$69:$D$78,Q26)+COUNTIF($D$83:$D$87,Q26)+COUNTIF($D$93:$D$102,Q26)+COUNTIF($D$107:$D$111,Q26)+COUNTIF($D$117:$D$126,Q26)+COUNTIF($D$131:$D$135,Q26)+COUNTIF($D$141:$D$150,Q26)+COUNTIF($D$155:$D$159,Q26)+COUNTIF($D$165:$D$174,Q26)+COUNTIF($D$179:$D$183,Q26) -> 0 | S26: =SUMIF($D$21:$D$30,Q26,$H$21:$H$30)+SUMIF($D$35:$D$39,Q26,$H$35:$H$39)+SUMIF($D$45:$D$54,Q26,$H$45:$H$54)+SUMIF($D$59:$D$63,Q26,$H$59:$H$63)+SUMIF($D$69:$D$78,Q26,$H$69:$H$78)+SUMIF($D$83:$D$87,Q26,$H$83:$H$87)+SUMIF($D$93:$D$102,Q26,$H$93:$H$102)+SUMIF($D$107:$D$111,Q26,$H$107:$H$111)+SUMIF($D$117:$D$126,Q26,$H$117:$H$126)+SUMIF($D$131:$D$135,Q26,$H$131:$H$135)+SUMIF($D$141:$D$150,Q26,$H$141:$H$150)+SUMIF($D$155:$D$159,Q26,$H$155:$H$159)+SUMIF($D$165:$D$174,Q26,$H$165:$H$174)+SUMIF($D$179:$D$183,Q26,$H$179:$H$183) -> 0
I27: =IF(AND(B27<>"",C27<>"",D27<>"",E27<>"",F27<>"",G27<>"",H27<>""),VLOOKUP(G27,通所リハビリテーション費!$A$20:$B$24,2,0),0) -> 0 | J27: =(I27*H27)*0.1*10 -> 0 | R27: =COUNTIF($D$21:$D$30,Q27)+COUNTIF($D$35:$D$39,Q27)+COUNTIF($D$45:$D$54,Q27)+COUNTIF($D$59:$D$63,Q27)+COUNTIF($D$69:$D$78,Q27)+COUNTIF($D$83:$D$87,Q27)+COUNTIF($D$93:$D$102,Q27)+COUNTIF($D$107:$D$111,Q27)+COUNTIF($D$117:$D$126,Q27)+COUNTIF($D$131:$D$135,Q27)+COUNTIF($D$141:$D$150,Q27)+COUNTIF($D$155:$D$159,Q27)+COUNTIF($D$165:$D$174,Q27)+COUNTIF($D$179:$D$183,Q27) -> 0 | S27: =SUMIF($D$21:$D$30,Q27,$H$21:$H$30)+SUMIF($D$35:$D$39,Q27,$H$35:$H$39)+SUMIF($D$45:$D$54,Q27,$H$45:$H$54)+SUMIF($D$59:$D$63,Q27,$H$59:$H$63)+SUMIF($D$69:$D$78,Q27,$H$69:$H$78)+SUMIF($D$83:$D$87,Q27,$H$83:$H$87)+SUMIF($D$93:$D$102,Q27,$H$93:$H$102)+SUMIF($D$107:$D$111,Q27,$H$107:$H$111)+SUMIF($D$117:$D$126,Q27,$H$117:$H$126)+SUMIF($D$131:$D$135,Q27,$H$131:$H$135)+SUMIF($D$141:$D$150,Q27,$H$141:$H$150)+SUMIF($D$155:$D$159,Q27,$H$155:$H$159)+SUMIF($D$165:$D$174,Q27,$H$165:$H$174)+SUMIF($D$179:$D$183,Q27,$H$179:$H$183) -> 0
I28: =IF(AND(B28<>"",C28<>"",D28<>"",E28<>"",F28<>"",G28<>"",H28<>""),VLOOKUP(G28,通所リハビリテーション費!$A$20:$B$24,2,0),0) -> 0 | J28: =(I28*H28)*0.1*10 -> 0 | R28: =COUNTIF($D$21:$D$30,Q28)+COUNTIF($D$35:$D$39,Q28)+COUNTIF($D$45:$D$54,Q28)+COUNTIF($D$59:$D$63,Q28)+COUNTIF($D$69:$D$78,Q28)+COUNTIF($D$83:$D$87,Q28)+COUNTIF($D$93:$D$102,Q28)+COUNTIF($D$107:$D$111,Q28)+COUNTIF($D$117:$D$126,Q28)+COUNTIF($D$131:$D$135,Q28)+COUNTIF($D$141:$D$150,Q28)+COUNTIF($D$155:$D$159,Q28)+COUNTIF($D$165:$D$174,Q28)+COUNTIF($D$179:$D$183,Q28) -> 0 | S28: =SUMIF($D$21:$D$30,Q28,$H$21:$H$30)+SUMIF($D$35:$D$39,Q28,$H$35:$H$39)+SUMIF($D$45:$D$54,Q28,$H$45:$H$54)+SUMIF($D$59:$D$63,Q28,$H$59:$H$63)+SUMIF($D$69:$D$78,Q28,$H$69:$H$78)+SUMIF($D$83:$D$87,Q28,$H$83:$H$87)+SUMIF($D$93:$D$102,Q28,$H$93:$H$102)+SUMIF($D$107:$D$111,Q28,$H$107:$H$111)+SUMIF($D$117:$D$126,Q28,$H$117:$H$126)+SUMIF($D$131:$D$135,Q28,$H$131:$H$135)+SUMIF($D$141:$D$150,Q28,$H$141:$H$150)+SUMIF($D$155:$D$159,Q28,$H$155:$H$159)+SUMIF($D$165:$D$174,Q28,$H$165:$H$174)+SUMIF($D$179:$D$183,Q28,$H$179:$H$183) -> 0
I29: =IF(AND(B29<>"",C29<>"",D29<>"",E29<>"",F29<>"",G29<>"",H29<>""),VLOOKUP(G29,通所リハビリテーション費!$A$20:$B$24,2,0),0) -> 0 | J29: =(I29*H29)*0.1*10 -> 0 | R29: =COUNTIF($D$21:$D$30,Q29)+COUNTIF($D$35:$D$39,Q29)+COUNTIF($D$45:$D$54,Q29)+COUNTIF($D$59:$D$63,Q29)+COUNTIF($D$69:$D$78,Q29)+COUNTIF($D$83:$D$87,Q29)+COUNTIF($D$93:$D$102,Q29)+COUNTIF($D$107:$D$111,Q29)+COUNTIF($D$117:$D$126,Q29)+COUNTIF($D$131:$D$135,Q29)+COUNTIF($D$141:$D$150,Q29)+COUNTIF($D$155:$D$159,Q29)+COUNTIF($D$165:$D$174,Q29)+COUNTIF($D$179:$D$183,Q29) -> 0 | S29: =SUMIF($D$21:$D$30,Q29,$H$21:$H$30)+SUMIF($D$35:$D$39,Q29,$H$35:$H$39)+SUMIF($D$45:$D$54,Q29,$H$45:$H$54)+SUMIF($D$59:$D$63,Q29,$H$59:$H$63)+SUMIF($D$69:$D$78,Q29,$H$69:$H$78)+SUMIF($D$83:$D$87,Q29,$H$83:$H$87)+SUMIF($D$93:$D$102,Q29,$H$93:$H$102)+SUMIF($D$107:$D$111,Q29,$H$107:$H$111)+SUMIF($D$117:$D$126,Q29,$H$117:$H$126)+SUMIF($D$131:$D$135,Q29,$H$131:$H$135)+SUMIF($D$141:$D$150,Q29,$H$141:$H$150)+SUMIF($D$155:$D$159,Q29,$H$155:$H$159)+SUMIF($D$165:$D$174,Q29,$H$165:$H$174)+SUMIF($D$179:$D$183,Q29,$H$179:$H$183) -> 0
I30: =IF(AND(B30<>"",C30<>"",D30<>"",E30<>"",F30<>"",G30<>"",H30<>""),VLOOKUP(G30,通所リハビリテーション費!$A$20:$B$24,2,0),0) -> 0 | J30: =(I30*H30)*0.1*10 -> 0 | R30: =COUNTIF($D$21:$D$30,Q30)+COUNTIF($D$35:$D$39,Q30)+COUNTIF($D$45:$D$54,Q30)+COUNTIF($D$59:$D$63,Q30)+COUNTIF($D$69:$D$78,Q30)+COUNTIF($D$83:$D$87,Q30)+COUNTIF($D$93:$D$102,Q30)+COUNTIF($D$107:$D$111,Q30)+COUNTIF($D$117:$D$126,Q30)+COUNTIF($D$131:$D$135,Q30)+COUNTIF($D$141:$D$150,Q30)+COUNTIF($D$155:$D$159,Q30)+COUNTIF($D$165:$D$174,Q30)+COUNTIF($D$179:$D$183,Q30) -> 0 | S30: =SUMIF($D$21:$D$30,Q30,$H$21:$H$30)+SUMIF($D$35:$D$39,Q30,$H$35:$H$39)+SUMIF($D$45:$D$54,Q30,$H$45:$H$54)+SUMIF($D$59:$D$63,Q30,$H$59:$H$63)+SUMIF($D$69:$D$78,Q30,$H$69:$H$78)+SUMIF($D$83:$D$87,Q30,$H$83:$H$87)+SUMIF($D$93:$D$102,Q30,$H$93:$H$102)+SUMIF($D$107:$D$111,Q30,$H$107:$H$111)+SUMIF($D$117:$D$126,Q30,$H$117:$H$126)+SUMIF($D$131:$D$135,Q30,$H$131:$H$135)+SUMIF($D$141:$D$150,Q30,$H$141:$H$150)+SUMIF($D$155:$D$159,Q30,$H$155:$H$159)+SUMIF($D$165:$D$174,Q30,$H$165:$H$174)+SUMIF($D$179:$D$183,Q30,$H$179:$H$183) -> 0
A31: 合計 | H31: =SUMIF(H21:H30,"<>#N/A") -> 0 | I31: =SUMIF(I21:I30,"<>#N/A") -> 0 | J31: =SUMIF(J21:J30,"<>#N/A") -> 0 | R31: =COUNTIF($D$21:$D$30,Q31)+COUNTIF($D$35:$D$39,Q31)+COUNTIF($D$45:$D$54,Q31)+COUNTIF($D$59:$D$63,Q31)+COUNTIF($D$69:$D$78,Q31)+COUNTIF($D$83:$D$87,Q31)+COUNTIF($D$93:$D$102,Q31)+COUNTIF($D$107:$D$111,Q31)+COUNTIF($D$117:$D$126,Q31)+COUNTIF($D$131:$D$135,Q31)+COUNTIF($D$141:$D$150,Q31)+COUNTIF($D$155:$D$159,Q31)+COUNTIF($D$165:$D$174,Q31)+COUNTIF($D$179:$D$183,Q31) -> 0 | S31: =SUMIF($D$21:$D$30,Q31,$H$21:$H$30)+SUMIF($D$35:$D$39,Q31,$H$35:$H$39)+SUMIF($D$45:$D$54,Q31,$H$45:$H$54)+SUMIF($D$59:$D$63,Q31,$H$59:$H$63)+SUMIF($D$69:$D$78,Q31,$H$69:$H$78)+SUMIF($D$83:$D$87,Q31,$H$83:$H$87)+SUMIF($D$93:$D$102,Q31,$H$93:$H$102)+SUMIF($D$107:$D$111,Q31,$H$107:$H$111)+SUMIF($D$117:$D$126,Q31,$H$117:$H$126)+SUMIF($D$131:$D$135,Q31,$H$131:$H$135)+SUMIF($D$141:$D$150,Q31,$H$141:$H$150)+SUMIF($D$155:$D$159,Q31,$H$155:$H$159)+SUMIF($D$165:$D$174,Q31,$H$165:$H$174)+SUMIF($D$179:$D$183,Q31,$H$179:$H$183) -> 0
R32: =COUNTIF($D$21:$D$30,Q32)+COUNTIF($D$35:$D$39,Q32)+COUNTIF($D$45:$D$54,Q32)+COUNTIF($D$59:$D$63,Q32)+COUNTIF($D$69:$D$78,Q32)+COUNTIF($D$83:$D$87,Q32)+COUNTIF($D$93:$D$102,Q32)+COUNTIF($D$107:$D$111,Q32)+COUNTIF($D$117:$D$126,Q32)+COUNTIF($D$131:$D$135,Q32)+COUNTIF($D$141:$D$150,Q32)+COUNTIF($D$155:$D$159,Q32)+COUNTIF($D$165:$D$174,Q32)+COUNTIF($D$179:$D$183,Q32) -> 0 | S32: =SUMIF($D$21:$D$30,Q32,$H$21:$H$30)+SUMIF($D$35:$D$39,Q32,$H$35:$H$39)+SUMIF($D$45:$D$54,Q32,$H$45:$H$54)+SUMIF($D$59:$D$63,Q32,$H$59:$H$63)+SUMIF($D$69:$D$78,Q32,$H$69:$H$78)+SUMIF($D$83:$D$87,Q32,$H$83:$H$87)+SUMIF($D$93:$D$102,Q32,$H$93:$H$102)+SUMIF($D$107:$D$111,Q32,$H$107:$H$111)+SUMIF($D$117:$D$126,Q32,$H$117:$H$126)+SUMIF($D$131:$D$135,Q32,$H$131:$H$135)+SUMIF($D$141:$D$150,Q32,$H$141:$H$150)+SUMIF($D$155:$D$159,Q32,$H$155:$H$159)+SUMIF($D$165:$D$174,Q32,$H$165:$H$174)+SUMIF($D$179:$D$183,Q32,$H$179:$H$183) -> 0
A33: ※片道のみ送迎を行った場合 | R33: =COUNTIF($D$21:$D$30,Q33)+COUNTIF($D$35:$D$39,Q33)+COUNTIF($D$45:$D$54,Q33)+COUNTIF($D$59:$D$63,Q33)+COUNTIF($D$69:$D$78,Q33)+COUNTIF($D$83:$D$87,Q33)+COUNTIF($D$93:$D$102,Q33)+COUNTIF($D$107:$D$111,Q33)+COUNTIF($D$117:$D$126,Q33)+COUNTIF($D$131:$D$135,Q33)+COUNTIF($D$141:$D$150,Q33)+COUNTIF($D$155:$D$159,Q33)+COUNTIF($D$165:$D$174,Q33)+COUNTIF($D$179:$D$183,Q33) -> 0 | S33: =SUMIF($D$21:$D$30,Q33,$H$21:$H$30)+SUMIF($D$35:$D$39,Q33,$H$35:$H$39)+SUMIF($D$45:$D$54,Q33,$H$45:$H$54)+SUMIF($D$59:$D$63,Q33,$H$59:$H$63)+SUMIF($D$69:$D$78,Q33,$H$69:$H$78)+SUMIF($D$83:$D$87,Q33,$H$83:$H$87)+SUMIF($D$93:$D$102,Q33,$H$93:$H$102)+SUMIF($D$107:$D$111,Q33,$H$107:$H$111)+SUMIF($D$117:$D$126,Q33,$H$117:$H$126)+SUMIF($D$131:$D$135,Q33,$H$131:$H$135)+SUMIF($D$141:$D$150,Q33,$H$141:$H$150)+SUMIF($D$155:$D$159,Q33,$H$155:$H$159)+SUMIF($D$165:$D$174,Q33,$H$165:$H$174)+SUMIF($D$179:$D$183,Q33,$H$179:$H$183) -> 0
A34: 所要時間1時間以上2時間未満の場合 | B34: 被保険者番号 | C34: 被保険者氏名 | D34: 地区名 | E34: 事業所から 利用者宅までの 距離（km） | F34: 事業所から 利用者宅までの 所要時間（分） | G34: 要介護度 | H34: サービス 提供回数 ※片道のみ | I34: 基本報酬 （月単位数） | J34: 基準額(月) | R34: =COUNTIF($D$21:$D$30,Q34)+COUNTIF($D$35:$D$39,Q34)+COUNTIF($D$45:$D$54,Q34)+COUNTIF($D$59:$D$63,Q34)+COUNTIF($D$69:$D$78,Q34)+COUNTIF($D$83:$D$87,Q34)+COUNTIF($D$93:$D$102,Q34)+COUNTIF($D$107:$D$111,Q34)+COUNTIF($D$117:$D$126,Q34)+COUNTIF($D$131:$D$135,Q34)+COUNTIF($D$141:$D$150,Q34)+COUNTIF($D$155:$D$159,Q34)+COUNTIF($D$165:$D$174,Q34)+COUNTIF($D$179:$D$183,Q34) -> 0 | S34: =SUMIF($D$21:$D$30,Q34,$H$21:$H$30)+SUMIF($D$35:$D$39,Q34,$H$35:$H$39)+SUMIF($D$45:$D$54,Q34,$H$45:$H$54)+SUMIF($D$59:$D$63,Q34,$H$59:$H$63)+SUMIF($D$69:$D$78,Q34,$H$69:$H$78)+SUMIF($D$83:$D$87,Q34,$H$83:$H$87)+SUMIF($D$93:$D$102,Q34,$H$93:$H$102)+SUMIF($D$107:$D$111,Q34,$H$107:$H$111)+SUMIF($D$117:$D$126,Q34,$H$117:$H$126)+SUMIF($D$131:$D$135,Q34,$H$131:$H$135)+SUMIF($D$141:$D$150,Q34,$H$141:$H$150)+SUMIF($D$155:$D$159,Q34,$H$155:$H$159)+SUMIF($D$165:$D$174,Q34,$H$165:$H$174)+SUMIF($D$179:$D$183,Q34,$H$179:$H$183) -> 0
I35: =IF(AND(B35<>"",C35<>"",D35<>"",E35<>"",F35<>"",G35<>"",H35<>""),VLOOKUP(G35,通所リハビリテーション費!$A$20:$B$24,2,0),0) -> 0 | J35: =((I35*H35)*0.1*10)/2 -> 0 | R35: =COUNTIF($D$21:$D$30,Q35)+COUNTIF($D$35:$D$39,Q35)+COUNTIF($D$45:$D$54,Q35)+COUNTIF($D$59:$D$63,Q35)+COUNTIF($D$69:$D$78,Q35)+COUNTIF($D$83:$D$87,Q35)+COUNTIF($D$93:$D$102,Q35)+COUNTIF($D$107:$D$111,Q35)+COUNTIF($D$117:$D$126,Q35)+COUNTIF($D$131:$D$135,Q35)+COUNTIF($D$141:$D$150,Q35)+COUNTIF($D$155:$D$159,Q35)+COUNTIF($D$165:$D$174,Q35)+COUNTIF($D$179:$D$183,Q35) -> 0 | S35: =SUMIF($D$21:$D$30,Q35,$H$21:$H$30)+SUMIF($D$35:$D$39,Q35,$H$35:$H$39)+SUMIF($D$45:$D$54,Q35,$H$45:$H$54)+SUMIF($D$59:$D$63,Q35,$H$59:$H$63)+SUMIF($D$69:$D$78,Q35,$H$69:$H$78)+SUMIF($D$83:$D$87,Q35,$H$83:$H$87)+SUMIF($D$93:$D$102,Q35,$H$93:$H$102)+SUMIF($D$107:$D$111,Q35,$H$107:$H$111)+SUMIF($D$117:$D$126,Q35,$H$117:$H$126)+SUMIF($D$131:$D$135,Q35,$H$131:$H$135)+SUMIF($D$141:$D$150,Q35,$H$141:$H$150)+SUMIF($D$155:$D$159,Q35,$H$155:$H$159)+SUMIF($D$165:$D$174,Q35,$H$165:$H$174)+SUMIF($D$179:$D$183,Q35,$H$179:$H$183) -> 0
I36: =IF(AND(B36<>"",C36<>"",D36<>"",E36<>"",F36<>"",G36<>"",H36<>""),VLOOKUP(G36,通所リハビリテーション費!$A$20:$B$24,2,0),0) -> 0 | J36: =((I36*H36)*0.1*10)/2 -> 0 | R36: =COUNTIF($D$21:$D$30,Q36)+COUNTIF($D$35:$D$39,Q36)+COUNTIF($D$45:$D$54,Q36)+COUNTIF($D$59:$D$63,Q36)+COUNTIF($D$69:$D$78,Q36)+COUNTIF($D$83:$D$87,Q36)+COUNTIF($D$93:$D$102,Q36)+COUNTIF($D$107:$D$111,Q36)+COUNTIF($D$117:$D$126,Q36)+COUNTIF($D$131:$D$135,Q36)+COUNTIF($D$141:$D$150,Q36)+COUNTIF($D$155:$D$159,Q36)+COUNTIF($D$165:$D$174,Q36)+COUNTIF($D$179:$D$183,Q36) -> 0 | S36: =SUMIF($D$21:$D$30,Q36,$H$21:$H$30)+SUMIF($D$35:$D$39,Q36,$H$35:$H$39)+SUMIF($D$45:$D$54,Q36,$H$45:$H$54)+SUMIF($D$59:$D$63,Q36,$H$59:$H$63)+SUMIF($D$69:$D$78,Q36,$H$69:$H$78)+SUMIF($D$83:$D$87,Q36,$H$83:$H$87)+SUMIF($D$93:$D$102,Q36,$H$93:$H$102)+SUMIF($D$107:$D$111,Q36,$H$107:$H$111)+SUMIF($D$117:$D$126,Q36,$H$117:$H$126)+SUMIF($D$131:$D$135,Q36,$H$131:$H$135)+SUMIF($D$141:$D$150,Q36,$H$141:$H$150)+SUMIF($D$155:$D$159,Q36,$H$155:$H$159)+SUMIF($D$165:$D$174,Q36,$H$165:$H$174)+SUMIF($D$179:$D$183,Q36,$H$179:$H$183) -> 0
I37: =IF(AND(B37<>"",C37<>"",D37<>"",E37<>"",F37<>"",G37<>"",H37<>""),VLOOKUP(G37,通所リハビリテーション費!$A$20:$B$24,2,0),0) -> 0 | J37: =((I37*H37)*0.1*10)/2 -> 0 | R37: =COUNTIF($D$21:$D$30,Q37)+COUNTIF($D$35:$D$39,Q37)+COUNTIF($D$45:$D$54,Q37)+COUNTIF($D$59:$D$63,Q37)+COUNTIF($D$69:$D$78,Q37)+COUNTIF($D$83:$D$87,Q37)+COUNTIF($D$93:$D$102,Q37)+COUNTIF($D$107:$D$111,Q37)+COUNTIF($D$117:$D$126,Q37)+COUNTIF($D$131:$D$135,Q37)+COUNTIF($D$141:$D$150,Q37)+COUNTIF($D$155:$D$159,Q37)+COUNTIF($D$165:$D$174,Q37)+COUNTIF($D$179:$D$183,Q37) -> 0 | S37: =SUMIF($D$21:$D$30,Q37,$H$21:$H$30)+SUMIF($D$35:$D$39,Q37,$H$35:$H$39)+SUMIF($D$45:$D$54,Q37,$H$45:$H$54)+SUMIF($D$59:$D$63,Q37,$H$59:$H$63)+SUMIF($D$69:$D$78,Q37,$H$69:$H$78)+SUMIF($D$83:$D$87,Q37,$H$83:$H$87)+SUMIF($D$93:$D$102,Q37,$H$93:$H$102)+SUMIF($D$107:$D$111,Q37,$H$107:$H$111)+SUMIF($D$117:$D$126,Q37,$H$117:$H$126)+SUMIF($D$131:$D$135,Q37,$H$131:$H$135)+SUMIF($D$141:$D$150,Q37,$H$141:$H$150)+SUMIF($D$155:$D$159,Q37,$H$155:$H$159)+SUMIF($D$165:$D$174,Q37,$H$165:$H$174)+SUMIF($D$179:$D$183,Q37,$H$179:$H$183) -> 0
I38: =IF(AND(B38<>"",C38<>"",D38<>"",E38<>"",F38<>"",G38<>"",H38<>""),VLOOKUP(G38,通所リハビリテーション費!$A$20:$B$24,2,0),0) -> 0 | J38: =((I38*H38)*0.1*10)/2 -> 0 | R38: =COUNTIF($D$21:$D$30,Q38)+COUNTIF($D$35:$D$39,Q38)+COUNTIF($D$45:$D$54,Q38)+COUNTIF($D$59:$D$63,Q38)+COUNTIF($D$69:$D$78,Q38)+COUNTIF($D$83:$D$87,Q38)+COUNTIF($D$93:$D$102,Q38)+COUNTIF($D$107:$D$111,Q38)+COUNTIF($D$117:$D$126,Q38)+COUNTIF($D$131:$D$135,Q38)+COUNTIF($D$141:$D$150,Q38)+COUNTIF($D$155:$D$159,Q38)+COUNTIF($D$165:$D$174,Q38)+COUNTIF($D$179:$D$183,Q38) -> 0 | S38: =SUMIF($D$21:$D$30,Q38,$H$21:$H$30)+SUMIF($D$35:$D$39,Q38,$H$35:$H$39)+SUMIF($D$45:$D$54,Q38,$H$45:$H$54)+SUMIF($D$59:$D$63,Q38,$H$59:$H$63)+SUMIF($D$69:$D$78,Q38,$H$69:$H$78)+SUMIF($D$83:$D$87,Q38,$H$83:$H$87)+SUMIF($D$93:$D$102,Q38,$H$93:$H$102)+SUMIF($D$107:$D$111,Q38,$H$107:$H$111)+SUMIF($D$117:$D$126,Q38,$H$117:$H$126)+SUMIF($D$131:$D$135,Q38,$H$131:$H$135)+SUMIF($D$141:$D$150,Q38,$H$141:$H$150)+SUMIF($D$155:$D$159,Q38,$H$155:$H$159)+SUMIF($D$165:$D$174,Q38,$H$165:$H$174)+SUMIF($D$179:$D$183,Q38,$H$179:$H$183) -> 0
I39: =IF(AND(B39<>"",C39<>"",D39<>"",E39<>"",F39<>"",G39<>"",H39<>""),VLOOKUP(G39,通所リハビリテーション費!$A$20:$B$24,2,0),0) -> 0 | J39: =((I39*H39)*0.1*10)/2 -> 0 | R39: =COUNTIF($D$21:$D$30,Q39)+COUNTIF($D$35:$D$39,Q39)+COUNTIF($D$45:$D$54,Q39)+COUNTIF($D$59:$D$63,Q39)+COUNTIF($D$69:$D$78,Q39)+COUNTIF($D$83:$D$87,Q39)+COUNTIF($D$93:$D$102,Q39)+COUNTIF($D$107:$D$111,Q39)+COUNTIF($D$117:$D$126,Q39)+COUNTIF($D$131:$D$135,Q39)+COUNTIF($D$141:$D$150,Q39)+COUNTIF($D$155:$D$159,Q39)+COUNTIF($D$165:$D$174,Q39)+COUNTIF($D$179:$D$183,Q39) -> 0 | S39: =SUMIF($D$21:$D$30,Q39,$H$21:$H$30)+SUMIF($D$35:$D$39,Q39,$H$35:$H$39)+SUMIF($D$45:$D$54,Q39,$H$45:$H$54)+SUMIF($D$59:$D$63,Q39,$H$59:$H$63)+SUMIF($D$69:$D$78,Q39,$H$69:$H$78)+SUMIF($D$83:$D$87,Q39,$H$83:$H$87)+SUMIF($D$93:$D$102,Q39,$H$93:$H$102)+SUMIF($D$107:$D$111,Q39,$H$107:$H$111)+SUMIF($D$117:$D$126,Q39,$H$117:$H$126)+SUMIF($D$131:$D$135,Q39,$H$131:$H$135)+SUMIF($D$141:$D$150,Q39,$H$141:$H$150)+SUMIF($D$155:$D$159,Q39,$H$155:$H$159)+SUMIF($D$165:$D$174,Q39,$H$165:$H$174)+SUMIF($D$179:$D$183,Q39,$H$179:$H$183) -> 0
A40: 合計 | H40: =SUMIF(H35:H39,"<>#N/A") -> 0 | I40: =SUMIF(I35:I39,"<>#N/A") -> 0 | J40: =SUMIF(J35:J39,"<>#N/A") -> 0 | R40: =COUNTIF($D$21:$D$30,Q40)+COUNTIF($D$35:$D$39,Q40)+COUNTIF($D$45:$D$54,Q40)+COUNTIF($D$59:$D$63,Q40)+COUNTIF($D$69:$D$78,Q40)+COUNTIF($D$83:$D$87,Q40)+COUNTIF($D$93:$D$102,Q40)+COUNTIF($D$107:$D$111,Q40)+COUNTIF($D$117:$D$126,Q40)+COUNTIF($D$131:$D$135,Q40)+COUNTIF($D$141:$D$150,Q40)+COUNTIF($D$155:$D$159,Q40)+COUNTIF($D$165:$D$174,Q40)+COUNTIF($D$179:$D$183,Q40) -> 0 | S40: =SUMIF($D$21:$D$30,Q40,$H$21:$H$30)+SUMIF($D$35:$D$39,Q40,$H$35:$H$39)+SUMIF($D$45:$D$54,Q40,$H$45:$H$54)+SUMIF($D$59:$D$63,Q40,$H$59:$H$63)+SUMIF($D$69:$D$78,Q40,$H$69:$H$78)+SUMIF($D$83:$D$87,Q40,$H$83:$H$87)+SUMIF($D$93:$D$102,Q40,$H$93:$H$102)+SUMIF($D$107:$D$111,Q40,$H$107:$H$111)+SUMIF($D$117:$D$126,Q40,$H$117:$H$126)+SUMIF($D$131:$D$135,Q40,$H$131:$H$135)+SUMIF($D$141:$D$150,Q40,$H$141:$H$150)+SUMIF($D$155:$D$159,Q40,$H$155:$H$159)+SUMIF($D$165:$D$174,Q40,$H$165:$H$174)+SUMIF($D$179:$D$183,Q40,$H$179:$H$183) -> 0
R41: =COUNTIF($D$21:$D$30,Q41)+COUNTIF($D$35:$D$39,Q41)+COUNTIF($D$45:$D$54,Q41)+COUNTIF($D$59:$D$63,Q41)+COUNTIF($D$69:$D$78,Q41)+COUNTIF($D$83:$D$87,Q41)+COUNTIF($D$93:$D$102,Q41)+COUNTIF($D$107:$D$111,Q41)+COUNTIF($D$117:$D$126,Q41)+COUNTIF($D$131:$D$135,Q41)+COUNTIF($D$141:$D$150,Q41)+COUNTIF($D$155:$D$159,Q41)+COUNTIF($D$165:$D$174,Q41)+COUNTIF($D$179:$D$183,Q41) -> 0 | S41: =SUMIF($D$21:$D$30,Q41,$H$21:$H$30)+SUMIF($D$35:$D$39,Q41,$H$35:$H$39)+SUMIF($D$45:$D$54,Q41,$H$45:$H$54)+SUMIF($D$59:$D$63,Q41,$H$59:$H$63)+SUMIF($D$69:$D$78,Q41,$H$69:$H$78)+SUMIF($D$83:$D$87,Q41,$H$83:$H$87)+SUMIF($D$93:$D$102,Q41,$H$93:$H$102)+SUMIF($D$107:$D$111,Q41,$H$107:$H$111)+SUMIF($D$117:$D$126,Q41,$H$117:$H$126)+SUMIF($D$131:$D$135,Q41,$H$131:$H$135)+SUMIF($D$141:$D$150,Q41,$H$141:$H$150)+SUMIF($D$155:$D$159,Q41,$H$155:$H$159)+SUMIF($D$165:$D$174,Q41,$H$165:$H$174)+SUMIF($D$179:$D$183,Q41,$H$179:$H$183) -> 0
A42: （2）所要時間2時間以上3時間未満の場合 | R42: =COUNTIF($D$21:$D$30,Q42)+COUNTIF($D$35:$D$39,Q42)+COUNTIF($D$45:$D$54,Q42)+COUNTIF($D$59:$D$63,Q42)+COUNTIF($D$69:$D$78,Q42)+COUNTIF($D$83:$D$87,Q42)+COUNTIF($D$93:$D$102,Q42)+COUNTIF($D$107:$D$111,Q42)+COUNTIF($D$117:$D$126,Q42)+COUNTIF($D$131:$D$135,Q42)+COUNTIF($D$141:$D$150,Q42)+COUNTIF($D$155:$D$159,Q42)+COUNTIF($D$165:$D$174,Q42)+COUNTIF($D$179:$D$183,Q42) -> 0 | S42: =SUMIF($D$21:$D$30,Q42,$H$21:$H$30)+SUMIF($D$35:$D$39,Q42,$H$35:$H$39)+SUMIF($D$45:$D$54,Q42,$H$45:$H$54)+SUMIF($D$59:$D$63,Q42,$H$59:$H$63)+SUMIF($D$69:$D$78,Q42,$H$69:$H$78)+SUMIF($D$83:$D$87,Q42,$H$83:$H$87)+SUMIF($D$93:$D$102,Q42,$H$93:$H$102)+SUMIF($D$107:$D$111,Q42,$H$107:$H$111)+SUMIF($D$117:$D$126,Q42,$H$117:$H$126)+SUMIF($D$131:$D$135,Q42,$H$131:$H$135)+SUMIF($D$141:$D$150,Q42,$H$141:$H$150)+SUMIF($D$155:$D$159,Q42,$H$155:$H$159)+SUMIF($D$165:$D$174,Q42,$H$165:$H$174)+SUMIF($D$179:$D$183,Q42,$H$179:$H$183) -> 0
A43: ※往復の送迎を行った場合 （片道のみ送迎を行った場合は下記別表に入力すること） | R43: =COUNTIF($D$21:$D$30,Q43)+COUNTIF($D$35:$D$39,Q43)+COUNTIF($D$45:$D$54,Q43)+COUNTIF($D$59:$D$63,Q43)+COUNTIF($D$69:$D$78,Q43)+COUNTIF($D$83:$D$87,Q43)+COUNTIF($D$93:$D$102,Q43)+COUNTIF($D$107:$D$111,Q43)+COUNTIF($D$117:$D$126,Q43)+COUNTIF($D$131:$D$135,Q43)+COUNTIF($D$141:$D$150,Q43)+COUNTIF($D$155:$D$159,Q43)+COUNTIF($D$165:$D$174,Q43)+COUNTIF($D$179:$D$183,Q43) -> 0 | S43: =SUMIF($D$21:$D$30,Q43,$H$21:$H$30)+SUMIF($D$35:$D$39,Q43,$H$35:$H$39)+SUMIF($D$45:$D$54,Q43,$H$45:$H$54)+SUMIF($D$59:$D$63,Q43,$H$59:$H$63)+SUMIF($D$69:$D$78,Q43,$H$69:$H$78)+SUMIF($D$83:$D$87,Q43,$H$83:$H$87)+SUMIF($D$93:$D$102,Q43,$H$93:$H$102)+SUMIF($D$107:$D$111,Q43,$H$107:$H$111)+SUMIF($D$117:$D$126,Q43,$H$117:$H$126)+SUMIF($D$131:$D$135,Q43,$H$131:$H$135)+SUMIF($D$141:$D$150,Q43,$H$141:$H$150)+SUMIF($D$155:$D$159,Q43,$H$155:$H$159)+SUMIF($D$165:$D$174,Q43,$H$165:$H$174)+SUMIF($D$179:$D$183,Q43,$H$179:$H$183) -> 0
A44: 所要時間2時間以上3時間未満の場合 | B44: 被保険者番号 | C44: 被保険者氏名 | D44: 地区名 | E44: 事業所から 利用者宅までの 距離（km） | F44: 事業所から 利用者宅までの 所要時間（分） | G44: 要介護度 | H44: サービス 提供回数 | I44: 基本報酬 （月単位数） | J44: 基準額(月) | R44: =COUNTIF($D$21:$D$30,Q44)+COUNTIF($D$35:$D$39,Q44)+COUNTIF($D$45:$D$54,Q44)+COUNTIF($D$59:$D$63,Q44)+COUNTIF($D$69:$D$78,Q44)+COUNTIF($D$83:$D$87,Q44)+COUNTIF($D$93:$D$102,Q44)+COUNTIF($D$107:$D$111,Q44)+COUNTIF($D$117:$D$126,Q44)+COUNTIF($D$131:$D$135,Q44)+COUNTIF($D$141:$D$150,Q44)+COUNTIF($D$155:$D$159,Q44)+COUNTIF($D$165:$D$174,Q44)+COUNTIF($D$179:$D$183,Q44) -> 0 | S44: =SUMIF($D$21:$D$30,Q44,$H$21:$H$30)+SUMIF($D$35:$D$39,Q44,$H$35:$H$39)+SUMIF($D$45:$D$54,Q44,$H$45:$H$54)+SUMIF($D$59:$D$63,Q44,$H$59:$H$63)+SUMIF($D$69:$D$78,Q44,$H$69:$H$78)+SUMIF($D$83:$D$87,Q44,$H$83:$H$87)+SUMIF($D$93:$D$102,Q44,$H$93:$H$102)+SUMIF($D$107:$D$111,Q44,$H$107:$H$111)+SUMIF($D$117:$D$126,Q44,$H$117:$H$126)+SUMIF($D$131:$D$135,Q44,$H$131:$H$135)+SUMIF($D$141:$D$150,Q44,$H$141:$H$150)+SUMIF($D$155:$D$159,Q44,$H$155:$H$159)+SUMIF($D$165:$D$174,Q44,$H$165:$H$174)+SUMIF($D$179:$D$183,Q44,$H$179:$H$183) -> 0
I45: =IF(AND(B45<>"",C45<>"",D45<>"",E45<>"",F45<>"",G45<>"",H45<>""),VLOOKUP(G45,通所リハビリテーション費!$A$27:$B$31,2,0),0) -> 0 | J45: =(I45*H45)*0.1*10 -> 0 | R45: =COUNTIF($D$21:$D$30,Q45)+COUNTIF($D$35:$D$39,Q45)+COUNTIF($D$45:$D$54,Q45)+COUNTIF($D$59:$D$63,Q45)+COUNTIF($D$69:$D$78,Q45)+COUNTIF($D$83:$D$87,Q45)+COUNTIF($D$93:$D$102,Q45)+COUNTIF($D$107:$D$111,Q45)+COUNTIF($D$117:$D$126,Q45)+COUNTIF($D$131:$D$135,Q45)+COUNTIF($D$141:$D$150,Q45)+COUNTIF($D$155:$D$159,Q45)+COUNTIF($D$165:$D$174,Q45)+COUNTIF($D$179:$D$183,Q45) -> 0 | S45: =SUMIF($D$21:$D$30,Q45,$H$21:$H$30)+SUMIF($D$35:$D$39,Q45,$H$35:$H$39)+SUMIF($D$45:$D$54,Q45,$H$45:$H$54)+SUMIF($D$59:$D$63,Q45,$H$59:$H$63)+SUMIF($D$69:$D$78,Q45,$H$69:$H$78)+SUMIF($D$83:$D$87,Q45,$H$83:$H$87)+SUMIF($D$93:$D$102,Q45,$H$93:$H$102)+SUMIF($D$107:$D$111,Q45,$H$107:$H$111)+SUMIF($D$117:$D$126,Q45,$H$117:$H$126)+SUMIF($D$131:$D$135,Q45,$H$131:$H$135)+SUMIF($D$141:$D$150,Q45,$H$141:$H$150)+SUMIF($D$155:$D$159,Q45,$H$155:$H$159)+SUMIF($D$165:$D$174,Q45,$H$165:$H$174)+SUMIF($D$179:$D$183,Q45,$H$179:$H$183) -> 0
I46: =IF(AND(B46<>"",C46<>"",D46<>"",E46<>"",F46<>"",G46<>"",H46<>""),VLOOKUP(G46,通所リハビリテーション費!$A$27:$B$31,2,0),0) -> 0 | J46: =(I46*H46)*0.1*10 -> 0 | R46: =SUM(R3:R45) -> 0 | S46: =SUM(S3:S45) -> 0
I47: =IF(AND(B47<>"",C47<>"",D47<>"",E47<>"",F47<>"",G47<>"",H47<>""),VLOOKUP(G47,通所リハビリテーション費!$A$27:$B$31,2,0),0) -> 0 | J47: =(I47*H47)*0.1*10 -> 0
I48: =IF(AND(B48<>"",C48<>"",D48<>"",E48<>"",F48<>"",G48<>"",H48<>""),VLOOKUP(G48,通所リハビリテーション費!$A$27:$B$31,2,0),0) -> 0 | J48: =(I48*H48)*0.1*10 -> 0
I49: =IF(AND(B49<>"",C49<>"",D49<>"",E49<>"",F49<>"",G49<>"",H49<>""),VLOOKUP(G49,通所リハビリテーション費!$A$27:$B$31,2,0),0) -> 0 | J49: =(I49*H49)*0.1*10 -> 0
I50: =IF(AND(B50<>"",C50<>"",D50<>"",E50<>"",F50<>"",G50<>"",H50<>""),VLOOKUP(G50,通所リハビリテーション費!$A$27:$B$31,2,0),0) -> 0 | J50: =(I50*H50)*0.1*10 -> 0
I51: =IF(AND(B51<>"",C51<>"",D51<>"",E51<>"",F51<>"",G51<>"",H51<>""),VLOOKUP(G51,通所リハビリテーション費!$A$27:$B$31,2,0),0) -> 0 | J51: =(I51*H51)*0.1*10 -> 0
I52: =IF(AND(B52<>"",C52<>"",D52<>"",E52<>"",F52<>"",G52<>"",H52<>""),VLOOKUP(G52,通所リハビリテーション費!$A$27:$B$31,2,0),0) -> 0 | J52: =(I52*H52)*0.1*10 -> 0
I53: =IF(AND(B53<>"",C53<>"",D53<>"",E53<>"",F53<>"",G53<>"",H53<>""),VLOOKUP(G53,通所リハビリテーション費!$A$27:$B$31,2,0),0) -> 0 | J53: =(I53*H53)*0.1*10 -> 0
I54: =IF(AND(B54<>"",C54<>"",D54<>"",E54<>"",F54<>"",G54<>"",H54<>""),VLOOKUP(G54,通所リハビリテーション費!$A$27:$B$31,2,0),0) -> 0 | J54: =(I54*H54)*0.1*10 -> 0
A55: 合計 | H55: =SUMIF(H45:H54,"<>#N/A") -> 0 | I55: =SUMIF(I45:I54,"<>#N/A") -> 0 | J55: =SUMIF(J45:J54,"<>#N/A") -> 0
A57: ※片道のみ送迎を行った場合
A58: 所要時間2時間以上3時間未満の場合 | B58: 被保険者番号 | C58: 被保険者氏名 | D58: 地区名 | E58: 事業所から 利用者宅までの 距離（km） | F58: 事業所から 利用者宅までの 所要時間（分） | G58: 要介護度 | H58: サービス 提供回数 ※片道のみ | I58: 基本報酬 （月単位数） | J58: 基準額(月)
I59: =IF(AND(B59<>"",C59<>"",D59<>"",E59<>"",F59<>"",G59<>"",H59<>""),VLOOKUP(G59,通所リハビリテーション費!$A$27:$B$31,2,0),0) -> 0 | J59: =((I59*H59)*0.1*10)/2 -> 0
I60: =IF(AND(B60<>"",C60<>"",D60<>"",E60<>"",F60<>"",G60<>"",H60<>""),VLOOKUP(G60,通所リハビリテーション費!$A$27:$B$31,2,0),0) -> 0 | J60: =((I60*H60)*0.1*10)/2 -> 0
I61: =IF(AND(B61<>"",C61<>"",D61<>"",E61<>"",F61<>"",G61<>"",H61<>""),VLOOKUP(G61,通所リハビリテーション費!$A$27:$B$31,2,0),0) -> 0 | J61: =((I61*H61)*0.1*10)/2 -> 0
I62: =IF(AND(B62<>"",C62<>"",D62<>"",E62<>"",F62<>"",G62<>"",H62<>""),VLOOKUP(G62,通所リハビリテーション費!$A$27:$B$31,2,0),0) -> 0 | J62: =((I62*H62)*0.1*10)/2 -> 0
I63: =IF(AND(B63<>"",C63<>"",D63<>"",E63<>"",F63<>"",G63<>"",H63<>""),VLOOKUP(G63,通所リハビリテーション費!$A$27:$B$31,2,0),0) -> 0 | J63: =((I63*H63)*0.1*10)/2 -> 0
A64: 合計 | H64: =SUMIF(H59:H63,"<>#N/A") -> 0 | I64: =SUMIF(I59:I63,"<>#N/A") -> 0 | J64: =SUMIF(J59:J63,"<>#N/A") -> 0
A66: （3）所要時間3時間以上4時間未満の場合
A67: ※往復の送迎を行った場合 （片道のみ送迎を行った場合は下記別表に入力すること）
A68: 所要時間3時間以上4時間未満の場合 | B68: 被保険者番号 | C68: 被保険者氏名 | D68: 地区名 | E68: 事業所から 利用者宅までの 距離（km） | F68: 事業所から 利用者宅までの 所要時間（分） | G68: 要介護度 | H68: サービス 提供回数 | I68: 基本報酬 （月単位数） | J68: 基準額(月)
I69: =IF(AND(B69<>"",C69<>"",D69<>"",E69<>"",F69<>"",G69<>"",H69<>""),VLOOKUP(G69,通所リハビリテーション費!$A$34:$B$38,2,0),0) -> 0 | J69: =(I69*H69)*0.1*10 -> 0
I70: =IF(AND(B70<>"",C70<>"",D70<>"",E70<>"",F70<>"",G70<>"",H70<>""),VLOOKUP(G70,通所リハビリテーション費!$A$34:$B$38,2,0),0) -> 0 | J70: =(I70*H70)*0.1*10 -> 0
I71: =IF(AND(B71<>"",C71<>"",D71<>"",E71<>"",F71<>"",G71<>"",H71<>""),VLOOKUP(G71,通所リハビリテーション費!$A$34:$B$38,2,0),0) -> 0 | J71: =(I71*H71)*0.1*10 -> 0
I72: =IF(AND(B72<>"",C72<>"",D72<>"",E72<>"",F72<>"",G72<>"",H72<>""),VLOOKUP(G72,通所リハビリテーション費!$A$34:$B$38,2,0),0) -> 0 | J72: =(I72*H72)*0.1*10 -> 0
I73: =IF(AND(B73<>"",C73<>"",D73<>"",E73<>"",F73<>"",G73<>"",H73<>""),VLOOKUP(G73,通所リハビリテーション費!$A$34:$B$38,2,0),0) -> 0 | J73: =(I73*H73)*0.1*10 -> 0
I74: =IF(AND(B74<>"",C74<>"",D74<>"",E74<>"",F74<>"",G74<>"",H74<>""),VLOOKUP(G74,通所リハビリテーション費!$A$34:$B$38,2,0),0) -> 0 | J74: =(I74*H74)*0.1*10 -> 0
I75: =IF(AND(B75<>"",C75<>"",D75<>"",E75<>"",F75<>"",G75<>"",H75<>""),VLOOKUP(G75,通所リハビリテーション費!$A$34:$B$38,2,0),0) -> 0 | J75: =(I75*H75)*0.1*10 -> 0
I76: =IF(AND(B76<>"",C76<>"",D76<>"",E76<>"",F76<>"",G76<>"",H76<>""),VLOOKUP(G76,通所リハビリテーション費!$A$34:$B$38,2,0),0) -> 0 | J76: =(I76*H76)*0.1*10 -> 0
I77: =IF(AND(B77<>"",C77<>"",D77<>"",E77<>"",F77<>"",G77<>"",H77<>""),VLOOKUP(G77,通所リハビリテーション費!$A$34:$B$38,2,0),0) -> 0 | J77: =(I77*H77)*0.1*10 -> 0
I78: =IF(AND(B78<>"",C78<>"",D78<>"",E78<>"",F78<>"",G78<>"",H78<>""),VLOOKUP(G78,通所リハビリテーション費!$A$34:$B$38,2,0),0) -> 0 | J78: =(I78*H78)*0.1*10 -> 0
A79: 合計 | H79: =SUMIF(H69:H78,"<>#N/A") -> 0 | I79: =SUMIF(I69:I78,"<>#N/A") -> 0 | J79: =SUMIF(J69:J78,"<>#N/A") -> 0
A81: ※片道のみ送迎を行った場合
A82: 所要時間3時間以上4時間未満の場合 | B82: 被保険者番号 | C82: 被保険者氏名 | D82: 地区名 | E82: 事業所から 利用者宅までの 距離（km） | F82: 事業所から 利用者宅までの 所要時間（分） | G82: 要介護度 | H82: サービス 提供回数 ※片道のみ | I82: 基本報酬 （月単位数） | J82: 基準額(月)
I83: =IF(AND(B83<>"",C83<>"",D83<>"",E83<>"",F83<>"",G83<>"",H83<>""),VLOOKUP(G83,通所リハビリテーション費!$A$34:$B$38,2,0),0) -> 0 | J83: =((I83*H83)*0.1*10)/2 -> 0
I84: =IF(AND(B84<>"",C84<>"",D84<>"",E84<>"",F84<>"",G84<>"",H84<>""),VLOOKUP(G84,通所リハビリテーション費!$A$34:$B$38,2,0),0) -> 0 | J84: =((I84*H84)*0.1*10)/2 -> 0
I85: =IF(AND(B85<>"",C85<>"",D85<>"",E85<>"",F85<>"",G85<>"",H85<>""),VLOOKUP(G85,通所リハビリテーション費!$A$34:$B$38,2,0),0) -> 0 | J85: =((I85*H85)*0.1*10)/2 -> 0
I86: =IF(AND(B86<>"",C86<>"",D86<>"",E86<>"",F86<>"",G86<>"",H86<>""),VLOOKUP(G86,通所リハビリテーション費!$A$34:$B$38,2,0),0) -> 0 | J86: =((I86*H86)*0.1*10)/2 -> 0
I87: =IF(AND(B87<>"",C87<>"",D87<>"",E87<>"",F87<>"",G87<>"",H87<>""),VLOOKUP(G87,通所リハビリテーション費!$A$34:$B$38,2,0),0) -> 0 | J87: =((I87*H87)*0.1*10)/2 -> 0
A88: 合計 | H88: =SUMIF(H83:H87,"<>#N/A") -> 0 | I88: =SUMIF(I83:I87,"<>#N/A") -> 0 | J88: =SUMIF(J83:J87,"<>#N/A") -> 0
A90: （4）所要時間4時間以上5時間未満の場合
A91: ※往復の送迎を行った場合 （片道のみ送迎を行った場合は下記別表に入力すること）
A92: 所要時間4時間以上5時間未満の場合 | B92: 被保険者番号 | C92: 被保険者氏名 | D92: 地区名 | E92: 事業所から 利用者宅までの 距離（km） | F92: 事業所から 利用者宅までの 所要時間（分） | G92: 要介護度 | H92: サービス 提供回数 | I92: 基本報酬 （月単位数） | J92: 基準額(月)
I93: =IF(AND(B93<>"",C93<>"",D93<>"",E93<>"",F93<>"",G93<>"",H93<>""),VLOOKUP(G93,通所リハビリテーション費!$A$41:$B$45,2,0),0) -> 0 | J93: =(I93*H93)*0.1*10 -> 0
I94: =IF(AND(B94<>"",C94<>"",D94<>"",E94<>"",F94<>"",G94<>"",H94<>""),VLOOKUP(G94,通所リハビリテーション費!$A$41:$B$45,2,0),0) -> 0 | J94: =(I94*H94)*0.1*10 -> 0
I95: =IF(AND(B95<>"",C95<>"",D95<>"",E95<>"",F95<>"",G95<>"",H95<>""),VLOOKUP(G95,通所リハビリテーション費!$A$41:$B$45,2,0),0) -> 0 | J95: =(I95*H95)*0.1*10 -> 0
I96: =IF(AND(B96<>"",C96<>"",D96<>"",E96<>"",F96<>"",G96<>"",H96<>""),VLOOKUP(G96,通所リハビリテーション費!$A$41:$B$45,2,0),0) -> 0 | J96: =(I96*H96)*0.1*10 -> 0
I97: =IF(AND(B97<>"",C97<>"",D97<>"",E97<>"",F97<>"",G97<>"",H97<>""),VLOOKUP(G97,通所リハビリテーション費!$A$41:$B$45,2,0),0) -> 0 | J97: =(I97*H97)*0.1*10 -> 0
I98: =IF(AND(B98<>"",C98<>"",D98<>"",E98<>"",F98<>"",G98<>"",H98<>""),VLOOKUP(G98,通所リハビリテーション費!$A$41:$B$45,2,0),0) -> 0 | J98: =(I98*H98)*0.1*10 -> 0
I99: =IF(AND(B99<>"",C99<>"",D99<>"",E99<>"",F99<>"",G99<>"",H99<>""),VLOOKUP(G99,通所リハビリテーション費!$A$41:$B$45,2,0),0) -> 0 | J99: =(I99*H99)*0.1*10 -> 0
I100: =IF(AND(B100<>"",C100<>"",D100<>"",E100<>"",F100<>"",G100<>"",H100<>""),VLOOKUP(G100,通所リハビリテーション費!$A$41:$B$45,2,0),0) -> 0 | J100: =(I100*H100)*0.1*10 -> 0
I101: =IF(AND(B101<>"",C101<>"",D101<>"",E101<>"",F101<>"",G101<>"",H101<>""),VLOOKUP(G101,通所リハビリテーション費!$A$41:$B$45,2,0),0) -> 0 | J101: =(I101*H101)*0.1*10 -> 0
I102: =IF(AND(B102<>"",C102<>"",D102<>"",E102<>"",F102<>"",G102<>"",H102<>""),VLOOKUP(G102,通所リハビリテーション費!$A$41:$B$45,2,0),0) -> 0 | J102: =(I102*H102)*0.1*10 -> 0
A103: 合計 | H103: =SUMIF(H93:H102,"<>#N/A") -> 0 | I103: =SUMIF(I93:I102,"<>#N/A") -> 0 | J103: =SUMIF(J93:J102,"<>#N/A") -> 0
A105: ※片道のみ送迎を行った場合
...

Sheet (附表2)実施状況報告（６月）
A1: 附表2 | H1: 令和 年 月 日
A2: 吉備中央町長 様 | R2: 対象者人数 | S2: サービス 提供回数
Q3: ='(附表2)実施状況報告（５月）'!Q3 -> 広面 | R3: =COUNTIF($D$21:$D$30,Q3)+COUNTIF($D$35:$D$39,Q3)+COUNTIF($D$45:$D$54,Q3)+COUNTIF($D$59:$D$63,Q3)+COUNTIF($D$69:$D$78,Q3)+COUNTIF($D$83:$D$87,Q3)+COUNTIF($D$93:$D$102,Q3)+COUNTIF($D$107:$D$111,Q3)+COUNTIF($D$117:$D$126,Q3)+COUNTIF($D$131:$D$135,Q3)+COUNTIF($D$141:$D$150,Q3)+COUNTIF($D$155:$D$159,Q3)+COUNTIF($D$165:$D$174,Q3)+COUNTIF($D$179:$D$183,Q3) -> 0 | S3: =SUMIF($D$21:$D$30,Q3,$H$21:$H$30)+SUMIF($D$35:$D$39,Q3,$H$35:$H$39)+SUMIF($D$45:$D$54,Q3,$H$45:$H$54)+SUMIF($D$59:$D$63,Q3,$H$59:$H$63)+SUMIF($D$69:$D$78,Q3,$H$69:$H$78)+SUMIF($D$83:$D$87,Q3,$H$83:$H$87)+SUMIF($D$93:$D$102,Q3,$H$93:$H$102)+SUMIF($D$107:$D$111,Q3,$H$107:$H$111)+SUMIF($D$117:$D$126,Q3,$H$117:$H$126)+SUMIF($D$131:$D$135,Q3,$H$131:$H$135)+SUMIF($D$141:$D$150,Q3,$H$141:$H$150)+SUMIF($D$155:$D$159,Q3,$H$155:$H$159)+SUMIF($D$165:$D$174,Q3,$H$165:$H$174)+SUMIF($D$179:$D$183,Q3,$H$179:$H$183) -> 0
A4: 実 施 状 況 報 告 明 細 書 （通所リハビリテーション事業所用、通常規模型リハビリテーション費） 令和８年６月分 | Q4: ='(附表2)実施状況報告（５月）'!Q4 -> 上加茂 | R4: =COUNTIF($D$21:$D$30,Q4)+COUNTIF($D$35:$D$39,Q4)+COUNTIF($D$45:$D$54,Q4)+COUNTIF($D$59:$D$63,Q4)+COUNTIF($D$69:$D$78,Q4)+COUNTIF($D$83:$D$87,Q4)+COUNTIF($D$93:$D$102,Q4)+COUNTIF($D$107:$D$111,Q4)+COUNTIF($D$117:$D$126,Q4)+COUNTIF($D$131:$D$135,Q4)+COUNTIF($D$141:$D$150,Q4)+COUNTIF($D$155:$D$159,Q4)+COUNTIF($D$165:$D$174,Q4)+COUNTIF($D$179:$D$183,Q4) -> 0 | S4: =SUMIF($D$21:$D$30,Q4,$H$21:$H$30)+SUMIF($D$35:$D$39,Q4,$H$35:$H$39)+SUMIF($D$45:$D$54,Q4,$H$45:$H$54)+SUMIF($D$59:$D$63,Q4,$H$59:$H$63)+SUMIF($D$69:$D$78,Q4,$H$69:$H$78)+SUMIF($D$83:$D$87,Q4,$H$83:$H$87)+SUMIF($D$93:$D$102,Q4,$H$93:$H$102)+SUMIF($D$107:$D$111,Q4,$H$107:$H$111)+SUMIF($D$117:$D$126,Q4,$H$117:$H$126)+SUMIF($D$131:$D$135,Q4,$H$131:$H$135)+SUMIF($D$141:$D$150,Q4,$H$141:$H$150)+SUMIF($D$155:$D$159,Q4,$H$155:$H$159)+SUMIF($D$165:$D$174,Q4,$H$165:$H$174)+SUMIF($D$179:$D$183,Q4,$H$179:$H$183) -> 0
Q5: ='(附表2)実施状況報告（５月）'!Q5 -> 下加茂 | R5: =COUNTIF($D$21:$D$30,Q5)+COUNTIF($D$35:$D$39,Q5)+COUNTIF($D$45:$D$54,Q5)+COUNTIF($D$59:$D$63,Q5)+COUNTIF($D$69:$D$78,Q5)+COUNTIF($D$83:$D$87,Q5)+COUNTIF($D$93:$D$102,Q5)+COUNTIF($D$107:$D$111,Q5)+COUNTIF($D$117:$D$126,Q5)+COUNTIF($D$131:$D$135,Q5)+COUNTIF($D$141:$D$150,Q5)+COUNTIF($D$155:$D$159,Q5)+COUNTIF($D$165:$D$174,Q5)+COUNTIF($D$179:$D$183,Q5) -> 0 | S5: =SUMIF($D$21:$D$30,Q5,$H$21:$H$30)+SUMIF($D$35:$D$39,Q5,$H$35:$H$39)+SUMIF($D$45:$D$54,Q5,$H$45:$H$54)+SUMIF($D$59:$D$63,Q5,$H$59:$H$63)+SUMIF($D$69:$D$78,Q5,$H$69:$H$78)+SUMIF($D$83:$D$87,Q5,$H$83:$H$87)+SUMIF($D$93:$D$102,Q5,$H$93:$H$102)+SUMIF($D$107:$D$111,Q5,$H$107:$H$111)+SUMIF($D$117:$D$126,Q5,$H$117:$H$126)+SUMIF($D$131:$D$135,Q5,$H$131:$H$135)+SUMIF($D$141:$D$150,Q5,$H$141:$H$150)+SUMIF($D$155:$D$159,Q5,$H$155:$H$159)+SUMIF($D$165:$D$174,Q5,$H$165:$H$174)+SUMIF($D$179:$D$183,Q5,$H$179:$H$183) -> 0
A6: 1.事業所情報 | Q6: ='(附表2)実施状況報告（５月）'!Q6 -> 美原 | R6: =COUNTIF($D$21:$D$30,Q6)+COUNTIF($D$35:$D$39,Q6)+COUNTIF($D$45:$D$54,Q6)+COUNTIF($D$59:$D$63,Q6)+COUNTIF($D$69:$D$78,Q6)+COUNTIF($D$83:$D$87,Q6)+COUNTIF($D$93:$D$102,Q6)+COUNTIF($D$107:$D$111,Q6)+COUNTIF($D$117:$D$126,Q6)+COUNTIF($D$131:$D$135,Q6)+COUNTIF($D$141:$D$150,Q6)+COUNTIF($D$155:$D$159,Q6)+COUNTIF($D$165:$D$174,Q6)+COUNTIF($D$179:$D$183,Q6) -> 0 | S6: =SUMIF($D$21:$D$30,Q6,$H$21:$H$30)+SUMIF($D$35:$D$39,Q6,$H$35:$H$39)+SUMIF($D$45:$D$54,Q6,$H$45:$H$54)+SUMIF($D$59:$D$63,Q6,$H$59:$H$63)+SUMIF($D$69:$D$78,Q6,$H$69:$H$78)+SUMIF($D$83:$D$87,Q6,$H$83:$H$87)+SUMIF($D$93:$D$102,Q6,$H$93:$H$102)+SUMIF($D$107:$D$111,Q6,$H$107:$H$111)+SUMIF($D$117:$D$126,Q6,$H$117:$H$126)+SUMIF($D$131:$D$135,Q6,$H$131:$H$135)+SUMIF($D$141:$D$150,Q6,$H$141:$H$150)+SUMIF($D$155:$D$159,Q6,$H$155:$H$159)+SUMIF($D$165:$D$174,Q6,$H$165:$H$174)+SUMIF($D$179:$D$183,Q6,$H$179:$H$183) -> 0
A7: 事業者名 | C7: =IF(基本情報入力シート!V8="","",基本情報入力シート!V8) | Q7: ='(附表2)実施状況報告（５月）'!Q7 -> 加茂市場 | R7: =COUNTIF($D$21:$D$30,Q7)+COUNTIF($D$35:$D$39,Q7)+COUNTIF($D$45:$D$54,Q7)+COUNTIF($D$59:$D$63,Q7)+COUNTIF($D$69:$D$78,Q7)+COUNTIF($D$83:$D$87,Q7)+COUNTIF($D$93:$D$102,Q7)+COUNTIF($D$107:$D$111,Q7)+COUNTIF($D$117:$D$126,Q7)+COUNTIF($D$131:$D$135,Q7)+COUNTIF($D$141:$D$150,Q7)+COUNTIF($D$155:$D$159,Q7)+COUNTIF($D$165:$D$174,Q7)+COUNTIF($D$179:$D$183,Q7) -> 0 | S7: =SUMIF($D$21:$D$30,Q7,$H$21:$H$30)+SUMIF($D$35:$D$39,Q7,$H$35:$H$39)+SUMIF($D$45:$D$54,Q7,$H$45:$H$54)+SUMIF($D$59:$D$63,Q7,$H$59:$H$63)+SUMIF($D$69:$D$78,Q7,$H$69:$H$78)+SUMIF($D$83:$D$87,Q7,$H$83:$H$87)+SUMIF($D$93:$D$102,Q7,$H$93:$H$102)+SUMIF($D$107:$D$111,Q7,$H$107:$H$111)+SUMIF($D$117:$D$126,Q7,$H$117:$H$126)+SUMIF($D$131:$D$135,Q7,$H$131:$H$135)+SUMIF($D$141:$D$150,Q7,$H$141:$H$150)+SUMIF($D$155:$D$159,Q7,$H$155:$H$159)+SUMIF($D$165:$D$174,Q7,$H$165:$H$174)+SUMIF($D$179:$D$183,Q7,$H$179:$H$183) -> 0
A8: 事業所名 | C8: =IF(基本情報入力シート!V19="","",基本情報入力シート!V19) | Q8: ='(附表2)実施状況報告（５月）'!Q8 -> 高谷 | R8: =COUNTIF($D$21:$D$30,Q8)+COUNTIF($D$35:$D$39,Q8)+COUNTIF($D$45:$D$54,Q8)+COUNTIF($D$59:$D$63,Q8)+COUNTIF($D$69:$D$78,Q8)+COUNTIF($D$83:$D$87,Q8)+COUNTIF($D$93:$D$102,Q8)+COUNTIF($D$107:$D$111,Q8)+COUNTIF($D$117:$D$126,Q8)+COUNTIF($D$131:$D$135,Q8)+COUNTIF($D$141:$D$150,Q8)+COUNTIF($D$155:$D$159,Q8)+COUNTIF($D$165:$D$174,Q8)+COUNTIF($D$179:$D$183,Q8) -> 0 | S8: =SUMIF($D$21:$D$30,Q8,$H$21:$H$30)+SUMIF($D$35:$D$39,Q8,$H$35:$H$39)+SUMIF($D$45:$D$54,Q8,$H$45:$H$54)+SUMIF($D$59:$D$63,Q8,$H$59:$H$63)+SUMIF($D$69:$D$78,Q8,$H$69:$H$78)+SUMIF($D$83:$D$87,Q8,$H$83:$H$87)+SUMIF($D$93:$D$102,Q8,$H$93:$H$102)+SUMIF($D$107:$D$111,Q8,$H$107:$H$111)+SUMIF($D$117:$D$126,Q8,$H$117:$H$126)+SUMIF($D$131:$D$135,Q8,$H$131:$H$135)+SUMIF($D$141:$D$150,Q8,$H$141:$H$150)+SUMIF($D$155:$D$159,Q8,$H$155:$H$159)+SUMIF($D$165:$D$174,Q8,$H$165:$H$174)+SUMIF($D$179:$D$183,Q8,$H$179:$H$183) -> 0
A9: 事業所所在地 | C9: =IF(基本情報入力シート!V20="","",基本情報入力シート!V20) | Q9: ='(附表2)実施状況報告（５月）'!Q9 -> 平岡 | R9: =COUNTIF($D$21:$D$30,Q9)+COUNTIF($D$35:$D$39,Q9)+COUNTIF($D$45:$D$54,Q9)+COUNTIF($D$59:$D$63,Q9)+COUNTIF($D$69:$D$78,Q9)+COUNTIF($D$83:$D$87,Q9)+COUNTIF($D$93:$D$102,Q9)+COUNTIF($D$107:$D$111,Q9)+COUNTIF($D$117:$D$126,Q9)+COUNTIF($D$131:$D$135,Q9)+COUNTIF($D$141:$D$150,Q9)+COUNTIF($D$155:$D$159,Q9)+COUNTIF($D$165:$D$174,Q9)+COUNTIF($D$179:$D$183,Q9) -> 0 | S9: =SUMIF($D$21:$D$30,Q9,$H$21:$H$30)+SUMIF($D$35:$D$39,Q9,$H$35:$H$39)+SUMIF($D$45:$D$54,Q9,$H$45:$H$54)+SUMIF($D$59:$D$63,Q9,$H$59:$H$63)+SUMIF($D$69:$D$78,Q9,$H$69:$H$78)+SUMIF($D$83:$D$87,Q9,$H$83:$H$87)+SUMIF($D$93:$D$102,Q9,$H$93:$H$102)+SUMIF($D$107:$D$111,Q9,$H$107:$H$111)+SUMIF($D$117:$D$126,Q9,$H$117:$H$126)+SUMIF($D$131:$D$135,Q9,$H$131:$H$135)+SUMIF($D$141:$D$150,Q9,$H$141:$H$150)+SUMIF($D$155:$D$159,Q9,$H$155:$H$159)+SUMIF($D$165:$D$174,Q9,$H$165:$H$174)+SUMIF($D$179:$D$183,Q9,$H$179:$H$183) -> 0
A10: サービス種別 | C10: =IF(基本情報入力シート!V21="","",基本情報入力シート!V21) -> 通所リハビリテーション | Q10: ='(附表2)実施状況報告（５月）'!Q10 -> 上野 | R10: =COUNTIF($D$21:$D$30,Q10)+COUNTIF($D$35:$D$39,Q10)+COUNTIF($D$45:$D$54,Q10)+COUNTIF($D$59:$D$63,Q10)+COUNTIF($D$69:$D$78,Q10)+COUNTIF($D$83:$D$87,Q10)+COUNTIF($D$93:$D$102,Q10)+COUNTIF($D$107:$D$111,Q10)+COUNTIF($D$117:$D$126,Q10)+COUNTIF($D$131:$D$135,Q10)+COUNTIF($D$141:$D$150,Q10)+COUNTIF($D$155:$D$159,Q10)+COUNTIF($D$165:$D$174,Q10)+COUNTIF($D$179:$D$183,Q10) -> 0 | S10: =SUMIF($D$21:$D$30,Q10,$H$21:$H$30)+SUMIF($D$35:$D$39,Q10,$H$35:$H$39)+SUMIF($D$45:$D$54,Q10,$H$45:$H$54)+SUMIF($D$59:$D$63,Q10,$H$59:$H$63)+SUMIF($D$69:$D$78,Q10,$H$69:$H$78)+SUMIF($D$83:$D$87,Q10,$H$83:$H$87)+SUMIF($D$93:$D$102,Q10,$H$93:$H$102)+SUMIF($D$107:$D$111,Q10,$H$107:$H$111)+SUMIF($D$117:$D$126,Q10,$H$117:$H$126)+SUMIF($D$131:$D$135,Q10,$H$131:$H$135)+SUMIF($D$141:$D$150,Q10,$H$141:$H$150)+SUMIF($D$155:$D$159,Q10,$H$155:$H$159)+SUMIF($D$165:$D$174,Q10,$H$165:$H$174)+SUMIF($D$179:$D$183,Q10,$H$179:$H$183) -> 0
A11: 補助対象事業区分 | C11: =IF(基本情報入力シート!V22="","",基本情報入力シート!V22) -> 別表第1の1 区分1 移動に片道20分以上の時間を要するサービス（特別地域加算対象地域内に居住する利用者を対象に行う場合） | Q11: ='(附表2)実施状況報告（５月）'!Q11 -> 竹部 | R11: =COUNTIF($D$21:$D$30,Q11)+COUNTIF($D$35:$D$39,Q11)+COUNTIF($D$45:$D$54,Q11)+COUNTIF($D$59:$D$63,Q11)+COUNTIF($D$69:$D$78,Q11)+COUNTIF($D$83:$D$87,Q11)+COUNTIF($D$93:$D$102,Q11)+COUNTIF($D$107:$D$111,Q11)+COUNTIF($D$117:$D$126,Q11)+COUNTIF($D$131:$D$135,Q11)+COUNTIF($D$141:$D$150,Q11)+COUNTIF($D$155:$D$159,Q11)+COUNTIF($D$165:$D$174,Q11)+COUNTIF($D$179:$D$183,Q11) -> 0 | S11: =SUMIF($D$21:$D$30,Q11,$H$21:$H$30)+SUMIF($D$35:$D$39,Q11,$H$35:$H$39)+SUMIF($D$45:$D$54,Q11,$H$45:$H$54)+SUMIF($D$59:$D$63,Q11,$H$59:$H$63)+SUMIF($D$69:$D$78,Q11,$H$69:$H$78)+SUMIF($D$83:$D$87,Q11,$H$83:$H$87)+SUMIF($D$93:$D$102,Q11,$H$93:$H$102)+SUMIF($D$107:$D$111,Q11,$H$107:$H$111)+SUMIF($D$117:$D$126,Q11,$H$117:$H$126)+SUMIF($D$131:$D$135,Q11,$H$131:$H$135)+SUMIF($D$141:$D$150,Q11,$H$141:$H$150)+SUMIF($D$155:$D$159,Q11,$H$155:$H$159)+SUMIF($D$165:$D$174,Q11,$H$165:$H$174)+SUMIF($D$179:$D$183,Q11,$H$179:$H$183) -> 0
A12: 加算区分 | C12: 通常規模型リハビリテーション費 | Q12: ='(附表2)実施状況報告（５月）'!Q12 -> 上田東 | R12: =COUNTIF($D$21:$D$30,Q12)+COUNTIF($D$35:$D$39,Q12)+COUNTIF($D$45:$D$54,Q12)+COUNTIF($D$59:$D$63,Q12)+COUNTIF($D$69:$D$78,Q12)+COUNTIF($D$83:$D$87,Q12)+COUNTIF($D$93:$D$102,Q12)+COUNTIF($D$107:$D$111,Q12)+COUNTIF($D$117:$D$126,Q12)+COUNTIF($D$131:$D$135,Q12)+COUNTIF($D$141:$D$150,Q12)+COUNTIF($D$155:$D$159,Q12)+COUNTIF($D$165:$D$174,Q12)+COUNTIF($D$179:$D$183,Q12) -> 0 | S12: =SUMIF($D$21:$D$30,Q12,$H$21:$H$30)+SUMIF($D$35:$D$39,Q12,$H$35:$H$39)+SUMIF($D$45:$D$54,Q12,$H$45:$H$54)+SUMIF($D$59:$D$63,Q12,$H$59:$H$63)+SUMIF($D$69:$D$78,Q12,$H$69:$H$78)+SUMIF($D$83:$D$87,Q12,$H$83:$H$87)+SUMIF($D$93:$D$102,Q12,$H$93:$H$102)+SUMIF($D$107:$D$111,Q12,$H$107:$H$111)+SUMIF($D$117:$D$126,Q12,$H$117:$H$126)+SUMIF($D$131:$D$135,Q12,$H$131:$H$135)+SUMIF($D$141:$D$150,Q12,$H$141:$H$150)+SUMIF($D$155:$D$159,Q12,$H$155:$H$159)+SUMIF($D$165:$D$174,Q12,$H$165:$H$174)+SUMIF($D$179:$D$183,Q12,$H$179:$H$183) -> 0
Q13: ='(附表2)実施状況報告（５月）'!Q13 -> 細田 | R13: =COUNTIF($D$21:$D$30,Q13)+COUNTIF($D$35:$D$39,Q13)+COUNTIF($D$45:$D$54,Q13)+COUNTIF($D$59:$D$63,Q13)+COUNTIF($D$69:$D$78,Q13)+COUNTIF($D$83:$D$87,Q13)+COUNTIF($D$93:$D$102,Q13)+COUNTIF($D$107:$D$111,Q13)+COUNTIF($D$117:$D$126,Q13)+COUNTIF($D$131:$D$135,Q13)+COUNTIF($D$141:$D$150,Q13)+COUNTIF($D$155:$D$159,Q13)+COUNTIF($D$165:$D$174,Q13)+COUNTIF($D$179:$D$183,Q13) -> 0 | S13: =SUMIF($D$21:$D$30,Q13,$H$21:$H$30)+SUMIF($D$35:$D$39,Q13,$H$35:$H$39)+SUMIF($D$45:$D$54,Q13,$H$45:$H$54)+SUMIF($D$59:$D$63,Q13,$H$59:$H$63)+SUMIF($D$69:$D$78,Q13,$H$69:$H$78)+SUMIF($D$83:$D$87,Q13,$H$83:$H$87)+SUMIF($D$93:$D$102,Q13,$H$93:$H$102)+SUMIF($D$107:$D$111,Q13,$H$107:$H$111)+SUMIF($D$117:$D$126,Q13,$H$117:$H$126)+SUMIF($D$131:$D$135,Q13,$H$131:$H$135)+SUMIF($D$141:$D$150,Q13,$H$141:$H$150)+SUMIF($D$155:$D$159,Q13,$H$155:$H$159)+SUMIF($D$165:$D$174,Q13,$H$165:$H$174)+SUMIF($D$179:$D$183,Q13,$H$179:$H$183) -> 0
Q14: ='(附表2)実施状況報告（５月）'!Q14 -> 三納谷 | R14: =COUNTIF($D$21:$D$30,Q14)+COUNTIF($D$35:$D$39,Q14)+COUNTIF($D$45:$D$54,Q14)+COUNTIF($D$59:$D$63,Q14)+COUNTIF($D$69:$D$78,Q14)+COUNTIF($D$83:$D$87,Q14)+COUNTIF($D$93:$D$102,Q14)+COUNTIF($D$107:$D$111,Q14)+COUNTIF($D$117:$D$126,Q14)+COUNTIF($D$131:$D$135,Q14)+COUNTIF($D$141:$D$150,Q14)+COUNTIF($D$155:$D$159,Q14)+COUNTIF($D$165:$D$174,Q14)+COUNTIF($D$179:$D$183,Q14) -> 0 | S14: =SUMIF($D$21:$D$30,Q14,$H$21:$H$30)+SUMIF($D$35:$D$39,Q14,$H$35:$H$39)+SUMIF($D$45:$D$54,Q14,$H$45:$H$54)+SUMIF($D$59:$D$63,Q14,$H$59:$H$63)+SUMIF($D$69:$D$78,Q14,$H$69:$H$78)+SUMIF($D$83:$D$87,Q14,$H$83:$H$87)+SUMIF($D$93:$D$102,Q14,$H$93:$H$102)+SUMIF($D$107:$D$111,Q14,$H$107:$H$111)+SUMIF($D$117:$D$126,Q14,$H$117:$H$126)+SUMIF($D$131:$D$135,Q14,$H$131:$H$135)+SUMIF($D$141:$D$150,Q14,$H$141:$H$150)+SUMIF($D$155:$D$159,Q14,$H$155:$H$159)+SUMIF($D$165:$D$174,Q14,$H$165:$H$174)+SUMIF($D$179:$D$183,Q14,$H$179:$H$183) -> 0
Q15: ='(附表2)実施状況報告（５月）'!Q15 -> 上田西 | R15: =COUNTIF($D$21:$D$30,Q15)+COUNTIF($D$35:$D$39,Q15)+COUNTIF($D$45:$D$54,Q15)+COUNTIF($D$59:$D$63,Q15)+COUNTIF($D$69:$D$78,Q15)+COUNTIF($D$83:$D$87,Q15)+COUNTIF($D$93:$D$102,Q15)+COUNTIF($D$107:$D$111,Q15)+COUNTIF($D$117:$D$126,Q15)+COUNTIF($D$131:$D$135,Q15)+COUNTIF($D$141:$D$150,Q15)+COUNTIF($D$155:$D$159,Q15)+COUNTIF($D$165:$D$174,Q15)+COUNTIF($D$179:$D$183,Q15) -> 0 | S15: =SUMIF($D$21:$D$30,Q15,$H$21:$H$30)+SUMIF($D$35:$D$39,Q15,$H$35:$H$39)+SUMIF($D$45:$D$54,Q15,$H$45:$H$54)+SUMIF($D$59:$D$63,Q15,$H$59:$H$63)+SUMIF($D$69:$D$78,Q15,$H$69:$H$78)+SUMIF($D$83:$D$87,Q15,$H$83:$H$87)+SUMIF($D$93:$D$102,Q15,$H$93:$H$102)+SUMIF($D$107:$D$111,Q15,$H$107:$H$111)+SUMIF($D$117:$D$126,Q15,$H$117:$H$126)+SUMIF($D$131:$D$135,Q15,$H$131:$H$135)+SUMIF($D$141:$D$150,Q15,$H$141:$H$150)+SUMIF($D$155:$D$159,Q15,$H$155:$H$159)+SUMIF($D$165:$D$174,Q15,$H$165:$H$174)+SUMIF($D$179:$D$183,Q15,$H$179:$H$183) -> 0
Q16: ='(附表2)実施状況報告（５月）'!Q16 -> 円城 | R16: =COUNTIF($D$21:$D$30,Q16)+COUNTIF($D$35:$D$39,Q16)+COUNTIF($D$45:$D$54,Q16)+COUNTIF($D$59:$D$63,Q16)+COUNTIF($D$69:$D$78,Q16)+COUNTIF($D$83:$D$87,Q16)+COUNTIF($D$93:$D$102,Q16)+COUNTIF($D$107:$D$111,Q16)+COUNTIF($D$117:$D$126,Q16)+COUNTIF($D$131:$D$135,Q16)+COUNTIF($D$141:$D$150,Q16)+COUNTIF($D$155:$D$159,Q16)+COUNTIF($D$165:$D$174,Q16)+COUNTIF($D$179:$D$183,Q16) -> 0 | S16: =SUMIF($D$21:$D$30,Q16,$H$21:$H$30)+SUMIF($D$35:$D$39,Q16,$H$35:$H$39)+SUMIF($D$45:$D$54,Q16,$H$45:$H$54)+SUMIF($D$59:$D$63,Q16,$H$59:$H$63)+SUMIF($D$69:$D$78,Q16,$H$69:$H$78)+SUMIF($D$83:$D$87,Q16,$H$83:$H$87)+SUMIF($D$93:$D$102,Q16,$H$93:$H$102)+SUMIF($D$107:$D$111,Q16,$H$107:$H$111)+SUMIF($D$117:$D$126,Q16,$H$117:$H$126)+SUMIF($D$131:$D$135,Q16,$H$131:$H$135)+SUMIF($D$141:$D$150,Q16,$H$141:$H$150)+SUMIF($D$155:$D$159,Q16,$H$155:$H$159)+SUMIF($D$165:$D$174,Q16,$H$165:$H$174)+SUMIF($D$179:$D$183,Q16,$H$179:$H$183) -> 0
A17: 2. 実績内訳 | Q17: ='(附表2)実施状況報告（５月）'!Q17 -> 案田 | R17: =COUNTIF($D$21:$D$30,Q17)+COUNTIF($D$35:$D$39,Q17)+COUNTIF($D$45:$D$54,Q17)+COUNTIF($D$59:$D$63,Q17)+COUNTIF($D$69:$D$78,Q17)+COUNTIF($D$83:$D$87,Q17)+COUNTIF($D$93:$D$102,Q17)+COUNTIF($D$107:$D$111,Q17)+COUNTIF($D$117:$D$126,Q17)+COUNTIF($D$131:$D$135,Q17)+COUNTIF($D$141:$D$150,Q17)+COUNTIF($D$155:$D$159,Q17)+COUNTIF($D$165:$D$174,Q17)+COUNTIF($D$179:$D$183,Q17) -> 0 | S17: =SUMIF($D$21:$D$30,Q17,$H$21:$H$30)+SUMIF($D$35:$D$39,Q17,$H$35:$H$39)+SUMIF($D$45:$D$54,Q17,$H$45:$H$54)+SUMIF($D$59:$D$63,Q17,$H$59:$H$63)+SUMIF($D$69:$D$78,Q17,$H$69:$H$78)+SUMIF($D$83:$D$87,Q17,$H$83:$H$87)+SUMIF($D$93:$D$102,Q17,$H$93:$H$102)+SUMIF($D$107:$D$111,Q17,$H$107:$H$111)+SUMIF($D$117:$D$126,Q17,$H$117:$H$126)+SUMIF($D$131:$D$135,Q17,$H$131:$H$135)+SUMIF($D$141:$D$150,Q17,$H$141:$H$150)+SUMIF($D$155:$D$159,Q17,$H$155:$H$159)+SUMIF($D$165:$D$174,Q17,$H$165:$H$174)+SUMIF($D$179:$D$183,Q17,$H$179:$H$183) -> 0
A18: （1）所要時間1時間以上2時間未満の場合 | Q18: ='(附表2)実施状況報告（５月）'!Q18 -> 高富 | R18: =COUNTIF($D$21:$D$30,Q18)+COUNTIF($D$35:$D$39,Q18)+COUNTIF($D$45:$D$54,Q18)+COUNTIF($D$59:$D$63,Q18)+COUNTIF($D$69:$D$78,Q18)+COUNTIF($D$83:$D$87,Q18)+COUNTIF($D$93:$D$102,Q18)+COUNTIF($D$107:$D$111,Q18)+COUNTIF($D$117:$D$126,Q18)+COUNTIF($D$131:$D$135,Q18)+COUNTIF($D$141:$D$150,Q18)+COUNTIF($D$155:$D$159,Q18)+COUNTIF($D$165:$D$174,Q18)+COUNTIF($D$179:$D$183,Q18) -> 0 | S18: =SUMIF($D$21:$D$30,Q18,$H$21:$H$30)+SUMIF($D$35:$D$39,Q18,$H$35:$H$39)+SUMIF($D$45:$D$54,Q18,$H$45:$H$54)+SUMIF($D$59:$D$63,Q18,$H$59:$H$63)+SUMIF($D$69:$D$78,Q18,$H$69:$H$78)+SUMIF($D$83:$D$87,Q18,$H$83:$H$87)+SUMIF($D$93:$D$102,Q18,$H$93:$H$102)+SUMIF($D$107:$D$111,Q18,$H$107:$H$111)+SUMIF($D$117:$D$126,Q18,$H$117:$H$126)+SUMIF($D$131:$D$135,Q18,$H$131:$H$135)+SUMIF($D$141:$D$150,Q18,$H$141:$H$150)+SUMIF($D$155:$D$159,Q18,$H$155:$H$159)+SUMIF($D$165:$D$174,Q18,$H$165:$H$174)+SUMIF($D$179:$D$183,Q18,$H$179:$H$183) -> 0
A19: ※往復の送迎を行った場合 （片道のみ送迎を行った場合は下記別表に入力すること） | Q19: ='(附表2)実施状況報告（５月）'!Q19 -> 神瀬 | R19: =COUNTIF($D$21:$D$30,Q19)+COUNTIF($D$35:$D$39,Q19)+COUNTIF($D$45:$D$54,Q19)+COUNTIF($D$59:$D$63,Q19)+COUNTIF($D$69:$D$78,Q19)+COUNTIF($D$83:$D$87,Q19)+COUNTIF($D$93:$D$102,Q19)+COUNTIF($D$107:$D$111,Q19)+COUNTIF($D$117:$D$126,Q19)+COUNTIF($D$131:$D$135,Q19)+COUNTIF($D$141:$D$150,Q19)+COUNTIF($D$155:$D$159,Q19)+COUNTIF($D$165:$D$174,Q19)+COUNTIF($D$179:$D$183,Q19) -> 0 | S19: =SUMIF($D$21:$D$30,Q19,$H$21:$H$30)+SUMIF($D$35:$D$39,Q19,$H$35:$H$39)+SUMIF($D$45:$D$54,Q19,$H$45:$H$54)+SUMIF($D$59:$D$63,Q19,$H$59:$H$63)+SUMIF($D$69:$D$78,Q19,$H$69:$H$78)+SUMIF($D$83:$D$87,Q19,$H$83:$H$87)+SUMIF($D$93:$D$102,Q19,$H$93:$H$102)+SUMIF($D$107:$D$111,Q19,$H$107:$H$111)+SUMIF($D$117:$D$126,Q19,$H$117:$H$126)+SUMIF($D$131:$D$135,Q19,$H$131:$H$135)+SUMIF($D$141:$D$150,Q19,$H$141:$H$150)+SUMIF($D$155:$D$159,Q19,$H$155:$H$159)+SUMIF($D$165:$D$174,Q19,$H$165:$H$174)+SUMIF($D$179:$D$183,Q19,$H$179:$H$183) -> 0
A20: 所要時間1時間以上2時間未満の場合 | B20: 被保険者番号 | C20: 被保険者氏名 | D20: 地区名 | E20: 事業所から 利用者宅までの 距離（km） | F20: 事業所から 利用者宅までの 所要時間（分） | G20: 要介護度 | H20: サービス 提供回数 | I20: 基本報酬 （月単位数） | J20: 基準額(月) | Q20: ='(附表2)実施状況報告（５月）'!Q20 -> 小森 | R20: =COUNTIF($D$21:$D$30,Q20)+COUNTIF($D$35:$D$39,Q20)+COUNTIF($D$45:$D$54,Q20)+COUNTIF($D$59:$D$63,Q20)+COUNTIF($D$69:$D$78,Q20)+COUNTIF($D$83:$D$87,Q20)+COUNTIF($D$93:$D$102,Q20)+COUNTIF($D$107:$D$111,Q20)+COUNTIF($D$117:$D$126,Q20)+COUNTIF($D$131:$D$135,Q20)+COUNTIF($D$141:$D$150,Q20)+COUNTIF($D$155:$D$159,Q20)+COUNTIF($D$165:$D$174,Q20)+COUNTIF($D$179:$D$183,Q20) -> 0 | S20: =SUMIF($D$21:$D$30,Q20,$H$21:$H$30)+SUMIF($D$35:$D$39,Q20,$H$35:$H$39)+SUMIF($D$45:$D$54,Q20,$H$45:$H$54)+SUMIF($D$59:$D$63,Q20,$H$59:$H$63)+SUMIF($D$69:$D$78,Q20,$H$69:$H$78)+SUMIF($D$83:$D$87,Q20,$H$83:$H$87)+SUMIF($D$93:$D$102,Q20,$H$93:$H$102)+SUMIF($D$107:$D$111,Q20,$H$107:$H$111)+SUMIF($D$117:$D$126,Q20,$H$117:$H$126)+SUMIF($D$131:$D$135,Q20,$H$131:$H$135)+SUMIF($D$141:$D$150,Q20,$H$141:$H$150)+SUMIF($D$155:$D$159,Q20,$H$155:$H$159)+SUMIF($D$165:$D$174,Q20,$H$165:$H$174)+SUMIF($D$179:$D$183,Q20,$H$179:$H$183) -> 0
I21: =IF(AND(B21<>"",C21<>"",D21<>"",E21<>"",F21<>"",G21<>"",H21<>""),VLOOKUP(G21,通所リハビリテーション費!$A$20:$B$24,2,0),0) -> 0 | J21: =(I21*H21)*0.1*10 -> 0 | Q21: ='(附表2)実施状況報告（５月）'!Q21 -> 尾原 | R21: =COUNTIF($D$21:$D$30,Q21)+COUNTIF($D$35:$D$39,Q21)+COUNTIF($D$45:$D$54,Q21)+COUNTIF($D$59:$D$63,Q21)+COUNTIF($D$69:$D$78,Q21)+COUNTIF($D$83:$D$87,Q21)+COUNTIF($D$93:$D$102,Q21)+COUNTIF($D$107:$D$111,Q21)+COUNTIF($D$117:$D$126,Q21)+COUNTIF($D$131:$D$135,Q21)+COUNTIF($D$141:$D$150,Q21)+COUNTIF($D$155:$D$159,Q21)+COUNTIF($D$165:$D$174,Q21)+COUNTIF($D$179:$D$183,Q21) -> 0 | S21: =SUMIF($D$21:$D$30,Q21,$H$21:$H$30)+SUMIF($D$35:$D$39,Q21,$H$35:$H$39)+SUMIF($D$45:$D$54,Q21,$H$45:$H$54)+SUMIF($D$59:$D$63,Q21,$H$59:$H$63)+SUMIF($D$69:$D$78,Q21,$H$69:$H$78)+SUMIF($D$83:$D$87,Q21,$H$83:$H$87)+SUMIF($D$93:$D$102,Q21,$H$93:$H$102)+SUMIF($D$107:$D$111,Q21,$H$107:$H$111)+SUMIF($D$117:$D$126,Q21,$H$117:$H$126)+SUMIF($D$131:$D$135,Q21,$H$131:$H$135)+SUMIF($D$141:$D$150,Q21,$H$141:$H$150)+SUMIF($D$155:$D$159,Q21,$H$155:$H$159)+SUMIF($D$165:$D$174,Q21,$H$165:$H$174)+SUMIF($D$179:$D$183,Q21,$H$179:$H$183) -> 0
I22: =IF(AND(B22<>"",C22<>"",D22<>"",E22<>"",F22<>"",G22<>"",H22<>""),VLOOKUP(G22,通所リハビリテーション費!$A$20:$B$24,2,0),0) -> 0 | J22: =(I22*H22)*0.1*10 -> 0 | Q22: ='(附表2)実施状況報告（５月）'!Q22 -> 笹目 | R22: =COUNTIF($D$21:$D$30,Q22)+COUNTIF($D$35:$D$39,Q22)+COUNTIF($D$45:$D$54,Q22)+COUNTIF($D$59:$D$63,Q22)+COUNTIF($D$69:$D$78,Q22)+COUNTIF($D$83:$D$87,Q22)+COUNTIF($D$93:$D$102,Q22)+COUNTIF($D$107:$D$111,Q22)+COUNTIF($D$117:$D$126,Q22)+COUNTIF($D$131:$D$135,Q22)+COUNTIF($D$141:$D$150,Q22)+COUNTIF($D$155:$D$159,Q22)+COUNTIF($D$165:$D$174,Q22)+COUNTIF($D$179:$D$183,Q22) -> 0 | S22: =SUMIF($D$21:$D$30,Q22,$H$21:$H$30)+SUMIF($D$35:$D$39,Q22,$H$35:$H$39)+SUMIF($D$45:$D$54,Q22,$H$45:$H$54)+SUMIF($D$59:$D$63,Q22,$H$59:$H$63)+SUMIF($D$69:$D$78,Q22,$H$69:$H$78)+SUMIF($D$83:$D$87,Q22,$H$83:$H$87)+SUMIF($D$93:$D$102,Q22,$H$93:$H$102)+SUMIF($D$107:$D$111,Q22,$H$107:$H$111)+SUMIF($D$117:$D$126,Q22,$H$117:$H$126)+SUMIF($D$131:$D$135,Q22,$H$131:$H$135)+SUMIF($D$141:$D$150,Q22,$H$141:$H$150)+SUMIF($D$155:$D$159,Q22,$H$155:$H$159)+SUMIF($D$165:$D$174,Q22,$H$165:$H$174)+SUMIF($D$179:$D$183,Q22,$H$179:$H$183) -> 0
I23: =IF(AND(B23<>"",C23<>"",D23<>"",E23<>"",F23<>"",G23<>"",H23<>""),VLOOKUP(G23,通所リハビリテーション費!$A$20:$B$24,2,0),0) -> 0 | J23: =(I23*H23)*0.1*10 -> 0 | Q23: ='(附表2)実施状況報告（５月）'!Q23 -> 福沢 | R23: =COUNTIF($D$21:$D$30,Q23)+COUNTIF($D$35:$D$39,Q23)+COUNTIF($D$45:$D$54,Q23)+COUNTIF($D$59:$D$63,Q23)+COUNTIF($D$69:$D$78,Q23)+COUNTIF($D$83:$D$87,Q23)+COUNTIF($D$93:$D$102,Q23)+COUNTIF($D$107:$D$111,Q23)+COUNTIF($D$117:$D$126,Q23)+COUNTIF($D$131:$D$135,Q23)+COUNTIF($D$141:$D$150,Q23)+COUNTIF($D$155:$D$159,Q23)+COUNTIF($D$165:$D$174,Q23)+COUNTIF($D$179:$D$183,Q23) -> 0 | S23: =SUMIF($D$21:$D$30,Q23,$H$21:$H$30)+SUMIF($D$35:$D$39,Q23,$H$35:$H$39)+SUMIF($D$45:$D$54,Q23,$H$45:$H$54)+SUMIF($D$59:$D$63,Q23,$H$59:$H$63)+SUMIF($D$69:$D$78,Q23,$H$69:$H$78)+SUMIF($D$83:$D$87,Q23,$H$83:$H$87)+SUMIF($D$93:$D$102,Q23,$H$93:$H$102)+SUMIF($D$107:$D$111,Q23,$H$107:$H$111)+SUMIF($D$117:$D$126,Q23,$H$117:$H$126)+SUMIF($D$131:$D$135,Q23,$H$131:$H$135)+SUMIF($D$141:$D$150,Q23,$H$141:$H$150)+SUMIF($D$155:$D$159,Q23,$H$155:$H$159)+SUMIF($D$165:$D$174,Q23,$H$165:$H$174)+SUMIF($D$179:$D$183,Q23,$H$179:$H$183) -> 0
I24: =IF(AND(B24<>"",C24<>"",D24<>"",E24<>"",F24<>"",G24<>"",H24<>""),VLOOKUP(G24,通所リハビリテーション費!$A$20:$B$24,2,0),0) -> 0 | J24: =(I24*H24)*0.1*10 -> 0 | Q24: ='(附表2)実施状況報告（５月）'!Q24 -> 溝部 | R24: =COUNTIF($D$21:$D$30,Q24)+COUNTIF($D$35:$D$39,Q24)+COUNTIF($D$45:$D$54,Q24)+COUNTIF($D$59:$D$63,Q24)+COUNTIF($D$69:$D$78,Q24)+COUNTIF($D$83:$D$87,Q24)+COUNTIF($D$93:$D$102,Q24)+COUNTIF($D$107:$D$111,Q24)+COUNTIF($D$117:$D$126,Q24)+COUNTIF($D$131:$D$135,Q24)+COUNTIF($D$141:$D$150,Q24)+COUNTIF($D$155:$D$159,Q24)+COUNTIF($D$165:$D$174,Q24)+COUNTIF($D$179:$D$183,Q24) -> 0 | S24: =SUMIF($D$21:$D$30,Q24,$H$21:$H$30)+SUMIF($D$35:$D$39,Q24,$H$35:$H$39)+SUMIF($D$45:$D$54,Q24,$H$45:$H$54)+SUMIF($D$59:$D$63,Q24,$H$59:$H$63)+SUMIF($D$69:$D$78,Q24,$H$69:$H$78)+SUMIF($D$83:$D$87,Q24,$H$83:$H$87)+SUMIF($D$93:$D$102,Q24,$H$93:$H$102)+SUMIF($D$107:$D$111,Q24,$H$107:$H$111)+SUMIF($D$117:$D$126,Q24,$H$117:$H$126)+SUMIF($D$131:$D$135,Q24,$H$131:$H$135)+SUMIF($D$141:$D$150,Q24,$H$141:$H$150)+SUMIF($D$155:$D$159,Q24,$H$155:$H$159)+SUMIF($D$165:$D$174,Q24,$H$165:$H$174)+SUMIF($D$179:$D$183,Q24,$H$179:$H$183) -> 0
I25: =IF(AND(B25<>"",C25<>"",D25<>"",E25<>"",F25<>"",G25<>"",H25<>""),VLOOKUP(G25,通所リハビリテーション費!$A$20:$B$24,2,0),0) -> 0 | J25: =(I25*H25)*0.1*10 -> 0 | Q25: ='(附表2)実施状況報告（５月）'!Q25 -> 0 | R25: =COUNTIF($D$21:$D$30,Q25)+COUNTIF($D$35:$D$39,Q25)+COUNTIF($D$45:$D$54,Q25)+COUNTIF($D$59:$D$63,Q25)+COUNTIF($D$69:$D$78,Q25)+COUNTIF($D$83:$D$87,Q25)+COUNTIF($D$93:$D$102,Q25)+COUNTIF($D$107:$D$111,Q25)+COUNTIF($D$117:$D$126,Q25)+COUNTIF($D$131:$D$135,Q25)+COUNTIF($D$141:$D$150,Q25)+COUNTIF($D$155:$D$159,Q25)+COUNTIF($D$165:$D$174,Q25)+COUNTIF($D$179:$D$183,Q25) -> 0 | S25: =SUMIF($D$21:$D$30,Q25,$H$21:$H$30)+SUMIF($D$35:$D$39,Q25,$H$35:$H$39)+SUMIF($D$45:$D$54,Q25,$H$45:$H$54)+SUMIF($D$59:$D$63,Q25,$H$59:$H$63)+SUMIF($D$69:$D$78,Q25,$H$69:$H$78)+SUMIF($D$83:$D$87,Q25,$H$83:$H$87)+SUMIF($D$93:$D$102,Q25,$H$93:$H$102)+SUMIF($D$107:$D$111,Q25,$H$107:$H$111)+SUMIF($D$117:$D$126,Q25,$H$117:$H$126)+SUMIF($D$131:$D$135,Q25,$H$131:$H$135)+SUMIF($D$141:$D$150,Q25,$H$141:$H$150)+SUMIF($D$155:$D$159,Q25,$H$155:$H$159)+SUMIF($D$165:$D$174,Q25,$H$165:$H$174)+SUMIF($D$179:$D$183,Q25,$H$179:$H$183) -> 0
I26: =IF(AND(B26<>"",C26<>"",D26<>"",E26<>"",F26<>"",G26<>"",H26<>""),VLOOKUP(G26,通所リハビリテーション費!$A$20:$B$24,2,0),0) -> 0 | J26: =(I26*H26)*0.1*10 -> 0 | Q26: ='(附表2)実施状況報告（５月）'!Q26 -> 0 | R26: =COUNTIF($D$21:$D$30,Q26)+COUNTIF($D$35:$D$39,Q26)+COUNTIF($D$45:$D$54,Q26)+COUNTIF($D$59:$D$63,Q26)+COUNTIF($D$69:$D$78,Q26)+COUNTIF($D$83:$D$87,Q26)+COUNTIF($D$93:$D$102,Q26)+COUNTIF($D$107:$D$111,Q26)+COUNTIF($D$117:$D$126,Q26)+COUNTIF($D$131:$D$135,Q26)+COUNTIF($D$141:$D$150,Q26)+COUNTIF($D$155:$D$159,Q26)+COUNTIF($D$165:$D$174,Q26)+COUNTIF($D$179:$D$183,Q26) -> 0 | S26: =SUMIF($D$21:$D$30,Q26,$H$21:$H$30)+SUMIF($D$35:$D$39,Q26,$H$35:$H$39)+SUMIF($D$45:$D$54,Q26,$H$45:$H$54)+SUMIF($D$59:$D$63,Q26,$H$59:$H$63)+SUMIF($D$69:$D$78,Q26,$H$69:$H$78)+SUMIF($D$83:$D$87,Q26,$H$83:$H$87)+SUMIF($D$93:$D$102,Q26,$H$93:$H$102)+SUMIF($D$107:$D$111,Q26,$H$107:$H$111)+SUMIF($D$117:$D$126,Q26,$H$117:$H$126)+SUMIF($D$131:$D$135,Q26,$H$131:$H$135)+SUMIF($D$141:$D$150,Q26,$H$141:$H$150)+SUMIF($D$155:$D$159,Q26,$H$155:$H$159)+SUMIF($D$165:$D$174,Q26,$H$165:$H$174)+SUMIF($D$179:$D$183,Q26,$H$179:$H$183) -> 0
I27: =IF(AND(B27<>"",C27<>"",D27<>"",E27<>"",F27<>"",G27<>"",H27<>""),VLOOKUP(G27,通所リハビリテーション費!$A$20:$B$24,2,0),0) -> 0 | J27: =(I27*H27)*0.1*10 -> 0 | Q27: ='(附表2)実施状況報告（５月）'!Q27 -> 0 | R27: =COUNTIF($D$21:$D$30,Q27)+COUNTIF($D$35:$D$39,Q27)+COUNTIF($D$45:$D$54,Q27)+COUNTIF($D$59:$D$63,Q27)+COUNTIF($D$69:$D$78,Q27)+COUNTIF($D$83:$D$87,Q27)+COUNTIF($D$93:$D$102,Q27)+COUNTIF($D$107:$D$111,Q27)+COUNTIF($D$117:$D$126,Q27)+COUNTIF($D$131:$D$135,Q27)+COUNTIF($D$141:$D$150,Q27)+COUNTIF($D$155:$D$159,Q27)+COUNTIF($D$165:$D$174,Q27)+COUNTIF($D$179:$D$183,Q27) -> 0 | S27: =SUMIF($D$21:$D$30,Q27,$H$21:$H$30)+SUMIF($D$35:$D$39,Q27,$H$35:$H$39)+SUMIF($D$45:$D$54,Q27,$H$45:$H$54)+SUMIF($D$59:$D$63,Q27,$H$59:$H$63)+SUMIF($D$69:$D$78,Q27,$H$69:$H$78)+SUMIF($D$83:$D$87,Q27,$H$83:$H$87)+SUMIF($D$93:$D$102,Q27,$H$93:$H$102)+SUMIF($D$107:$D$111,Q27,$H$107:$H$111)+SUMIF($D$117:$D$126,Q27,$H$117:$H$126)+SUMIF($D$131:$D$135,Q27,$H$131:$H$135)+SUMIF($D$141:$D$150,Q27,$H$141:$H$150)+SUMIF($D$155:$D$159,Q27,$H$155:$H$159)+SUMIF($D$165:$D$174,Q27,$H$165:$H$174)+SUMIF($D$179:$D$183,Q27,$H$179:$H$183) -> 0
I28: =IF(AND(B28<>"",C28<>"",D28<>"",E28<>"",F28<>"",G28<>"",H28<>""),VLOOKUP(G28,通所リハビリテーション費!$A$20:$B$24,2,0),0) -> 0 | J28: =(I28*H28)*0.1*10 -> 0 | Q28: ='(附表2)実施状況報告（５月）'!Q28 -> 0 | R28: =COUNTIF($D$21:$D$30,Q28)+COUNTIF($D$35:$D$39,Q28)+COUNTIF($D$45:$D$54,Q28)+COUNTIF($D$59:$D$63,Q28)+COUNTIF($D$69:$D$78,Q28)+COUNTIF($D$83:$D$87,Q28)+COUNTIF($D$93:$D$102,Q28)+COUNTIF($D$107:$D$111,Q28)+COUNTIF($D$117:$D$126,Q28)+COUNTIF($D$131:$D$135,Q28)+COUNTIF($D$141:$D$150,Q28)+COUNTIF($D$155:$D$159,Q28)+COUNTIF($D$165:$D$174,Q28)+COUNTIF($D$179:$D$183,Q28) -> 0 | S28: =SUMIF($D$21:$D$30,Q28,$H$21:$H$30)+SUMIF($D$35:$D$39,Q28,$H$35:$H$39)+SUMIF($D$45:$D$54,Q28,$H$45:$H$54)+SUMIF($D$59:$D$63,Q28,$H$59:$H$63)+SUMIF($D$69:$D$78,Q28,$H$69:$H$78)+SUMIF($D$83:$D$87,Q28,$H$83:$H$87)+SUMIF($D$93:$D$102,Q28,$H$93:$H$102)+SUMIF($D$107:$D$111,Q28,$H$107:$H$111)+SUMIF($D$117:$D$126,Q28,$H$117:$H$126)+SUMIF($D$131:$D$135,Q28,$H$131:$H$135)+SUMIF($D$141:$D$150,Q28,$H$141:$H$150)+SUMIF($D$155:$D$159,Q28,$H$155:$H$159)+SUMIF($D$165:$D$174,Q28,$H$165:$H$174)+SUMIF($D$179:$D$183,Q28,$H$179:$H$183) -> 0
I29: =IF(AND(B29<>"",C29<>"",D29<>"",E29<>"",F29<>"",G29<>"",H29<>""),VLOOKUP(G29,通所リハビリテーション費!$A$20:$B$24,2,0),0) -> 0 | J29: =(I29*H29)*0.1*10 -> 0 | Q29: ='(附表2)実施状況報告（５月）'!Q29 -> 0 | R29: =COUNTIF($D$21:$D$30,Q29)+COUNTIF($D$35:$D$39,Q29)+COUNTIF($D$45:$D$54,Q29)+COUNTIF($D$59:$D$63,Q29)+COUNTIF($D$69:$D$78,Q29)+COUNTIF($D$83:$D$87,Q29)+COUNTIF($D$93:$D$102,Q29)+COUNTIF($D$107:$D$111,Q29)+COUNTIF($D$117:$D$126,Q29)+COUNTIF($D$131:$D$135,Q29)+COUNTIF($D$141:$D$150,Q29)+COUNTIF($D$155:$D$159,Q29)+COUNTIF($D$165:$D$174,Q29)+COUNTIF($D$179:$D$183,Q29) -> 0 | S29: =SUMIF($D$21:$D$30,Q29,$H$21:$H$30)+SUMIF($D$35:$D$39,Q29,$H$35:$H$39)+SUMIF($D$45:$D$54,Q29,$H$45:$H$54)+SUMIF($D$59:$D$63,Q29,$H$59:$H$63)+SUMIF($D$69:$D$78,Q29,$H$69:$H$78)+SUMIF($D$83:$D$87,Q29,$H$83:$H$87)+SUMIF($D$93:$D$102,Q29,$H$93:$H$102)+SUMIF($D$107:$D$111,Q29,$H$107:$H$111)+SUMIF($D$117:$D$126,Q29,$H$117:$H$126)+SUMIF($D$131:$D$135,Q29,$H$131:$H$135)+SUMIF($D$141:$D$150,Q29,$H$141:$H$150)+SUMIF($D$155:$D$159,Q29,$H$155:$H$159)+SUMIF($D$165:$D$174,Q29,$H$165:$H$174)+SUMIF($D$179:$D$183,Q29,$H$179:$H$183) -> 0
I30: =IF(AND(B30<>"",C30<>"",D30<>"",E30<>"",F30<>"",G30<>"",H30<>""),VLOOKUP(G30,通所リハビリテーション費!$A$20:$B$24,2,0),0) -> 0 | J30: =(I30*H30)*0.1*10 -> 0 | Q30: ='(附表2)実施状況報告（５月）'!Q30 -> 0 | R30: =COUNTIF($D$21:$D$30,Q30)+COUNTIF($D$35:$D$39,Q30)+COUNTIF($D$45:$D$54,Q30)+COUNTIF($D$59:$D$63,Q30)+COUNTIF($D$69:$D$78,Q30)+COUNTIF($D$83:$D$87,Q30)+COUNTIF($D$93:$D$102,Q30)+COUNTIF($D$107:$D$111,Q30)+COUNTIF($D$117:$D$126,Q30)+COUNTIF($D$131:$D$135,Q30)+COUNTIF($D$141:$D$150,Q30)+COUNTIF($D$155:$D$159,Q30)+COUNTIF($D$165:$D$174,Q30)+COUNTIF($D$179:$D$183,Q30) -> 0 | S30: =SUMIF($D$21:$D$30,Q30,$H$21:$H$30)+SUMIF($D$35:$D$39,Q30,$H$35:$H$39)+SUMIF($D$45:$D$54,Q30,$H$45:$H$54)+SUMIF($D$59:$D$63,Q30,$H$59:$H$63)+SUMIF($D$69:$D$78,Q30,$H$69:$H$78)+SUMIF($D$83:$D$87,Q30,$H$83:$H$87)+SUMIF($D$93:$D$102,Q30,$H$93:$H$102)+SUMIF($D$107:$D$111,Q30,$H$107:$H$111)+SUMIF($D$117:$D$126,Q30,$H$117:$H$126)+SUMIF($D$131:$D$135,Q30,$H$131:$H$135)+SUMIF($D$141:$D$150,Q30,$H$141:$H$150)+SUMIF($D$155:$D$159,Q30,$H$155:$H$159)+SUMIF($D$165:$D$174,Q30,$H$165:$H$174)+SUMIF($D$179:$D$183,Q30,$H$179:$H$183) -> 0
A31: 合計 | H31: =SUMIF(H21:H30,"<>#N/A") -> 0 | I31: =SUMIF(I21:I30,"<>#N/A") -> 0 | J31: =SUMIF(J21:J30,"<>#N/A") -> 0 | Q31: ='(附表2)実施状況報告（５月）'!Q31 -> 0 | R31: =COUNTIF($D$21:$D$30,Q31)+COUNTIF($D$35:$D$39,Q31)+COUNTIF($D$45:$D$54,Q31)+COUNTIF($D$59:$D$63,Q31)+COUNTIF($D$69:$D$78,Q31)+COUNTIF($D$83:$D$87,Q31)+COUNTIF($D$93:$D$102,Q31)+COUNTIF($D$107:$D$111,Q31)+COUNTIF($D$117:$D$126,Q31)+COUNTIF($D$131:$D$135,Q31)+COUNTIF($D$141:$D$150,Q31)+COUNTIF($D$155:$D$159,Q31)+COUNTIF($D$165:$D$174,Q31)+COUNTIF($D$179:$D$183,Q31) -> 0 | S31: =SUMIF($D$21:$D$30,Q31,$H$21:$H$30)+SUMIF($D$35:$D$39,Q31,$H$35:$H$39)+SUMIF($D$45:$D$54,Q31,$H$45:$H$54)+SUMIF($D$59:$D$63,Q31,$H$59:$H$63)+SUMIF($D$69:$D$78,Q31,$H$69:$H$78)+SUMIF($D$83:$D$87,Q31,$H$83:$H$87)+SUMIF($D$93:$D$102,Q31,$H$93:$H$102)+SUMIF($D$107:$D$111,Q31,$H$107:$H$111)+SUMIF($D$117:$D$126,Q31,$H$117:$H$126)+SUMIF($D$131:$D$135,Q31,$H$131:$H$135)+SUMIF($D$141:$D$150,Q31,$H$141:$H$150)+SUMIF($D$155:$D$159,Q31,$H$155:$H$159)+SUMIF($D$165:$D$174,Q31,$H$165:$H$174)+SUMIF($D$179:$D$183,Q31,$H$179:$H$183) -> 0
Q32: ='(附表2)実施状況報告（５月）'!Q32 -> 0 | R32: =COUNTIF($D$21:$D$30,Q32)+COUNTIF($D$35:$D$39,Q32)+COUNTIF($D$45:$D$54,Q32)+COUNTIF($D$59:$D$63,Q32)+COUNTIF($D$69:$D$78,Q32)+COUNTIF($D$83:$D$87,Q32)+COUNTIF($D$93:$D$102,Q32)+COUNTIF($D$107:$D$111,Q32)+COUNTIF($D$117:$D$126,Q32)+COUNTIF($D$131:$D$135,Q32)+COUNTIF($D$141:$D$150,Q32)+COUNTIF($D$155:$D$159,Q32)+COUNTIF($D$165:$D$174,Q32)+COUNTIF($D$179:$D$183,Q32) -> 0 | S32: =SUMIF($D$21:$D$30,Q32,$H$21:$H$30)+SUMIF($D$35:$D$39,Q32,$H$35:$H$39)+SUMIF($D$45:$D$54,Q32,$H$45:$H$54)+SUMIF($D$59:$D$63,Q32,$H$59:$H$63)+SUMIF($D$69:$D$78,Q32,$H$69:$H$78)+SUMIF($D$83:$D$87,Q32,$H$83:$H$87)+SUMIF($D$93:$D$102,Q32,$H$93:$H$102)+SUMIF($D$107:$D$111,Q32,$H$107:$H$111)+SUMIF($D$117:$D$126,Q32,$H$117:$H$126)+SUMIF($D$131:$D$135,Q32,$H$131:$H$135)+SUMIF($D$141:$D$150,Q32,$H$141:$H$150)+SUMIF($D$155:$D$159,Q32,$H$155:$H$159)+SUMIF($D$165:$D$174,Q32,$H$165:$H$174)+SUMIF($D$179:$D$183,Q32,$H$179:$H$183) -> 0
A33: ※片道のみ送迎を行った場合 | Q33: ='(附表2)実施状況報告（５月）'!Q33 -> 0 | R33: =COUNTIF($D$21:$D$30,Q33)+COUNTIF($D$35:$D$39,Q33)+COUNTIF($D$45:$D$54,Q33)+COUNTIF($D$59:$D$63,Q33)+COUNTIF($D$69:$D$78,Q33)+COUNTIF($D$83:$D$87,Q33)+COUNTIF($D$93:$D$102,Q33)+COUNTIF($D$107:$D$111,Q33)+COUNTIF($D$117:$D$126,Q33)+COUNTIF($D$131:$D$135,Q33)+COUNTIF($D$141:$D$150,Q33)+COUNTIF($D$155:$D$159,Q33)+COUNTIF($D$165:$D$174,Q33)+COUNTIF($D$179:$D$183,Q33) -> 0 | S33: =SUMIF($D$21:$D$30,Q33,$H$21:$H$30)+SUMIF($D$35:$D$39,Q33,$H$35:$H$39)+SUMIF($D$45:$D$54,Q33,$H$45:$H$54)+SUMIF($D$59:$D$63,Q33,$H$59:$H$63)+SUMIF($D$69:$D$78,Q33,$H$69:$H$78)+SUMIF($D$83:$D$87,Q33,$H$83:$H$87)+SUMIF($D$93:$D$102,Q33,$H$93:$H$102)+SUMIF($D$107:$D$111,Q33,$H$107:$H$111)+SUMIF($D$117:$D$126,Q33,$H$117:$H$126)+SUMIF($D$131:$D$135,Q33,$H$131:$H$135)+SUMIF($D$141:$D$150,Q33,$H$141:$H$150)+SUMIF($D$155:$D$159,Q33,$H$155:$H$159)+SUMIF($D$165:$D$174,Q33,$H$165:$H$174)+SUMIF($D$179:$D$183,Q33,$H$179:$H$183) -> 0
A34: 所要時間1時間以上2時間未満の場合 | B34: 被保険者番号 | C34: 被保険者氏名 | D34: 地区名 | E34: 事業所から 利用者宅までの 距離（km） | F34: 事業所から 利用者宅までの 所要時間（分） | G34: 要介護度 | H34: サービス 提供回数 ※片道のみ | I34: 基本報酬 （月単位数） | J34: 基準額(月) | Q34: ='(附表2)実施状況報告（５月）'!Q34 -> 0 | R34: =COUNTIF($D$21:$D$30,Q34)+COUNTIF($D$35:$D$39,Q34)+COUNTIF($D$45:$D$54,Q34)+COUNTIF($D$59:$D$63,Q34)+COUNTIF($D$69:$D$78,Q34)+COUNTIF($D$83:$D$87,Q34)+COUNTIF($D$93:$D$102,Q34)+COUNTIF($D$107:$D$111,Q34)+COUNTIF($D$117:$D$126,Q34)+COUNTIF($D$131:$D$135,Q34)+COUNTIF($D$141:$D$150,Q34)+COUNTIF($D$155:$D$159,Q34)+COUNTIF($D$165:$D$174,Q34)+COUNTIF($D$179:$D$183,Q34) -> 0 | S34: =SUMIF($D$21:$D$30,Q34,$H$21:$H$30)+SUMIF($D$35:$D$39,Q34,$H$35:$H$39)+SUMIF($D$45:$D$54,Q34,$H$45:$H$54)+SUMIF($D$59:$D$63,Q34,$H$59:$H$63)+SUMIF($D$69:$D$78,Q34,$H$69:$H$78)+SUMIF($D$83:$D$87,Q34,$H$83:$H$87)+SUMIF($D$93:$D$102,Q34,$H$93:$H$102)+SUMIF($D$107:$D$111,Q34,$H$107:$H$111)+SUMIF($D$117:$D$126,Q34,$H$117:$H$126)+SUMIF($D$131:$D$135,Q34,$H$131:$H$135)+SUMIF($D$141:$D$150,Q34,$H$141:$H$150)+SUMIF($D$155:$D$159,Q34,$H$155:$H$159)+SUMIF($D$165:$D$174,Q34,$H$165:$H$174)+SUMIF($D$179:$D$183,Q34,$H$179:$H$183) -> 0
I35: =IF(AND(B35<>"",C35<>"",D35<>"",E35<>"",F35<>"",G35<>"",H35<>""),VLOOKUP(G35,通所リハビリテーション費!$A$20:$B$24,2,0),0) -> 0 | J35: =((I35*H35)*0.1*10)/2 -> 0 | R35: =COUNTIF($D$21:$D$30,Q35)+COUNTIF($D$35:$D$39,Q35)+COUNTIF($D$45:$D$54,Q35)+COUNTIF($D$59:$D$63,Q35)+COUNTIF($D$69:$D$78,Q35)+COUNTIF($D$83:$D$87,Q35)+COUNTIF($D$93:$D$102,Q35)+COUNTIF($D$107:$D$111,Q35)+COUNTIF($D$117:$D$126,Q35)+COUNTIF($D$131:$D$135,Q35)+COUNTIF($D$141:$D$150,Q35)+COUNTIF($D$155:$D$159,Q35)+COUNTIF($D$165:$D$174,Q35)+COUNTIF($D$179:$D$183,Q35) -> 0 | S35: =SUMIF($D$21:$D$30,Q35,$H$21:$H$30)+SUMIF($D$35:$D$39,Q35,$H$35:$H$39)+SUMIF($D$45:$D$54,Q35,$H$45:$H$54)+SUMIF($D$59:$D$63,Q35,$H$59:$H$63)+SUMIF($D$69:$D$78,Q35,$H$69:$H$78)+SUMIF($D$83:$D$87,Q35,$H$83:$H$87)+SUMIF($D$93:$D$102,Q35,$H$93:$H$102)+SUMIF($D$107:$D$111,Q35,$H$107:$H$111)+SUMIF($D$117:$D$126,Q35,$H$117:$H$126)+SUMIF($D$131:$D$135,Q35,$H$131:$H$135)+SUMIF($D$141:$D$150,Q35,$H$141:$H$150)+SUMIF($D$155:$D$159,Q35,$H$155:$H$159)+SUMIF($D$165:$D$174,Q35,$H$165:$H$174)+SUMIF($D$179:$D$183,Q35,$H$179:$H$183) -> 0
I36: =IF(AND(B36<>"",C36<>"",D36<>"",E36<>"",F36<>"",G36<>"",H36<>""),VLOOKUP(G36,通所リハビリテーション費!$A$20:$B$24,2,0),0) -> 0 | J36: =((I36*H36)*0.1*10)/2 -> 0 | R36: =COUNTIF($D$21:$D$30,Q36)+COUNTIF($D$35:$D$39,Q36)+COUNTIF($D$45:$D$54,Q36)+COUNTIF($D$59:$D$63,Q36)+COUNTIF($D$69:$D$78,Q36)+COUNTIF($D$83:$D$87,Q36)+COUNTIF($D$93:$D$102,Q36)+COUNTIF($D$107:$D$111,Q36)+COUNTIF($D$117:$D$126,Q36)+COUNTIF($D$131:$D$135,Q36)+COUNTIF($D$141:$D$150,Q36)+COUNTIF($D$155:$D$159,Q36)+COUNTIF($D$165:$D$174,Q36)+COUNTIF($D$179:$D$183,Q36) -> 0 | S36: =SUMIF($D$21:$D$30,Q36,$H$21:$H$30)+SUMIF($D$35:$D$39,Q36,$H$35:$H$39)+SUMIF($D$45:$D$54,Q36,$H$45:$H$54)+SUMIF($D$59:$D$63,Q36,$H$59:$H$63)+SUMIF($D$69:$D$78,Q36,$H$69:$H$78)+SUMIF($D$83:$D$87,Q36,$H$83:$H$87)+SUMIF($D$93:$D$102,Q36,$H$93:$H$102)+SUMIF($D$107:$D$111,Q36,$H$107:$H$111)+SUMIF($D$117:$D$126,Q36,$H$117:$H$126)+SUMIF($D$131:$D$135,Q36,$H$131:$H$135)+SUMIF($D$141:$D$150,Q36,$H$141:$H$150)+SUMIF($D$155:$D$159,Q36,$H$155:$H$159)+SUMIF($D$165:$D$174,Q36,$H$165:$H$174)+SUMIF($D$179:$D$183,Q36,$H$179:$H$183) -> 0
I37: =IF(AND(B37<>"",C37<>"",D37<>"",E37<>"",F37<>"",G37<>"",H37<>""),VLOOKUP(G37,通所リハビリテーション費!$A$20:$B$24,2,0),0) -> 0 | J37: =((I37*H37)*0.1*10)/2 -> 0 | R37: =COUNTIF($D$21:$D$30,Q37)+COUNTIF($D$35:$D$39,Q37)+COUNTIF($D$45:$D$54,Q37)+COUNTIF($D$59:$D$63,Q37)+COUNTIF($D$69:$D$78,Q37)+COUNTIF($D$83:$D$87,Q37)+COUNTIF($D$93:$D$102,Q37)+COUNTIF($D$107:$D$111,Q37)+COUNTIF($D$117:$D$126,Q37)+COUNTIF($D$131:$D$135,Q37)+COUNTIF($D$141:$D$150,Q37)+COUNTIF($D$155:$D$159,Q37)+COUNTIF($D$165:$D$174,Q37)+COUNTIF($D$179:$D$183,Q37) -> 0 | S37: =SUMIF($D$21:$D$30,Q37,$H$21:$H$30)+SUMIF($D$35:$D$39,Q37,$H$35:$H$39)+SUMIF($D$45:$D$54,Q37,$H$45:$H$54)+SUMIF($D$59:$D$63,Q37,$H$59:$H$63)+SUMIF($D$69:$D$78,Q37,$H$69:$H$78)+SUMIF($D$83:$D$87,Q37,$H$83:$H$87)+SUMIF($D$93:$D$102,Q37,$H$93:$H$102)+SUMIF($D$107:$D$111,Q37,$H$107:$H$111)+SUMIF($D$117:$D$126,Q37,$H$117:$H$126)+SUMIF($D$131:$D$135,Q37,$H$131:$H$135)+SUMIF($D$141:$D$150,Q37,$H$141:$H$150)+SUMIF($D$155:$D$159,Q37,$H$155:$H$159)+SUMIF($D$165:$D$174,Q37,$H$165:$H$174)+SUMIF($D$179:$D$183,Q37,$H$179:$H$183) -> 0
I38: =IF(AND(B38<>"",C38<>"",D38<>"",E38<>"",F38<>"",G38<>"",H38<>""),VLOOKUP(G38,通所リハビリテーション費!$A$20:$B$24,2,0),0) -> 0 | J38: =((I38*H38)*0.1*10)/2 -> 0 | R38: =COUNTIF($D$21:$D$30,Q38)+COUNTIF($D$35:$D$39,Q38)+COUNTIF($D$45:$D$54,Q38)+COUNTIF($D$59:$D$63,Q38)+COUNTIF($D$69:$D$78,Q38)+COUNTIF($D$83:$D$87,Q38)+COUNTIF($D$93:$D$102,Q38)+COUNTIF($D$107:$D$111,Q38)+COUNTIF($D$117:$D$126,Q38)+COUNTIF($D$131:$D$135,Q38)+COUNTIF($D$141:$D$150,Q38)+COUNTIF($D$155:$D$159,Q38)+COUNTIF($D$165:$D$174,Q38)+COUNTIF($D$179:$D$183,Q38) -> 0 | S38: =SUMIF($D$21:$D$30,Q38,$H$21:$H$30)+SUMIF($D$35:$D$39,Q38,$H$35:$H$39)+SUMIF($D$45:$D$54,Q38,$H$45:$H$54)+SUMIF($D$59:$D$63,Q38,$H$59:$H$63)+SUMIF($D$69:$D$78,Q38,$H$69:$H$78)+SUMIF($D$83:$D$87,Q38,$H$83:$H$87)+SUMIF($D$93:$D$102,Q38,$H$93:$H$102)+SUMIF($D$107:$D$111,Q38,$H$107:$H$111)+SUMIF($D$117:$D$126,Q38,$H$117:$H$126)+SUMIF($D$131:$D$135,Q38,$H$131:$H$135)+SUMIF($D$141:$D$150,Q38,$H$141:$H$150)+SUMIF($D$155:$D$159,Q38,$H$155:$H$159)+SUMIF($D$165:$D$174,Q38,$H$165:$H$174)+SUMIF($D$179:$D$183,Q38,$H$179:$H$183) -> 0
I39: =IF(AND(B39<>"",C39<>"",D39<>"",E39<>"",F39<>"",G39<>"",H39<>""),VLOOKUP(G39,通所リハビリテーション費!$A$20:$B$24,2,0),0) -> 0 | J39: =((I39*H39)*0.1*10)/2 -> 0 | R39: =COUNTIF($D$21:$D$30,Q39)+COUNTIF($D$35:$D$39,Q39)+COUNTIF($D$45:$D$54,Q39)+COUNTIF($D$59:$D$63,Q39)+COUNTIF($D$69:$D$78,Q39)+COUNTIF($D$83:$D$87,Q39)+COUNTIF($D$93:$D$102,Q39)+COUNTIF($D$107:$D$111,Q39)+COUNTIF($D$117:$D$126,Q39)+COUNTIF($D$131:$D$135,Q39)+COUNTIF($D$141:$D$150,Q39)+COUNTIF($D$155:$D$159,Q39)+COUNTIF($D$165:$D$174,Q39)+COUNTIF($D$179:$D$183,Q39) -> 0 | S39: =SUMIF($D$21:$D$30,Q39,$H$21:$H$30)+SUMIF($D$35:$D$39,Q39,$H$35:$H$39)+SUMIF($D$45:$D$54,Q39,$H$45:$H$54)+SUMIF($D$59:$D$63,Q39,$H$59:$H$63)+SUMIF($D$69:$D$78,Q39,$H$69:$H$78)+SUMIF($D$83:$D$87,Q39,$H$83:$H$87)+SUMIF($D$93:$D$102,Q39,$H$93:$H$102)+SUMIF($D$107:$D$111,Q39,$H$107:$H$111)+SUMIF($D$117:$D$126,Q39,$H$117:$H$126)+SUMIF($D$131:$D$135,Q39,$H$131:$H$135)+SUMIF($D$141:$D$150,Q39,$H$141:$H$150)+SUMIF($D$155:$D$159,Q39,$H$155:$H$159)+SUMIF($D$165:$D$174,Q39,$H$165:$H$174)+SUMIF($D$179:$D$183,Q39,$H$179:$H$183) -> 0
A40: 合計 | H40: =SUMIF(H35:H39,"<>#N/A") -> 0 | I40: =SUMIF(I35:I39,"<>#N/A") -> 0 | J40: =SUMIF(J35:J39,"<>#N/A") -> 0 | R40: =COUNTIF($D$21:$D$30,Q40)+COUNTIF($D$35:$D$39,Q40)+COUNTIF($D$45:$D$54,Q40)+COUNTIF($D$59:$D$63,Q40)+COUNTIF($D$69:$D$78,Q40)+COUNTIF($D$83:$D$87,Q40)+COUNTIF($D$93:$D$102,Q40)+COUNTIF($D$107:$D$111,Q40)+COUNTIF($D$117:$D$126,Q40)+COUNTIF($D$131:$D$135,Q40)+COUNTIF($D$141:$D$150,Q40)+COUNTIF($D$155:$D$159,Q40)+COUNTIF($D$165:$D$174,Q40)+COUNTIF($D$179:$D$183,Q40) -> 0 | S40: =SUMIF($D$21:$D$30,Q40,$H$21:$H$30)+SUMIF($D$35:$D$39,Q40,$H$35:$H$39)+SUMIF($D$45:$D$54,Q40,$H$45:$H$54)+SUMIF($D$59:$D$63,Q40,$H$59:$H$63)+SUMIF($D$69:$D$78,Q40,$H$69:$H$78)+SUMIF($D$83:$D$87,Q40,$H$83:$H$87)+SUMIF($D$93:$D$102,Q40,$H$93:$H$102)+SUMIF($D$107:$D$111,Q40,$H$107:$H$111)+SUMIF($D$117:$D$126,Q40,$H$117:$H$126)+SUMIF($D$131:$D$135,Q40,$H$131:$H$135)+SUMIF($D$141:$D$150,Q40,$H$141:$H$150)+SUMIF($D$155:$D$159,Q40,$H$155:$H$159)+SUMIF($D$165:$D$174,Q40,$H$165:$H$174)+SUMIF($D$179:$D$183,Q40,$H$179:$H$183) -> 0
R41: =COUNTIF($D$21:$D$30,Q41)+COUNTIF($D$35:$D$39,Q41)+COUNTIF($D$45:$D$54,Q41)+COUNTIF($D$59:$D$63,Q41)+COUNTIF($D$69:$D$78,Q41)+COUNTIF($D$83:$D$87,Q41)+COUNTIF($D$93:$D$102,Q41)+COUNTIF($D$107:$D$111,Q41)+COUNTIF($D$117:$D$126,Q41)+COUNTIF($D$131:$D$135,Q41)+COUNTIF($D$141:$D$150,Q41)+COUNTIF($D$155:$D$159,Q41)+COUNTIF($D$165:$D$174,Q41)+COUNTIF($D$179:$D$183,Q41) -> 0 | S41: =SUMIF($D$21:$D$30,Q41,$H$21:$H$30)+SUMIF($D$35:$D$39,Q41,$H$35:$H$39)+SUMIF($D$45:$D$54,Q41,$H$45:$H$54)+SUMIF($D$59:$D$63,Q41,$H$59:$H$63)+SUMIF($D$69:$D$78,Q41,$H$69:$H$78)+SUMIF($D$83:$D$87,Q41,$H$83:$H$87)+SUMIF($D$93:$D$102,Q41,$H$93:$H$102)+SUMIF($D$107:$D$111,Q41,$H$107:$H$111)+SUMIF($D$117:$D$126,Q41,$H$117:$H$126)+SUMIF($D$131:$D$135,Q41,$H$131:$H$135)+SUMIF($D$141:$D$150,Q41,$H$141:$H$150)+SUMIF($D$155:$D$159,Q41,$H$155:$H$159)+SUMIF($D$165:$D$174,Q41,$H$165:$H$174)+SUMIF($D$179:$D$183,Q41,$H$179:$H$183) -> 0
A42: （2）所要時間2時間以上3時間未満の場合 | R42: =COUNTIF($D$21:$D$30,Q42)+COUNTIF($D$35:$D$39,Q42)+COUNTIF($D$45:$D$54,Q42)+COUNTIF($D$59:$D$63,Q42)+COUNTIF($D$69:$D$78,Q42)+COUNTIF($D$83:$D$87,Q42)+COUNTIF($D$93:$D$102,Q42)+COUNTIF($D$107:$D$111,Q42)+COUNTIF($D$117:$D$126,Q42)+COUNTIF($D$131:$D$135,Q42)+COUNTIF($D$141:$D$150,Q42)+COUNTIF($D$155:$D$159,Q42)+COUNTIF($D$165:$D$174,Q42)+COUNTIF($D$179:$D$183,Q42) -> 0 | S42: =SUMIF($D$21:$D$30,Q42,$H$21:$H$30)+SUMIF($D$35:$D$39,Q42,$H$35:$H$39)+SUMIF($D$45:$D$54,Q42,$H$45:$H$54)+SUMIF($D$59:$D$63,Q42,$H$59:$H$63)+SUMIF($D$69:$D$78,Q42,$H$69:$H$78)+SUMIF($D$83:$D$87,Q42,$H$83:$H$87)+SUMIF($D$93:$D$102,Q42,$H$93:$H$102)+SUMIF($D$107:$D$111,Q42,$H$107:$H$111)+SUMIF($D$117:$D$126,Q42,$H$117:$H$126)+SUMIF($D$131:$D$135,Q42,$H$131:$H$135)+SUMIF($D$141:$D$150,Q42,$H$141:$H$150)+SUMIF($D$155:$D$159,Q42,$H$155:$H$159)+SUMIF($D$165:$D$174,Q42,$H$165:$H$174)+SUMIF($D$179:$D$183,Q42,$H$179:$H$183) -> 0
A43: ※往復の送迎を行った場合 （片道のみ送迎を行った場合は下記別表に入力すること） | R43: =COUNTIF($D$21:$D$30,Q43)+COUNTIF($D$35:$D$39,Q43)+COUNTIF($D$45:$D$54,Q43)+COUNTIF($D$59:$D$63,Q43)+COUNTIF($D$69:$D$78,Q43)+COUNTIF($D$83:$D$87,Q43)+COUNTIF($D$93:$D$102,Q43)+COUNTIF($D$107:$D$111,Q43)+COUNTIF($D$117:$D$126,Q43)+COUNTIF($D$131:$D$135,Q43)+COUNTIF($D$141:$D$150,Q43)+COUNTIF($D$155:$D$159,Q43)+COUNTIF($D$165:$D$174,Q43)+COUNTIF($D$179:$D$183,Q43) -> 0 | S43: =SUMIF($D$21:$D$30,Q43,$H$21:$H$30)+SUMIF($D$35:$D$39,Q43,$H$35:$H$39)+SUMIF($D$45:$D$54,Q43,$H$45:$H$54)+SUMIF($D$59:$D$63,Q43,$H$59:$H$63)+SUMIF($D$69:$D$78,Q43,$H$69:$H$78)+SUMIF($D$83:$D$87,Q43,$H$83:$H$87)+SUMIF($D$93:$D$102,Q43,$H$93:$H$102)+SUMIF($D$107:$D$111,Q43,$H$107:$H$111)+SUMIF($D$117:$D$126,Q43,$H$117:$H$126)+SUMIF($D$131:$D$135,Q43,$H$131:$H$135)+SUMIF($D$141:$D$150,Q43,$H$141:$H$150)+SUMIF($D$155:$D$159,Q43,$H$155:$H$159)+SUMIF($D$165:$D$174,Q43,$H$165:$H$174)+SUMIF($D$179:$D$183,Q43,$H$179:$H$183) -> 0
A44: 所要時間2時間以上3時間未満の場合 | B44: 被保険者番号 | C44: 被保険者氏名 | D44: 地区名 | E44: 事業所から 利用者宅までの 距離（km） | F44: 事業所から 利用者宅までの 所要時間（分） | G44: 要介護度 | H44: サービス 提供回数 | I44: 基本報酬 （月単位数） | J44: 基準額(月) | R44: =COUNTIF($D$21:$D$30,Q44)+COUNTIF($D$35:$D$39,Q44)+COUNTIF($D$45:$D$54,Q44)+COUNTIF($D$59:$D$63,Q44)+COUNTIF($D$69:$D$78,Q44)+COUNTIF($D$83:$D$87,Q44)+COUNTIF($D$93:$D$102,Q44)+COUNTIF($D$107:$D$111,Q44)+COUNTIF($D$117:$D$126,Q44)+COUNTIF($D$131:$D$135,Q44)+COUNTIF($D$141:$D$150,Q44)+COUNTIF($D$155:$D$159,Q44)+COUNTIF($D$165:$D$174,Q44)+COUNTIF($D$179:$D$183,Q44) -> 0 | S44: =SUMIF($D$21:$D$30,Q44,$H$21:$H$30)+SUMIF($D$35:$D$39,Q44,$H$35:$H$39)+SUMIF($D$45:$D$54,Q44,$H$45:$H$54)+SUMIF($D$59:$D$63,Q44,$H$59:$H$63)+SUMIF($D$69:$D$78,Q44,$H$69:$H$78)+SUMIF($D$83:$D$87,Q44,$H$83:$H$87)+SUMIF($D$93:$D$102,Q44,$H$93:$H$102)+SUMIF($D$107:$D$111,Q44,$H$107:$H$111)+SUMIF($D$117:$D$126,Q44,$H$117:$H$126)+SUMIF($D$131:$D$135,Q44,$H$131:$H$135)+SUMIF($D$141:$D$150,Q44,$H$141:$H$150)+SUMIF($D$155:$D$159,Q44,$H$155:$H$159)+SUMIF($D$165:$D$174,Q44,$H$165:$H$174)+SUMIF($D$179:$D$183,Q44,$H$179:$H$183) -> 0
I45: =IF(AND(B45<>"",C45<>"",D45<>"",E45<>"",F45<>"",G45<>"",H45<>""),VLOOKUP(G45,通所リハビリテーション費!$A$27:$B$31,2,0),0) -> 0 | J45: =(I45*H45)*0.1*10 -> 0 | R45: =COUNTIF($D$21:$D$30,Q45)+COUNTIF($D$35:$D$39,Q45)+COUNTIF($D$45:$D$54,Q45)+COUNTIF($D$59:$D$63,Q45)+COUNTIF($D$69:$D$78,Q45)+COUNTIF($D$83:$D$87,Q45)+COUNTIF($D$93:$D$102,Q45)+COUNTIF($D$107:$D$111,Q45)+COUNTIF($D$117:$D$126,Q45)+COUNTIF($D$131:$D$135,Q45)+COUNTIF($D$141:$D$150,Q45)+COUNTIF($D$155:$D$159,Q45)+COUNTIF($D$165:$D$174,Q45)+COUNTIF($D$179:$D$183,Q45) -> 0 | S45: =SUMIF($D$21:$D$30,Q45,$H$21:$H$30)+SUMIF($D$35:$D$39,Q45,$H$35:$H$39)+SUMIF($D$45:$D$54,Q45,$H$45:$H$54)+SUMIF($D$59:$D$63,Q45,$H$59:$H$63)+SUMIF($D$69:$D$78,Q45,$H$69:$H$78)+SUMIF($D$83:$D$87,Q45,$H$83:$H$87)+SUMIF($D$93:$D$102,Q45,$H$93:$H$102)+SUMIF($D$107:$D$111,Q45,$H$107:$H$111)+SUMIF($D$117:$D$126,Q45,$H$117:$H$126)+SUMIF($D$131:$D$135,Q45,$H$131:$H$135)+SUMIF($D$141:$D$150,Q45,$H$141:$H$150)+SUMIF($D$155:$D$159,Q45,$H$155:$H$159)+SUMIF($D$165:$D$174,Q45,$H$165:$H$174)+SUMIF($D$179:$D$183,Q45,$H$179:$H$183) -> 0
I46: =IF(AND(B46<>"",C46<>"",D46<>"",E46<>"",F46<>"",G46<>"",H46<>""),VLOOKUP(G46,通所リハビリテーション費!$A$27:$B$31,2,0),0) -> 0 | J46: =(I46*H46)*0.1*10 -> 0 | R46: =SUM(R3:R45) -> 0 | S46: =SUM(S3:S45) -> 0
I47: =IF(AND(B47<>"",C47<>"",D47<>"",E47<>"",F47<>"",G47<>"",H47<>""),VLOOKUP(G47,通所リハビリテーション費!$A$27:$B$31,2,0),0) -> 0 | J47: =(I47*H47)*0.1*10 -> 0
I48: =IF(AND(B48<>"",C48<>"",D48<>"",E48<>"",F48<>"",G48<>"",H48<>""),VLOOKUP(G48,通所リハビリテーション費!$A$27:$B$31,2,0),0) -> 0 | J48: =(I48*H48)*0.1*10 -> 0
I49: =IF(AND(B49<>"",C49<>"",D49<>"",E49<>"",F49<>"",G49<>"",H49<>""),VLOOKUP(G49,通所リハビリテーション費!$A$27:$B$31,2,0),0) -> 0 | J49: =(I49*H49)*0.1*10 -> 0
I50: =IF(AND(B50<>"",C50<>"",D50<>"",E50<>"",F50<>"",G50<>"",H50<>""),VLOOKUP(G50,通所リハビリテーション費!$A$27:$B$31,2,0),0) -> 0 | J50: =(I50*H50)*0.1*10 -> 0
I51: =IF(AND(B51<>"",C51<>"",D51<>"",E51<>"",F51<>"",G51<>"",H51<>""),VLOOKUP(G51,通所リハビリテーション費!$A$27:$B$31,2,0),0) -> 0 | J51: =(I51*H51)*0.1*10 -> 0
I52: =IF(AND(B52<>"",C52<>"",D52<>"",E52<>"",F52<>"",G52<>"",H52<>""),VLOOKUP(G52,通所リハビリテーション費!$A$27:$B$31,2,0),0) -> 0 | J52: =(I52*H52)*0.1*10 -> 0
I53: =IF(AND(B53<>"",C53<>"",D53<>"",E53<>"",F53<>"",G53<>"",H53<>""),VLOOKUP(G53,通所リハビリテーション費!$A$27:$B$31,2,0),0) -> 0 | J53: =(I53*H53)*0.1*10 -> 0
I54: =IF(AND(B54<>"",C54<>"",D54<>"",E54<>"",F54<>"",G54<>"",H54<>""),VLOOKUP(G54,通所リハビリテーション費!$A$27:$B$31,2,0),0) -> 0 | J54: =(I54*H54)*0.1*10 -> 0
A55: 合計 | H55: =SUMIF(H45:H54,"<>#N/A") -> 0 | I55: =SUMIF(I45:I54,"<>#N/A") -> 0 | J55: =SUMIF(J45:J54,"<>#N/A") -> 0
A57: ※片道のみ送迎を行った場合
A58: 所要時間2時間以上3時間未満の場合 | B58: 被保険者番号 | C58: 被保険者氏名 | D58: 地区名 | E58: 事業所から 利用者宅までの 距離（km） | F58: 事業所から 利用者宅までの 所要時間（分） | G58: 要介護度 | H58: サービス 提供回数 ※片道のみ | I58: 基本報酬 （月単位数） | J58: 基準額(月)
I59: =IF(AND(B59<>"",C59<>"",D59<>"",E59<>"",F59<>"",G59<>"",H59<>""),VLOOKUP(G59,通所リハビリテーション費!$A$27:$B$31,2,0),0) -> 0 | J59: =((I59*H59)*0.1*10)/2 -> 0
I60: =IF(AND(B60<>"",C60<>"",D60<>"",E60<>"",F60<>"",G60<>"",H60<>""),VLOOKUP(G60,通所リハビリテーション費!$A$27:$B$31,2,0),0) -> 0 | J60: =((I60*H60)*0.1*10)/2 -> 0
I61: =IF(AND(B61<>"",C61<>"",D61<>"",E61<>"",F61<>"",G61<>"",H61<>""),VLOOKUP(G61,通所リハビリテーション費!$A$27:$B$31,2,0),0) -> 0 | J61: =((I61*H61)*0.1*10)/2 -> 0
I62: =IF(AND(B62<>"",C62<>"",D62<>"",E62<>"",F62<>"",G62<>"",H62<>""),VLOOKUP(G62,通所リハビリテーション費!$A$27:$B$31,2,0),0) -> 0 | J62: =((I62*H62)*0.1*10)/2 -> 0
I63: =IF(AND(B63<>"",C63<>"",D63<>"",E63<>"",F63<>"",G63<>"",H63<>""),VLOOKUP(G63,通所リハビリテーション費!$A$27:$B$31,2,0),0) -> 0 | J63: =((I63*H63)*0.1*10)/2 -> 0
A64: 合計 | H64: =SUMIF(H59:H63,"<>#N/A") -> 0 | I64: =SUMIF(I59:I63,"<>#N/A") -> 0 | J64: =SUMIF(J59:J63,"<>#N/A") -> 0
A66: （3）所要時間3時間以上4時間未満の場合
A67: ※往復の送迎を行った場合 （片道のみ送迎を行った場合は下記別表に入力すること）
A68: 所要時間3時間以上4時間未満の場合 | B68: 被保険者番号 | C68: 被保険者氏名 | D68: 地区名 | E68: 事業所から 利用者宅までの 距離（km） | F68: 事業所から 利用者宅までの 所要時間（分） | G68: 要介護度 | H68: サービス 提供回数 | I68: 基本報酬 （月単位数） | J68: 基準額(月)
I69: =IF(AND(B69<>"",C69<>"",D69<>"",E69<>"",F69<>"",G69<>"",H69<>""),VLOOKUP(G69,通所リハビリテーション費!$A$34:$B$38,2,0),0) -> 0 | J69: =(I69*H69)*0.1*10 -> 0
I70: =IF(AND(B70<>"",C70<>"",D70<>"",E70<>"",F70<>"",G70<>"",H70<>""),VLOOKUP(G70,通所リハビリテーション費!$A$34:$B$38,2,0),0) -> 0 | J70: =(I70*H70)*0.1*10 -> 0
I71: =IF(AND(B71<>"",C71<>"",D71<>"",E71<>"",F71<>"",G71<>"",H71<>""),VLOOKUP(G71,通所リハビリテーション費!$A$34:$B$38,2,0),0) -> 0 | J71: =(I71*H71)*0.1*10 -> 0
I72: =IF(AND(B72<>"",C72<>"",D72<>"",E72<>"",F72<>"",G72<>"",H72<>""),VLOOKUP(G72,通所リハビリテーション費!$A$34:$B$38,2,0),0) -> 0 | J72: =(I72*H72)*0.1*10 -> 0
I73: =IF(AND(B73<>"",C73<>"",D73<>"",E73<>"",F73<>"",G73<>"",H73<>""),VLOOKUP(G73,通所リハビリテーション費!$A$34:$B$38,2,0),0) -> 0 | J73: =(I73*H73)*0.1*10 -> 0
I74: =IF(AND(B74<>"",C74<>"",D74<>"",E74<>"",F74<>"",G74<>"",H74<>""),VLOOKUP(G74,通所リハビリテーション費!$A$34:$B$38,2,0),0) -> 0 | J74: =(I74*H74)*0.1*10 -> 0
I75: =IF(AND(B75<>"",C75<>"",D75<>"",E75<>"",F75<>"",G75<>"",H75<>""),VLOOKUP(G75,通所リハビリテーション費!$A$34:$B$38,2,0),0) -> 0 | J75: =(I75*H75)*0.1*10 -> 0
I76: =IF(AND(B76<>"",C76<>"",D76<>"",E76<>"",F76<>"",G76<>"",H76<>""),VLOOKUP(G76,通所リハビリテーション費!$A$34:$B$38,2,0),0) -> 0 | J76: =(I76*H76)*0.1*10 -> 0
I77: =IF(AND(B77<>"",C77<>"",D77<>"",E77<>"",F77<>"",G77<>"",H77<>""),VLOOKUP(G77,通所リハビリテーション費!$A$34:$B$38,2,0),0) -> 0 | J77: =(I77*H77)*0.1*10 -> 0
I78: =IF(AND(B78<>"",C78<>"",D78<>"",E78<>"",F78<>"",G78<>"",H78<>""),VLOOKUP(G78,通所リハビリテーション費!$A$34:$B$38,2,0),0) -> 0 | J78: =(I78*H78)*0.1*10 -> 0
A79: 合計 | H79: =SUMIF(H69:H78,"<>#N/A") -> 0 | I79: =SUMIF(I69:I78,"<>#N/A") -> 0 | J79: =SUMIF(J69:J78,"<>#N/A") -> 0
A81: ※片道のみ送迎を行った場合
A82: 所要時間3時間以上4時間未満の場合 | B82: 被保険者番号 | C82: 被保険者氏名 | D82: 地区名 | E82: 事業所から 利用者宅までの 距離（km） | F82: 事業所から 利用者宅までの 所要時間（分） | G82: 要介護度 | H82: サービス 提供回数 ※片道のみ | I82: 基本報酬 （月単位数） | J82: 基準額(月)
I83: =IF(AND(B83<>"",C83<>"",D83<>"",E83<>"",F83<>"",G83<>"",H83<>""),VLOOKUP(G83,通所リハビリテーション費!$A$34:$B$38,2,0),0) -> 0 | J83: =((I83*H83)*0.1*10)/2 -> 0
I84: =IF(AND(B84<>"",C84<>"",D84<>"",E84<>"",F84<>"",G84<>"",H84<>""),VLOOKUP(G84,通所リハビリテーション費!$A$34:$B$38,2,0),0) -> 0 | J84: =((I84*H84)*0.1*10)/2 -> 0
I85: =IF(AND(B85<>"",C85<>"",D85<>"",E85<>"",F85<>"",G85<>"",H85<>""),VLOOKUP(G85,通所リハビリテーション費!$A$34:$B$38,2,0),0) -> 0 | J85: =((I85*H85)*0.1*10)/2 -> 0
I86: =IF(AND(B86<>"",C86<>"",D86<>"",E86<>"",F86<>"",G86<>"",H86<>""),VLOOKUP(G86,通所リハビリテーション費!$A$34:$B$38,2,0),0) -> 0 | J86: =((I86*H86)*0.1*10)/2 -> 0
I87: =IF(AND(B87<>"",C87<>"",D87<>"",E87<>"",F87<>"",G87<>"",H87<>""),VLOOKUP(G87,通所リハビリテーション費!$A$34:$B$38,2,0),0) -> 0 | J87: =((I87*H87)*0.1*10)/2 -> 0
A88: 合計 | H88: =SUMIF(H83:H87,"<>#N/A") -> 0 | I88: =SUMIF(I83:I87,"<>#N/A") -> 0 | J88: =SUMIF(J83:J87,"<>#N/A") -> 0
A90: （4）所要時間4時間以上5時間未満の場合
A91: ※往復の送迎を行った場合 （片道のみ送迎を行った場合は下記別表に入力すること）
A92: 所要時間4時間以上5時間未満の場合 | B92: 被保険者番号 | C92: 被保険者氏名 | D92: 地区名 | E92: 事業所から 利用者宅までの 距離（km） | F92: 事業所から 利用者宅までの 所要時間（分） | G92: 要介護度 | H92: サービス 提供回数 | I92: 基本報酬 （月単位数） | J92: 基準額(月)
I93: =IF(AND(B93<>"",C93<>"",D93<>"",E93<>"",F93<>"",G93<>"",H93<>""),VLOOKUP(G93,通所リハビリテーション費!$A$41:$B$45,2,0),0) -> 0 | J93: =(I93*H93)*0.1*10 -> 0
I94: =IF(AND(B94<>"",C94<>"",D94<>"",E94<>"",F94<>"",G94<>"",H94<>""),VLOOKUP(G94,通所リハビリテーション費!$A$41:$B$45,2,0),0) -> 0 | J94: =(I94*H94)*0.1*10 -> 0
I95: =IF(AND(B95<>"",C95<>"",D95<>"",E95<>"",F95<>"",G95<>"",H95<>""),VLOOKUP(G95,通所リハビリテーション費!$A$41:$B$45,2,0),0) -> 0 | J95: =(I95*H95)*0.1*10 -> 0
I96: =IF(AND(B96<>"",C96<>"",D96<>"",E96<>"",F96<>"",G96<>"",H96<>""),VLOOKUP(G96,通所リハビリテーション費!$A$41:$B$45,2,0),0) -> 0 | J96: =(I96*H96)*0.1*10 -> 0
I97: =IF(AND(B97<>"",C97<>"",D97<>"",E97<>"",F97<>"",G97<>"",H97<>""),VLOOKUP(G97,通所リハビリテーション費!$A$41:$B$45,2,0),0) -> 0 | J97: =(I97*H97)*0.1*10 -> 0
I98: =IF(AND(B98<>"",C98<>"",D98<>"",E98<>"",F98<>"",G98<>"",H98<>""),VLOOKUP(G98,通所リハビリテーション費!$A$41:$B$45,2,0),0) -> 0 | J98: =(I98*H98)*0.1*10 -> 0
I99: =IF(AND(B99<>"",C99<>"",D99<>"",E99<>"",F99<>"",G99<>"",H99<>""),VLOOKUP(G99,通所リハビリテーション費!$A$41:$B$45,2,0),0) -> 0 | J99: =(I99*H99)*0.1*10 -> 0
I100: =IF(AND(B100<>"",C100<>"",D100<>"",E100<>"",F100<>"",G100<>"",H100<>""),VLOOKUP(G100,通所リハビリテーション費!$A$41:$B$45,2,0),0) -> 0 | J100: =(I100*H100)*0.1*10 -> 0
I101: =IF(AND(B101<>"",C101<>"",D101<>"",E101<>"",F101<>"",G101<>"",H101<>""),VLOOKUP(G101,通所リハビリテーション費!$A$41:$B$45,2,0),0) -> 0 | J101: =(I101*H101)*0.1*10 -> 0
I102: =IF(AND(B102<>"",C102<>"",D102<>"",E102<>"",F102<>"",G102<>"",H102<>""),VLOOKUP(G102,通所リハビリテーション費!$A$41:$B$45,2,0),0) -> 0 | J102: =(I102*H102)*0.1*10 -> 0
A103: 合計 | H103: =SUMIF(H93:H102,"<>#N/A") -> 0 | I103: =SUMIF(I93:I102,"<>#N/A") -> 0 | J103: =SUMIF(J93:J102,"<>#N/A") -> 0
A105: ※片道のみ送迎を行った場合
...

Sheet (附表2)実施状況報告（７月）
A1: 附表2 | H1: 令和 年 月 日
A2: 吉備中央町長 様 | R2: 対象者人数 | S2: サービス 提供回数
Q3: ='(附表2)実施状況報告（５月）'!Q3 -> 広面 | R3: =COUNTIF($D$21:$D$30,Q3)+COUNTIF($D$35:$D$39,Q3)+COUNTIF($D$45:$D$54,Q3)+COUNTIF($D$59:$D$63,Q3)+COUNTIF($D$69:$D$78,Q3)+COUNTIF($D$83:$D$87,Q3)+COUNTIF($D$93:$D$102,Q3)+COUNTIF($D$107:$D$111,Q3)+COUNTIF($D$117:$D$126,Q3)+COUNTIF($D$131:$D$135,Q3)+COUNTIF($D$141:$D$150,Q3)+COUNTIF($D$155:$D$159,Q3)+COUNTIF($D$165:$D$174,Q3)+COUNTIF($D$179:$D$183,Q3) -> 0 | S3: =SUMIF($D$21:$D$30,Q3,$H$21:$H$30)+SUMIF($D$35:$D$39,Q3,$H$35:$H$39)+SUMIF($D$45:$D$54,Q3,$H$45:$H$54)+SUMIF($D$59:$D$63,Q3,$H$59:$H$63)+SUMIF($D$69:$D$78,Q3,$H$69:$H$78)+SUMIF($D$83:$D$87,Q3,$H$83:$H$87)+SUMIF($D$93:$D$102,Q3,$H$93:$H$102)+SUMIF($D$107:$D$111,Q3,$H$107:$H$111)+SUMIF($D$117:$D$126,Q3,$H$117:$H$126)+SUMIF($D$131:$D$135,Q3,$H$131:$H$135)+SUMIF($D$141:$D$150,Q3,$H$141:$H$150)+SUMIF($D$155:$D$159,Q3,$H$155:$H$159)+SUMIF($D$165:$D$174,Q3,$H$165:$H$174)+SUMIF($D$179:$D$183,Q3,$H$179:$H$183) -> 0
A4: 実 施 状 況 報 告 明 細 書 （通所リハビリテーション事業所用、通常規模型リハビリテーション費） 令和８年７月分 | Q4: ='(附表2)実施状況報告（５月）'!Q4 -> 上加茂 | R4: =COUNTIF($D$21:$D$30,Q4)+COUNTIF($D$35:$D$39,Q4)+COUNTIF($D$45:$D$54,Q4)+COUNTIF($D$59:$D$63,Q4)+COUNTIF($D$69:$D$78,Q4)+COUNTIF($D$83:$D$87,Q4)+COUNTIF($D$93:$D$102,Q4)+COUNTIF($D$107:$D$111,Q4)+COUNTIF($D$117:$D$126,Q4)+COUNTIF($D$131:$D$135,Q4)+COUNTIF($D$141:$D$150,Q4)+COUNTIF($D$155:$D$159,Q4)+COUNTIF($D$165:$D$174,Q4)+COUNTIF($D$179:$D$183,Q4) -> 0 | S4: =SUMIF($D$21:$D$30,Q4,$H$21:$H$30)+SUMIF($D$35:$D$39,Q4,$H$35:$H$39)+SUMIF($D$45:$D$54,Q4,$H$45:$H$54)+SUMIF($D$59:$D$63,Q4,$H$59:$H$63)+SUMIF($D$69:$D$78,Q4,$H$69:$H$78)+SUMIF($D$83:$D$87,Q4,$H$83:$H$87)+SUMIF($D$93:$D$102,Q4,$H$93:$H$102)+SUMIF($D$107:$D$111,Q4,$H$107:$H$111)+SUMIF($D$117:$D$126,Q4,$H$117:$H$126)+SUMIF($D$131:$D$135,Q4,$H$131:$H$135)+SUMIF($D$141:$D$150,Q4,$H$141:$H$150)+SUMIF($D$155:$D$159,Q4,$H$155:$H$159)+SUMIF($D$165:$D$174,Q4,$H$165:$H$174)+SUMIF($D$179:$D$183,Q4,$H$179:$H$183) -> 0
Q5: ='(附表2)実施状況報告（５月）'!Q5 -> 下加茂 | R5: =COUNTIF($D$21:$D$30,Q5)+COUNTIF($D$35:$D$39,Q5)+COUNTIF($D$45:$D$54,Q5)+COUNTIF($D$59:$D$63,Q5)+COUNTIF($D$69:$D$78,Q5)+COUNTIF($D$83:$D$87,Q5)+COUNTIF($D$93:$D$102,Q5)+COUNTIF($D$107:$D$111,Q5)+COUNTIF($D$117:$D$126,Q5)+COUNTIF($D$131:$D$135,Q5)+COUNTIF($D$141:$D$150,Q5)+COUNTIF($D$155:$D$159,Q5)+COUNTIF($D$165:$D$174,Q5)+COUNTIF($D$179:$D$183,Q5) -> 0 | S5: =SUMIF($D$21:$D$30,Q5,$H$21:$H$30)+SUMIF($D$35:$D$39,Q5,$H$35:$H$39)+SUMIF($D$45:$D$54,Q5,$H$45:$H$54)+SUMIF($D$59:$D$63,Q5,$H$59:$H$63)+SUMIF($D$69:$D$78,Q5,$H$69:$H$78)+SUMIF($D$83:$D$87,Q5,$H$83:$H$87)+SUMIF($D$93:$D$102,Q5,$H$93:$H$102)+SUMIF($D$107:$D$111,Q5,$H$107:$H$111)+SUMIF($D$117:$D$126,Q5,$H$117:$H$126)+SUMIF($D$131:$D$135,Q5,$H$131:$H$135)+SUMIF($D$141:$D$150,Q5,$H$141:$H$150)+SUMIF($D$155:$D$159,Q5,$H$155:$H$159)+SUMIF($D$165:$D$174,Q5,$H$165:$H$174)+SUMIF($D$179:$D$183,Q5,$H$179:$H$183) -> 0
A6: 1.事業所情報 | Q6: ='(附表2)実施状況報告（５月）'!Q6 -> 美原 | R6: =COUNTIF($D$21:$D$30,Q6)+COUNTIF($D$35:$D$39,Q6)+COUNTIF($D$45:$D$54,Q6)+COUNTIF($D$59:$D$63,Q6)+COUNTIF($D$69:$D$78,Q6)+COUNTIF($D$83:$D$87,Q6)+COUNTIF($D$93:$D$102,Q6)+COUNTIF($D$107:$D$111,Q6)+COUNTIF($D$117:$D$126,Q6)+COUNTIF($D$131:$D$135,Q6)+COUNTIF($D$141:$D$150,Q6)+COUNTIF($D$155:$D$159,Q6)+COUNTIF($D$165:$D$174,Q6)+COUNTIF($D$179:$D$183,Q6) -> 0 | S6: =SUMIF($D$21:$D$30,Q6,$H$21:$H$30)+SUMIF($D$35:$D$39,Q6,$H$35:$H$39)+SUMIF($D$45:$D$54,Q6,$H$45:$H$54)+SUMIF($D$59:$D$63,Q6,$H$59:$H$63)+SUMIF($D$69:$D$78,Q6,$H$69:$H$78)+SUMIF($D$83:$D$87,Q6,$H$83:$H$87)+SUMIF($D$93:$D$102,Q6,$H$93:$H$102)+SUMIF($D$107:$D$111,Q6,$H$107:$H$111)+SUMIF($D$117:$D$126,Q6,$H$117:$H$126)+SUMIF($D$131:$D$135,Q6,$H$131:$H$135)+SUMIF($D$141:$D$150,Q6,$H$141:$H$150)+SUMIF($D$155:$D$159,Q6,$H$155:$H$159)+SUMIF($D$165:$D$174,Q6,$H$165:$H$174)+SUMIF($D$179:$D$183,Q6,$H$179:$H$183) -> 0
A7: 事業者名 | C7: =IF(基本情報入力シート!V8="","",基本情報入力シート!V8) | Q7: ='(附表2)実施状況報告（５月）'!Q7 -> 加茂市場 | R7: =COUNTIF($D$21:$D$30,Q7)+COUNTIF($D$35:$D$39,Q7)+COUNTIF($D$45:$D$54,Q7)+COUNTIF($D$59:$D$63,Q7)+COUNTIF($D$69:$D$78,Q7)+COUNTIF($D$83:$D$87,Q7)+COUNTIF($D$93:$D$102,Q7)+COUNTIF($D$107:$D$111,Q7)+COUNTIF($D$117:$D$126,Q7)+COUNTIF($D$131:$D$135,Q7)+COUNTIF($D$141:$D$150,Q7)+COUNTIF($D$155:$D$159,Q7)+COUNTIF($D$165:$D$174,Q7)+COUNTIF($D$179:$D$183,Q7) -> 0 | S7: =SUMIF($D$21:$D$30,Q7,$H$21:$H$30)+SUMIF($D$35:$D$39,Q7,$H$35:$H$39)+SUMIF($D$45:$D$54,Q7,$H$45:$H$54)+SUMIF($D$59:$D$63,Q7,$H$59:$H$63)+SUMIF($D$69:$D$78,Q7,$H$69:$H$78)+SUMIF($D$83:$D$87,Q7,$H$83:$H$87)+SUMIF($D$93:$D$102,Q7,$H$93:$H$102)+SUMIF($D$107:$D$111,Q7,$H$107:$H$111)+SUMIF($D$117:$D$126,Q7,$H$117:$H$126)+SUMIF($D$131:$D$135,Q7,$H$131:$H$135)+SUMIF($D$141:$D$150,Q7,$H$141:$H$150)+SUMIF($D$155:$D$159,Q7,$H$155:$H$159)+SUMIF($D$165:$D$174,Q7,$H$165:$H$174)+SUMIF($D$179:$D$183,Q7,$H$179:$H$183) -> 0
A8: 事業所名 | C8: =IF(基本情報入力シート!V19="","",基本情報入力シート!V19) | Q8: ='(附表2)実施状況報告（５月）'!Q8 -> 高谷 | R8: =COUNTIF($D$21:$D$30,Q8)+COUNTIF($D$35:$D$39,Q8)+COUNTIF($D$45:$D$54,Q8)+COUNTIF($D$59:$D$63,Q8)+COUNTIF($D$69:$D$78,Q8)+COUNTIF($D$83:$D$87,Q8)+COUNTIF($D$93:$D$102,Q8)+COUNTIF($D$107:$D$111,Q8)+COUNTIF($D$117:$D$126,Q8)+COUNTIF($D$131:$D$135,Q8)+COUNTIF($D$141:$D$150,Q8)+COUNTIF($D$155:$D$159,Q8)+COUNTIF($D$165:$D$174,Q8)+COUNTIF($D$179:$D$183,Q8) -> 0 | S8: =SUMIF($D$21:$D$30,Q8,$H$21:$H$30)+SUMIF($D$35:$D$39,Q8,$H$35:$H$39)+SUMIF($D$45:$D$54,Q8,$H$45:$H$54)+SUMIF($D$59:$D$63,Q8,$H$59:$H$63)+SUMIF($D$69:$D$78,Q8,$H$69:$H$78)+SUMIF($D$83:$D$87,Q8,$H$83:$H$87)+SUMIF($D$93:$D$102,Q8,$H$93:$H$102)+SUMIF($D$107:$D$111,Q8,$H$107:$H$111)+SUMIF($D$117:$D$126,Q8,$H$117:$H$126)+SUMIF($D$131:$D$135,Q8,$H$131:$H$135)+SUMIF($D$141:$D$150,Q8,$H$141:$H$150)+SUMIF($D$155:$D$159,Q8,$H$155:$H$159)+SUMIF($D$165:$D$174,Q8,$H$165:$H$174)+SUMIF($D$179:$D$183,Q8,$H$179:$H$183) -> 0
A9: 事業所所在地 | C9: =IF(基本情報入力シート!V20="","",基本情報入力シート!V20) | Q9: ='(附表2)実施状況報告（５月）'!Q9 -> 平岡 | R9: =COUNTIF($D$21:$D$30,Q9)+COUNTIF($D$35:$D$39,Q9)+COUNTIF($D$45:$D$54,Q9)+COUNTIF($D$59:$D$63,Q9)+COUNTIF($D$69:$D$78,Q9)+COUNTIF($D$83:$D$87,Q9)+COUNTIF($D$93:$D$102,Q9)+COUNTIF($D$107:$D$111,Q9)+COUNTIF($D$117:$D$126,Q9)+COUNTIF($D$131:$D$135,Q9)+COUNTIF($D$141:$D$150,Q9)+COUNTIF($D$155:$D$159,Q9)+COUNTIF($D$165:$D$174,Q9)+COUNTIF($D$179:$D$183,Q9) -> 0 | S9: =SUMIF($D$21:$D$30,Q9,$H$21:$H$30)+SUMIF($D$35:$D$39,Q9,$H$35:$H$39)+SUMIF($D$45:$D$54,Q9,$H$45:$H$54)+SUMIF($D$59:$D$63,Q9,$H$59:$H$63)+SUMIF($D$69:$D$78,Q9,$H$69:$H$78)+SUMIF($D$83:$D$87,Q9,$H$83:$H$87)+SUMIF($D$93:$D$102,Q9,$H$93:$H$102)+SUMIF($D$107:$D$111,Q9,$H$107:$H$111)+SUMIF($D$117:$D$126,Q9,$H$117:$H$126)+SUMIF($D$131:$D$135,Q9,$H$131:$H$135)+SUMIF($D$141:$D$150,Q9,$H$141:$H$150)+SUMIF($D$155:$D$159,Q9,$H$155:$H$159)+SUMIF($D$165:$D$174,Q9,$H$165:$H$174)+SUMIF($D$179:$D$183,Q9,$H$179:$H$183) -> 0
A10: サービス種別 | C10: =IF(基本情報入力シート!V21="","",基本情報入力シート!V21) -> 通所リハビリテーション | Q10: ='(附表2)実施状況報告（５月）'!Q10 -> 上野 | R10: =COUNTIF($D$21:$D$30,Q10)+COUNTIF($D$35:$D$39,Q10)+COUNTIF($D$45:$D$54,Q10)+COUNTIF($D$59:$D$63,Q10)+COUNTIF($D$69:$D$78,Q10)+COUNTIF($D$83:$D$87,Q10)+COUNTIF($D$93:$D$102,Q10)+COUNTIF($D$107:$D$111,Q10)+COUNTIF($D$117:$D$126,Q10)+COUNTIF($D$131:$D$135,Q10)+COUNTIF($D$141:$D$150,Q10)+COUNTIF($D$155:$D$159,Q10)+COUNTIF($D$165:$D$174,Q10)+COUNTIF($D$179:$D$183,Q10) -> 0 | S10: =SUMIF($D$21:$D$30,Q10,$H$21:$H$30)+SUMIF($D$35:$D$39,Q10,$H$35:$H$39)+SUMIF($D$45:$D$54,Q10,$H$45:$H$54)+SUMIF($D$59:$D$63,Q10,$H$59:$H$63)+SUMIF($D$69:$D$78,Q10,$H$69:$H$78)+SUMIF($D$83:$D$87,Q10,$H$83:$H$87)+SUMIF($D$93:$D$102,Q10,$H$93:$H$102)+SUMIF($D$107:$D$111,Q10,$H$107:$H$111)+SUMIF($D$117:$D$126,Q10,$H$117:$H$126)+SUMIF($D$131:$D$135,Q10,$H$131:$H$135)+SUMIF($D$141:$D$150,Q10,$H$141:$H$150)+SUMIF($D$155:$D$159,Q10,$H$155:$H$159)+SUMIF($D$165:$D$174,Q10,$H$165:$H$174)+SUMIF($D$179:$D$183,Q10,$H$179:$H$183) -> 0
A11: 補助対象事業区分 | C11: =IF(基本情報入力シート!V22="","",基本情報入力シート!V22) -> 別表第1の1 区分1 移動に片道20分以上の時間を要するサービス（特別地域加算対象地域内に居住する利用者を対象に行う場合） | Q11: ='(附表2)実施状況報告（５月）'!Q11 -> 竹部 | R11: =COUNTIF($D$21:$D$30,Q11)+COUNTIF($D$35:$D$39,Q11)+COUNTIF($D$45:$D$54,Q11)+COUNTIF($D$59:$D$63,Q11)+COUNTIF($D$69:$D$78,Q11)+COUNTIF($D$83:$D$87,Q11)+COUNTIF($D$93:$D$102,Q11)+COUNTIF($D$107:$D$111,Q11)+COUNTIF($D$117:$D$126,Q11)+COUNTIF($D$131:$D$135,Q11)+COUNTIF($D$141:$D$150,Q11)+COUNTIF($D$155:$D$159,Q11)+COUNTIF($D$165:$D$174,Q11)+COUNTIF($D$179:$D$183,Q11) -> 0 | S11: =SUMIF($D$21:$D$30,Q11,$H$21:$H$30)+SUMIF($D$35:$D$39,Q11,$H$35:$H$39)+SUMIF($D$45:$D$54,Q11,$H$45:$H$54)+SUMIF($D$59:$D$63,Q11,$H$59:$H$63)+SUMIF($D$69:$D$78,Q11,$H$69:$H$78)+SUMIF($D$83:$D$87,Q11,$H$83:$H$87)+SUMIF($D$93:$D$102,Q11,$H$93:$H$102)+SUMIF($D$107:$D$111,Q11,$H$107:$H$111)+SUMIF($D$117:$D$126,Q11,$H$117:$H$126)+SUMIF($D$131:$D$135,Q11,$H$131:$H$135)+SUMIF($D$141:$D$150,Q11,$H$141:$H$150)+SUMIF($D$155:$D$159,Q11,$H$155:$H$159)+SUMIF($D$165:$D$174,Q11,$H$165:$H$174)+SUMIF($D$179:$D$183,Q11,$H$179:$H$183) -> 0
A12: 加算区分 | C12: 通常規模型リハビリテーション費 | Q12: ='(附表2)実施状況報告（５月）'!Q12 -> 上田東 | R12: =COUNTIF($D$21:$D$30,Q12)+COUNTIF($D$35:$D$39,Q12)+COUNTIF($D$45:$D$54,Q12)+COUNTIF($D$59:$D$63,Q12)+COUNTIF($D$69:$D$78,Q12)+COUNTIF($D$83:$D$87,Q12)+COUNTIF($D$93:$D$102,Q12)+COUNTIF($D$107:$D$111,Q12)+COUNTIF($D$117:$D$126,Q12)+COUNTIF($D$131:$D$135,Q12)+COUNTIF($D$141:$D$150,Q12)+COUNTIF($D$155:$D$159,Q12)+COUNTIF($D$165:$D$174,Q12)+COUNTIF($D$179:$D$183,Q12) -> 0 | S12: =SUMIF($D$21:$D$30,Q12,$H$21:$H$30)+SUMIF($D$35:$D$39,Q12,$H$35:$H$39)+SUMIF($D$45:$D$54,Q12,$H$45:$H$54)+SUMIF($D$59:$D$63,Q12,$H$59:$H$63)+SUMIF($D$69:$D$78,Q12,$H$69:$H$78)+SUMIF($D$83:$D$87,Q12,$H$83:$H$87)+SUMIF($D$93:$D$102,Q12,$H$93:$H$102)+SUMIF($D$107:$D$111,Q12,$H$107:$H$111)+SUMIF($D$117:$D$126,Q12,$H$117:$H$126)+SUMIF($D$131:$D$135,Q12,$H$131:$H$135)+SUMIF($D$141:$D$150,Q12,$H$141:$H$150)+SUMIF($D$155:$D$159,Q12,$H$155:$H$159)+SUMIF($D$165:$D$174,Q12,$H$165:$H$174)+SUMIF($D$179:$D$183,Q12,$H$179:$H$183) -> 0
Q13: ='(附表2)実施状況報告（５月）'!Q13 -> 細田 | R13: =COUNTIF($D$21:$D$30,Q13)+COUNTIF($D$35:$D$39,Q13)+COUNTIF($D$45:$D$54,Q13)+COUNTIF($D$59:$D$63,Q13)+COUNTIF($D$69:$D$78,Q13)+COUNTIF($D$83:$D$87,Q13)+COUNTIF($D$93:$D$102,Q13)+COUNTIF($D$107:$D$111,Q13)+COUNTIF($D$117:$D$126,Q13)+COUNTIF($D$131:$D$135,Q13)+COUNTIF($D$141:$D$150,Q13)+COUNTIF($D$155:$D$159,Q13)+COUNTIF($D$165:$D$174,Q13)+COUNTIF($D$179:$D$183,Q13) -> 0 | S13: =SUMIF($D$21:$D$30,Q13,$H$21:$H$30)+SUMIF($D$35:$D$39,Q13,$H$35:$H$39)+SUMIF($D$45:$D$54,Q13,$H$45:$H$54)+SUMIF($D$59:$D$63,Q13,$H$59:$H$63)+SUMIF($D$69:$D$78,Q13,$H$69:$H$78)+SUMIF($D$83:$D$87,Q13,$H$83:$H$87)+SUMIF($D$93:$D$102,Q13,$H$93:$H$102)+SUMIF($D$107:$D$111,Q13,$H$107:$H$111)+SUMIF($D$117:$D$126,Q13,$H$117:$H$126)+SUMIF($D$131:$D$135,Q13,$H$131:$H$135)+SUMIF($D$141:$D$150,Q13,$H$141:$H$150)+SUMIF($D$155:$D$159,Q13,$H$155:$H$159)+SUMIF($D$165:$D$174,Q13,$H$165:$H$174)+SUMIF($D$179:$D$183,Q13,$H$179:$H$183) -> 0
