Workbook
Name サービス提供時間: #REF!
Name サービス提供時間1: #REF!
Name サービス提供時間2: #REF!
Name サービス提供時間3: #REF!
Name サービス提供時間4: #REF!
Name サービス提供時間5: #REF!
Name サービス提供時間6: #REF!
Name 介護度: #REF!

Sheet 基本情報入力シート
A2: 基 本 情 報 入 力 シ ー ト
A3: （通所リハビリテーション事業所用、通常規模型リハビリテーション費）
A4: 特別地域加算対象地域内に居住する利用者を対象に行う場合用
A6: 1.基本情報
A7: 事業者 | I7: フリガナ
I8: 名称
A9: 事業者 所在地 | I9: 〒 | Z9: -
I10: 住所１（番地・住居番号まで）
I11: 住所２（建物名等）
A12: 事業者 代表者 | I12: 職名
I13: 氏名
A14: 法人番号
A15: 書類作成 担当者 | I15: フリガナ
I16: 氏名
A17: 連絡先 | I17: 電話番号
I18: E-mail
A19: 事業所名
A20: 事業所所在地
A21: サービス種別 | V21: 通所リハビリテーション
A22: 補助対象事業区分 | V22: 別表第1の1 区分1 移動に片道20分以上の時間を要するサービス（特別地域加算対象地域内に居住する利用者を対象に行う場合）

Sheet (附表１－３)年間実施計画
A1: 附表１－３ | H1: 令和 年 月 日
A2: 吉備中央町長 様 | R2: 対象者人数 | S2: サービス 提供回数
Q3: ='(附表2)実施状況報告（４月）'!Q3 -> 広面 | R3: =COUNTIF($C$20:$C$49,Q3)+COUNTIF($C$54:$C$83,Q3)+COUNTIF($C$88:$C$117,Q3)+COUNTIF($C$122:$C$151,Q3)+COUNTIF($C$156:$C$185,Q3)+COUNTIF($C$190:$C$219,Q3)+COUNTIF($C$224:$C$253,Q3) -> 0 | S3: =SUMIF($C$20:$C$49,Q3,$G$20:$G$49)+SUMIF($C$54:$C$83,Q3,$G$54:$G$83)+SUMIF($C$88:$C$117,Q3,$G$88:$G$117)+SUMIF($C$122:$C$151,Q3,$G$122:$G$151)+SUMIF($C$156:$C$185,Q3,$G$156:$G$185)+SUMIF($C$190:$C$219,Q3,$G$190:$G$219)+SUMIF($C$224:$C$253,Q3,$G$224:$G$253) -> 0
A4: 年 間 実 施 計 画 （通所リハビリテーション事業所用、通常規模型リハビリテーション費） | Q4: ='(附表2)実施状況報告（４月）'!Q4 -> 上加茂 | R4: =COUNTIF($C$20:$C$49,Q4)+COUNTIF($C$54:$C$83,Q4)+COUNTIF($C$88:$C$117,Q4)+COUNTIF($C$122:$C$151,Q4)+COUNTIF($C$156:$C$185,Q4)+COUNTIF($C$190:$C$219,Q4)+COUNTIF($C$224:$C$253,Q4) -> 0 | S4: =SUMIF($C$20:$C$49,Q4,$G$20:$G$49)+SUMIF($C$54:$C$83,Q4,$G$54:$G$83)+SUMIF($C$88:$C$117,Q4,$G$88:$G$117)+SUMIF($C$122:$C$151,Q4,$G$122:$G$151)+SUMIF($C$156:$C$185,Q4,$G$156:$G$185)+SUMIF($C$190:$C$219,Q4,$G$190:$G$219)+SUMIF($C$224:$C$253,Q4,$G$224:$G$253) -> 0
Q5: ='(附表2)実施状況報告（４月）'!Q5 -> 下加茂 | R5: =COUNTIF($C$20:$C$49,Q5)+COUNTIF($C$54:$C$83,Q5)+COUNTIF($C$88:$C$117,Q5)+COUNTIF($C$122:$C$151,Q5)+COUNTIF($C$156:$C$185,Q5)+COUNTIF($C$190:$C$219,Q5)+COUNTIF($C$224:$C$253,Q5) -> 0 | S5: =SUMIF($C$20:$C$49,Q5,$G$20:$G$49)+SUMIF($C$54:$C$83,Q5,$G$54:$G$83)+SUMIF($C$88:$C$117,Q5,$G$88:$G$117)+SUMIF($C$122:$C$151,Q5,$G$122:$G$151)+SUMIF($C$156:$C$185,Q5,$G$156:$G$185)+SUMIF($C$190:$C$219,Q5,$G$190:$G$219)+SUMIF($C$224:$C$253,Q5,$G$224:$G$253) -> 0
A6: 1.事業所情報 | Q6: ='(附表2)実施状況報告（４月）'!Q6 -> 美原 | R6: =COUNTIF($C$20:$C$49,Q6)+COUNTIF($C$54:$C$83,Q6)+COUNTIF($C$88:$C$117,Q6)+COUNTIF($C$122:$C$151,Q6)+COUNTIF($C$156:$C$185,Q6)+COUNTIF($C$190:$C$219,Q6)+COUNTIF($C$224:$C$253,Q6) -> 0 | S6: =SUMIF($C$20:$C$49,Q6,$G$20:$G$49)+SUMIF($C$54:$C$83,Q6,$G$54:$G$83)+SUMIF($C$88:$C$117,Q6,$G$88:$G$117)+SUMIF($C$122:$C$151,Q6,$G$122:$G$151)+SUMIF($C$156:$C$185,Q6,$G$156:$G$185)+SUMIF($C$190:$C$219,Q6,$G$190:$G$219)+SUMIF($C$224:$C$253,Q6,$G$224:$G$253) -> 0
A7: 事業者名 | B7: =IF(基本情報入力シート!V8="","",基本情報入力シート!V8) | Q7: ='(附表2)実施状況報告（４月）'!Q7 -> 加茂市場 | R7: =COUNTIF($C$20:$C$49,Q7)+COUNTIF($C$54:$C$83,Q7)+COUNTIF($C$88:$C$117,Q7)+COUNTIF($C$122:$C$151,Q7)+COUNTIF($C$156:$C$185,Q7)+COUNTIF($C$190:$C$219,Q7)+COUNTIF($C$224:$C$253,Q7) -> 0 | S7: =SUMIF($C$20:$C$49,Q7,$G$20:$G$49)+SUMIF($C$54:$C$83,Q7,$G$54:$G$83)+SUMIF($C$88:$C$117,Q7,$G$88:$G$117)+SUMIF($C$122:$C$151,Q7,$G$122:$G$151)+SUMIF($C$156:$C$185,Q7,$G$156:$G$185)+SUMIF($C$190:$C$219,Q7,$G$190:$G$219)+SUMIF($C$224:$C$253,Q7,$G$224:$G$253) -> 0
A8: 事業所名 | B8: =IF(基本情報入力シート!V19="","",基本情報入力シート!V19) | Q8: ='(附表2)実施状況報告（４月）'!Q8 -> 高谷 | R8: =COUNTIF($C$20:$C$49,Q8)+COUNTIF($C$54:$C$83,Q8)+COUNTIF($C$88:$C$117,Q8)+COUNTIF($C$122:$C$151,Q8)+COUNTIF($C$156:$C$185,Q8)+COUNTIF($C$190:$C$219,Q8)+COUNTIF($C$224:$C$253,Q8) -> 0 | S8: =SUMIF($C$20:$C$49,Q8,$G$20:$G$49)+SUMIF($C$54:$C$83,Q8,$G$54:$G$83)+SUMIF($C$88:$C$117,Q8,$G$88:$G$117)+SUMIF($C$122:$C$151,Q8,$G$122:$G$151)+SUMIF($C$156:$C$185,Q8,$G$156:$G$185)+SUMIF($C$190:$C$219,Q8,$G$190:$G$219)+SUMIF($C$224:$C$253,Q8,$G$224:$G$253) -> 0
A9: 事業所所在地 | B9: =IF(基本情報入力シート!V20="","",基本情報入力シート!V20) | Q9: ='(附表2)実施状況報告（４月）'!Q9 -> 平岡 | R9: =COUNTIF($C$20:$C$49,Q9)+COUNTIF($C$54:$C$83,Q9)+COUNTIF($C$88:$C$117,Q9)+COUNTIF($C$122:$C$151,Q9)+COUNTIF($C$156:$C$185,Q9)+COUNTIF($C$190:$C$219,Q9)+COUNTIF($C$224:$C$253,Q9) -> 0 | S9: =SUMIF($C$20:$C$49,Q9,$G$20:$G$49)+SUMIF($C$54:$C$83,Q9,$G$54:$G$83)+SUMIF($C$88:$C$117,Q9,$G$88:$G$117)+SUMIF($C$122:$C$151,Q9,$G$122:$G$151)+SUMIF($C$156:$C$185,Q9,$G$156:$G$185)+SUMIF($C$190:$C$219,Q9,$G$190:$G$219)+SUMIF($C$224:$C$253,Q9,$G$224:$G$253) -> 0
A10: サービス種別 | B10: =IF(基本情報入力シート!V21="","",基本情報入力シート!V21) -> 通所リハビリテーション | Q10: ='(附表2)実施状況報告（４月）'!Q10 -> 上野 | R10: =COUNTIF($C$20:$C$49,Q10)+COUNTIF($C$54:$C$83,Q10)+COUNTIF($C$88:$C$117,Q10)+COUNTIF($C$122:$C$151,Q10)+COUNTIF($C$156:$C$185,Q10)+COUNTIF($C$190:$C$219,Q10)+COUNTIF($C$224:$C$253,Q10) -> 0 | S10: =SUMIF($C$20:$C$49,Q10,$G$20:$G$49)+SUMIF($C$54:$C$83,Q10,$G$54:$G$83)+SUMIF($C$88:$C$117,Q10,$G$88:$G$117)+SUMIF($C$122:$C$151,Q10,$G$122:$G$151)+SUMIF($C$156:$C$185,Q10,$G$156:$G$185)+SUMIF($C$190:$C$219,Q10,$G$190:$G$219)+SUMIF($C$224:$C$253,Q10,$G$224:$G$253) -> 0
A11: 補助対象事業区分 | B11: =IF(基本情報入力シート!V22="","",基本情報入力シート!V22) -> 別表第1の1 区分1 移動に片道20分以上の時間を要するサービス（特別地域加算対象地域内に居住する利用者を対象に行う場合） | Q11: ='(附表2)実施状況報告（４月）'!Q11 -> 竹部 | R11: =COUNTIF($C$20:$C$49,Q11)+COUNTIF($C$54:$C$83,Q11)+COUNTIF($C$88:$C$117,Q11)+COUNTIF($C$122:$C$151,Q11)+COUNTIF($C$156:$C$185,Q11)+COUNTIF($C$190:$C$219,Q11)+COUNTIF($C$224:$C$253,Q11) -> 0 | S11: =SUMIF($C$20:$C$49,Q11,$G$20:$G$49)+SUMIF($C$54:$C$83,Q11,$G$54:$G$83)+SUMIF($C$88:$C$117,Q11,$G$88:$G$117)+SUMIF($C$122:$C$151,Q11,$G$122:$G$151)+SUMIF($C$156:$C$185,Q11,$G$156:$G$185)+SUMIF($C$190:$C$219,Q11,$G$190:$G$219)+SUMIF($C$224:$C$253,Q11,$G$224:$G$253) -> 0
A12: 加算区分 | B12: 通常規模型リハビリテーション費 | Q12: ='(附表2)実施状況報告（４月）'!Q12 -> 上田東 | R12: =COUNTIF($C$20:$C$49,Q12)+COUNTIF($C$54:$C$83,Q12)+COUNTIF($C$88:$C$117,Q12)+COUNTIF($C$122:$C$151,Q12)+COUNTIF($C$156:$C$185,Q12)+COUNTIF($C$190:$C$219,Q12)+COUNTIF($C$224:$C$253,Q12) -> 0 | S12: =SUMIF($C$20:$C$49,Q12,$G$20:$G$49)+SUMIF($C$54:$C$83,Q12,$G$54:$G$83)+SUMIF($C$88:$C$117,Q12,$G$88:$G$117)+SUMIF($C$122:$C$151,Q12,$G$122:$G$151)+SUMIF($C$156:$C$185,Q12,$G$156:$G$185)+SUMIF($C$190:$C$219,Q12,$G$190:$G$219)+SUMIF($C$224:$C$253,Q12,$G$224:$G$253) -> 0
Q13: ='(附表2)実施状況報告（４月）'!Q13 -> 細田 | R13: =COUNTIF($C$20:$C$49,Q13)+COUNTIF($C$54:$C$83,Q13)+COUNTIF($C$88:$C$117,Q13)+COUNTIF($C$122:$C$151,Q13)+COUNTIF($C$156:$C$185,Q13)+COUNTIF($C$190:$C$219,Q13)+COUNTIF($C$224:$C$253,Q13) -> 0 | S13: =SUMIF($C$20:$C$49,Q13,$G$20:$G$49)+SUMIF($C$54:$C$83,Q13,$G$54:$G$83)+SUMIF($C$88:$C$117,Q13,$G$88:$G$117)+SUMIF($C$122:$C$151,Q13,$G$122:$G$151)+SUMIF($C$156:$C$185,Q13,$G$156:$G$185)+SUMIF($C$190:$C$219,Q13,$G$190:$G$219)+SUMIF($C$224:$C$253,Q13,$G$224:$G$253) -> 0
Q14: ='(附表2)実施状況報告（４月）'!Q14 -> 三納谷 | R14: =COUNTIF($C$20:$C$49,Q14)+COUNTIF($C$54:$C$83,Q14)+COUNTIF($C$88:$C$117,Q14)+COUNTIF($C$122:$C$151,Q14)+COUNTIF($C$156:$C$185,Q14)+COUNTIF($C$190:$C$219,Q14)+COUNTIF($C$224:$C$253,Q14) -> 0 | S14: =SUMIF($C$20:$C$49,Q14,$G$20:$G$49)+SUMIF($C$54:$C$83,Q14,$G$54:$G$83)+SUMIF($C$88:$C$117,Q14,$G$88:$G$117)+SUMIF($C$122:$C$151,Q14,$G$122:$G$151)+SUMIF($C$156:$C$185,Q14,$G$156:$G$185)+SUMIF($C$190:$C$219,Q14,$G$190:$G$219)+SUMIF($C$224:$C$253,Q14,$G$224:$G$253) -> 0
Q15: ='(附表2)実施状況報告（４月）'!Q15 -> 上田西 | R15: =COUNTIF($C$20:$C$49,Q15)+COUNTIF($C$54:$C$83,Q15)+COUNTIF($C$88:$C$117,Q15)+COUNTIF($C$122:$C$151,Q15)+COUNTIF($C$156:$C$185,Q15)+COUNTIF($C$190:$C$219,Q15)+COUNTIF($C$224:$C$253,Q15) -> 0 | S15: =SUMIF($C$20:$C$49,Q15,$G$20:$G$49)+SUMIF($C$54:$C$83,Q15,$G$54:$G$83)+SUMIF($C$88:$C$117,Q15,$G$88:$G$117)+SUMIF($C$122:$C$151,Q15,$G$122:$G$151)+SUMIF($C$156:$C$185,Q15,$G$156:$G$185)+SUMIF($C$190:$C$219,Q15,$G$190:$G$219)+SUMIF($C$224:$C$253,Q15,$G$224:$G$253) -> 0
Q16: ='(附表2)実施状況報告（４月）'!Q16 -> 円城 | R16: =COUNTIF($C$20:$C$49,Q16)+COUNTIF($C$54:$C$83,Q16)+COUNTIF($C$88:$C$117,Q16)+COUNTIF($C$122:$C$151,Q16)+COUNTIF($C$156:$C$185,Q16)+COUNTIF($C$190:$C$219,Q16)+COUNTIF($C$224:$C$253,Q16) -> 0 | S16: =SUMIF($C$20:$C$49,Q16,$G$20:$G$49)+SUMIF($C$54:$C$83,Q16,$G$54:$G$83)+SUMIF($C$88:$C$117,Q16,$G$88:$G$117)+SUMIF($C$122:$C$151,Q16,$G$122:$G$151)+SUMIF($C$156:$C$185,Q16,$G$156:$G$185)+SUMIF($C$190:$C$219,Q16,$G$190:$G$219)+SUMIF($C$224:$C$253,Q16,$G$224:$G$253) -> 0
A17: 2.年間実施計画明細 | Q17: ='(附表2)実施状況報告（４月）'!Q17 -> 案田 | R17: =COUNTIF($C$20:$C$49,Q17)+COUNTIF($C$54:$C$83,Q17)+COUNTIF($C$88:$C$117,Q17)+COUNTIF($C$122:$C$151,Q17)+COUNTIF($C$156:$C$185,Q17)+COUNTIF($C$190:$C$219,Q17)+COUNTIF($C$224:$C$253,Q17) -> 0 | S17: =SUMIF($C$20:$C$49,Q17,$G$20:$G$49)+SUMIF($C$54:$C$83,Q17,$G$54:$G$83)+SUMIF($C$88:$C$117,Q17,$G$88:$G$117)+SUMIF($C$122:$C$151,Q17,$G$122:$G$151)+SUMIF($C$156:$C$185,Q17,$G$156:$G$185)+SUMIF($C$190:$C$219,Q17,$G$190:$G$219)+SUMIF($C$224:$C$253,Q17,$G$224:$G$253) -> 0
A18: （1）所要時間1時間以上2時間未満の場合 | Q18: ='(附表2)実施状況報告（４月）'!Q18 -> 高富 | R18: =COUNTIF($C$20:$C$49,Q18)+COUNTIF($C$54:$C$83,Q18)+COUNTIF($C$88:$C$117,Q18)+COUNTIF($C$122:$C$151,Q18)+COUNTIF($C$156:$C$185,Q18)+COUNTIF($C$190:$C$219,Q18)+COUNTIF($C$224:$C$253,Q18) -> 0 | S18: =SUMIF($C$20:$C$49,Q18,$G$20:$G$49)+SUMIF($C$54:$C$83,Q18,$G$54:$G$83)+SUMIF($C$88:$C$117,Q18,$G$88:$G$117)+SUMIF($C$122:$C$151,Q18,$G$122:$G$151)+SUMIF($C$156:$C$185,Q18,$G$156:$G$185)+SUMIF($C$190:$C$219,Q18,$G$190:$G$219)+SUMIF($C$224:$C$253,Q18,$G$224:$G$253) -> 0
A19: 被保険者番号 | B19: 被保険者氏名 | C19: 地区名 | D19: 事業所から 利用者宅までの 距離（km） | E19: 事業所から 利用者宅までの 所要時間（分） | F19: 要介護度 | G19: 月間予定回数 (月平均回数) | H19: 基本報酬 （月単位数） | I19: 基準額(月) | J19: 基準額(年) | Q19: 神瀬 | R19: =COUNTIF($C$20:$C$49,Q19)+COUNTIF($C$54:$C$83,Q19)+COUNTIF($C$88:$C$117,Q19)+COUNTIF($C$122:$C$151,Q19)+COUNTIF($C$156:$C$185,Q19)+COUNTIF($C$190:$C$219,Q19)+COUNTIF($C$224:$C$253,Q19) -> 0 | S19: =SUMIF($C$20:$C$49,Q19,$G$20:$G$49)+SUMIF($C$54:$C$83,Q19,$G$54:$G$83)+SUMIF($C$88:$C$117,Q19,$G$88:$G$117)+SUMIF($C$122:$C$151,Q19,$G$122:$G$151)+SUMIF($C$156:$C$185,Q19,$G$156:$G$185)+SUMIF($C$190:$C$219,Q19,$G$190:$G$219)+SUMIF($C$224:$C$253,Q19,$G$224:$G$253) -> 0
H20: =IF(AND(A20<>"",B20<>"",C20<>"",D20<>"",E20<>"",F20<>"",G20<>""),VLOOKUP(F20,通所リハビリテーション費!$A$20:$B$24,2,0),0) -> 0 | I20: =(H20*G20)*0.1*10 -> 0 | J20: =I20*12 -> 0 | Q20: 小森 | R20: =COUNTIF($C$20:$C$49,Q20)+COUNTIF($C$54:$C$83,Q20)+COUNTIF($C$88:$C$117,Q20)+COUNTIF($C$122:$C$151,Q20)+COUNTIF($C$156:$C$185,Q20)+COUNTIF($C$190:$C$219,Q20)+COUNTIF($C$224:$C$253,Q20) -> 0 | S20: =SUMIF($C$20:$C$49,Q20,$G$20:$G$49)+SUMIF($C$54:$C$83,Q20,$G$54:$G$83)+SUMIF($C$88:$C$117,Q20,$G$88:$G$117)+SUMIF($C$122:$C$151,Q20,$G$122:$G$151)+SUMIF($C$156:$C$185,Q20,$G$156:$G$185)+SUMIF($C$190:$C$219,Q20,$G$190:$G$219)+SUMIF($C$224:$C$253,Q20,$G$224:$G$253) -> 0
H21: =IF(AND(A21<>"",B21<>"",C21<>"",D21<>"",E21<>"",F21<>"",G21<>""),VLOOKUP(F21,通所リハビリテーション費!$A$20:$B$24,2,0),0) -> 0 | I21: =(H21*G21)*0.1*10 -> 0 | J21: =I21*12 -> 0 | Q21: 尾原 | R21: =COUNTIF($C$20:$C$49,Q21)+COUNTIF($C$54:$C$83,Q21)+COUNTIF($C$88:$C$117,Q21)+COUNTIF($C$122:$C$151,Q21)+COUNTIF($C$156:$C$185,Q21)+COUNTIF($C$190:$C$219,Q21)+COUNTIF($C$224:$C$253,Q21) -> 0 | S21: =SUMIF($C$20:$C$49,Q21,$G$20:$G$49)+SUMIF($C$54:$C$83,Q21,$G$54:$G$83)+SUMIF($C$88:$C$117,Q21,$G$88:$G$117)+SUMIF($C$122:$C$151,Q21,$G$122:$G$151)+SUMIF($C$156:$C$185,Q21,$G$156:$G$185)+SUMIF($C$190:$C$219,Q21,$G$190:$G$219)+SUMIF($C$224:$C$253,Q21,$G$224:$G$253) -> 0
H22: =IF(AND(A22<>"",B22<>"",C22<>"",D22<>"",E22<>"",F22<>"",G22<>""),VLOOKUP(F22,通所リハビリテーション費!$A$20:$B$24,2,0),0) -> 0 | I22: =(H22*G22)*0.1*10 -> 0 | J22: =I22*12 -> 0 | Q22: 笹目 | R22: =COUNTIF($C$20:$C$49,Q22)+COUNTIF($C$54:$C$83,Q22)+COUNTIF($C$88:$C$117,Q22)+COUNTIF($C$122:$C$151,Q22)+COUNTIF($C$156:$C$185,Q22)+COUNTIF($C$190:$C$219,Q22)+COUNTIF($C$224:$C$253,Q22) -> 0 | S22: =SUMIF($C$20:$C$49,Q22,$G$20:$G$49)+SUMIF($C$54:$C$83,Q22,$G$54:$G$83)+SUMIF($C$88:$C$117,Q22,$G$88:$G$117)+SUMIF($C$122:$C$151,Q22,$G$122:$G$151)+SUMIF($C$156:$C$185,Q22,$G$156:$G$185)+SUMIF($C$190:$C$219,Q22,$G$190:$G$219)+SUMIF($C$224:$C$253,Q22,$G$224:$G$253) -> 0
H23: =IF(AND(A23<>"",B23<>"",C23<>"",D23<>"",E23<>"",F23<>"",G23<>""),VLOOKUP(F23,通所リハビリテーション費!$A$20:$B$24,2,0),0) -> 0 | I23: =(H23*G23)*0.1*10 -> 0 | J23: =I23*12 -> 0 | Q23: 福沢 | R23: =COUNTIF($C$20:$C$49,Q23)+COUNTIF($C$54:$C$83,Q23)+COUNTIF($C$88:$C$117,Q23)+COUNTIF($C$122:$C$151,Q23)+COUNTIF($C$156:$C$185,Q23)+COUNTIF($C$190:$C$219,Q23)+COUNTIF($C$224:$C$253,Q23) -> 0 | S23: =SUMIF($C$20:$C$49,Q23,$G$20:$G$49)+SUMIF($C$54:$C$83,Q23,$G$54:$G$83)+SUMIF($C$88:$C$117,Q23,$G$88:$G$117)+SUMIF($C$122:$C$151,Q23,$G$122:$G$151)+SUMIF($C$156:$C$185,Q23,$G$156:$G$185)+SUMIF($C$190:$C$219,Q23,$G$190:$G$219)+SUMIF($C$224:$C$253,Q23,$G$224:$G$253) -> 0
H24: =IF(AND(A24<>"",B24<>"",C24<>"",D24<>"",E24<>"",F24<>"",G24<>""),VLOOKUP(F24,通所リハビリテーション費!$A$20:$B$24,2,0),0) -> 0 | I24: =(H24*G24)*0.1*10 -> 0 | J24: =I24*12 -> 0 | Q24: 溝部 | R24: =COUNTIF($C$20:$C$49,Q24)+COUNTIF($C$54:$C$83,Q24)+COUNTIF($C$88:$C$117,Q24)+COUNTIF($C$122:$C$151,Q24)+COUNTIF($C$156:$C$185,Q24)+COUNTIF($C$190:$C$219,Q24)+COUNTIF($C$224:$C$253,Q24) -> 0 | S24: =SUMIF($C$20:$C$49,Q24,$G$20:$G$49)+SUMIF($C$54:$C$83,Q24,$G$54:$G$83)+SUMIF($C$88:$C$117,Q24,$G$88:$G$117)+SUMIF($C$122:$C$151,Q24,$G$122:$G$151)+SUMIF($C$156:$C$185,Q24,$G$156:$G$185)+SUMIF($C$190:$C$219,Q24,$G$190:$G$219)+SUMIF($C$224:$C$253,Q24,$G$224:$G$253) -> 0
H25: =IF(AND(A25<>"",B25<>"",C25<>"",D25<>"",E25<>"",F25<>"",G25<>""),VLOOKUP(F25,通所リハビリテーション費!$A$20:$B$24,2,0),0) -> 0 | I25: =(H25*G25)*0.1*10 -> 0 | J25: =I25*12 -> 0 | R25: =COUNTIF($C$20:$C$49,Q25)+COUNTIF($C$54:$C$83,Q25)+COUNTIF($C$88:$C$117,Q25)+COUNTIF($C$122:$C$151,Q25)+COUNTIF($C$156:$C$185,Q25)+COUNTIF($C$190:$C$219,Q25)+COUNTIF($C$224:$C$253,Q25) -> 0 | S25: =SUMIF($C$20:$C$49,Q25,$G$20:$G$49)+SUMIF($C$54:$C$83,Q25,$G$54:$G$83)+SUMIF($C$88:$C$117,Q25,$G$88:$G$117)+SUMIF($C$122:$C$151,Q25,$G$122:$G$151)+SUMIF($C$156:$C$185,Q25,$G$156:$G$185)+SUMIF($C$190:$C$219,Q25,$G$190:$G$219)+SUMIF($C$224:$C$253,Q25,$G$224:$G$253) -> 0
H26: =IF(AND(A26<>"",B26<>"",C26<>"",D26<>"",E26<>"",F26<>"",G26<>""),VLOOKUP(F26,通所リハビリテーション費!$A$20:$B$24,2,0),0) -> 0 | I26: =(H26*G26)*0.1*10 -> 0 | J26: =I26*12 -> 0 | R26: =COUNTIF($C$20:$C$49,Q26)+COUNTIF($C$54:$C$83,Q26)+COUNTIF($C$88:$C$117,Q26)+COUNTIF($C$122:$C$151,Q26)+COUNTIF($C$156:$C$185,Q26)+COUNTIF($C$190:$C$219,Q26)+COUNTIF($C$224:$C$253,Q26) -> 0 | S26: =SUMIF($C$20:$C$49,Q26,$G$20:$G$49)+SUMIF($C$54:$C$83,Q26,$G$54:$G$83)+SUMIF($C$88:$C$117,Q26,$G$88:$G$117)+SUMIF($C$122:$C$151,Q26,$G$122:$G$151)+SUMIF($C$156:$C$185,Q26,$G$156:$G$185)+SUMIF($C$190:$C$219,Q26,$G$190:$G$219)+SUMIF($C$224:$C$253,Q26,$G$224:$G$253) -> 0
H27: =IF(AND(A27<>"",B27<>"",C27<>"",D27<>"",E27<>"",F27<>"",G27<>""),VLOOKUP(F27,通所リハビリテーション費!$A$20:$B$24,2,0),0) -> 0 | I27: =(H27*G27)*0.1*10 -> 0 | J27: =I27*12 -> 0 | R27: =COUNTIF($C$20:$C$49,Q27)+COUNTIF($C$54:$C$83,Q27)+COUNTIF($C$88:$C$117,Q27)+COUNTIF($C$122:$C$151,Q27)+COUNTIF($C$156:$C$185,Q27)+COUNTIF($C$190:$C$219,Q27)+COUNTIF($C$224:$C$253,Q27) -> 0 | S27: =SUMIF($C$20:$C$49,Q27,$G$20:$G$49)+SUMIF($C$54:$C$83,Q27,$G$54:$G$83)+SUMIF($C$88:$C$117,Q27,$G$88:$G$117)+SUMIF($C$122:$C$151,Q27,$G$122:$G$151)+SUMIF($C$156:$C$185,Q27,$G$156:$G$185)+SUMIF($C$190:$C$219,Q27,$G$190:$G$219)+SUMIF($C$224:$C$253,Q27,$G$224:$G$253) -> 0
H28: =IF(AND(A28<>"",B28<>"",C28<>"",D28<>"",E28<>"",F28<>"",G28<>""),VLOOKUP(F28,通所リハビリテーション費!$A$20:$B$24,2,0),0) -> 0 | I28: =(H28*G28)*0.1*10 -> 0 | J28: =I28*12 -> 0 | R28: =COUNTIF($C$20:$C$49,Q28)+COUNTIF($C$54:$C$83,Q28)+COUNTIF($C$88:$C$117,Q28)+COUNTIF($C$122:$C$151,Q28)+COUNTIF($C$156:$C$185,Q28)+COUNTIF($C$190:$C$219,Q28)+COUNTIF($C$224:$C$253,Q28) -> 0 | S28: =SUMIF($C$20:$C$49,Q28,$G$20:$G$49)+SUMIF($C$54:$C$83,Q28,$G$54:$G$83)+SUMIF($C$88:$C$117,Q28,$G$88:$G$117)+SUMIF($C$122:$C$151,Q28,$G$122:$G$151)+SUMIF($C$156:$C$185,Q28,$G$156:$G$185)+SUMIF($C$190:$C$219,Q28,$G$190:$G$219)+SUMIF($C$224:$C$253,Q28,$G$224:$G$253) -> 0
H29: =IF(AND(A29<>"",B29<>"",C29<>"",D29<>"",E29<>"",F29<>"",G29<>""),VLOOKUP(F29,通所リハビリテーション費!$A$20:$B$24,2,0),0) -> 0 | I29: =(H29*G29)*0.1*10 -> 0 | J29: =I29*12 -> 0 | R29: =COUNTIF($C$20:$C$49,Q29)+COUNTIF($C$54:$C$83,Q29)+COUNTIF($C$88:$C$117,Q29)+COUNTIF($C$122:$C$151,Q29)+COUNTIF($C$156:$C$185,Q29)+COUNTIF($C$190:$C$219,Q29)+COUNTIF($C$224:$C$253,Q29) -> 0 | S29: =SUMIF($C$20:$C$49,Q29,$G$20:$G$49)+SUMIF($C$54:$C$83,Q29,$G$54:$G$83)+SUMIF($C$88:$C$117,Q29,$G$88:$G$117)+SUMIF($C$122:$C$151,Q29,$G$122:$G$151)+SUMIF($C$156:$C$185,Q29,$G$156:$G$185)+SUMIF($C$190:$C$219,Q29,$G$190:$G$219)+SUMIF($C$224:$C$253,Q29,$G$224:$G$253) -> 0
H30: =IF(AND(A30<>"",B30<>"",C30<>"",D30<>"",E30<>"",F30<>"",G30<>""),VLOOKUP(F30,通所リハビリテーション費!$A$20:$B$24,2,0),0) -> 0 | I30: =(H30*G30)*0.1*10 -> 0 | J30: =I30*12 -> 0 | R30: =COUNTIF($C$20:$C$49,Q30)+COUNTIF($C$54:$C$83,Q30)+COUNTIF($C$88:$C$117,Q30)+COUNTIF($C$122:$C$151,Q30)+COUNTIF($C$156:$C$185,Q30)+COUNTIF($C$190:$C$219,Q30)+COUNTIF($C$224:$C$253,Q30) -> 0 | S30: =SUMIF($C$20:$C$49,Q30,$G$20:$G$49)+SUMIF($C$54:$C$83,Q30,$G$54:$G$83)+SUMIF($C$88:$C$117,Q30,$G$88:$G$117)+SUMIF($C$122:$C$151,Q30,$G$122:$G$151)+SUMIF($C$156:$C$185,Q30,$G$156:$G$185)+SUMIF($C$190:$C$219,Q30,$G$190:$G$219)+SUMIF($C$224:$C$253,Q30,$G$224:$G$253) -> 0
H31: =IF(AND(A31<>"",B31<>"",C31<>"",D31<>"",E31<>"",F31<>"",G31<>""),VLOOKUP(F31,通所リハビリテーション費!$A$20:$B$24,2,0),0) -> 0 | I31: =(H31*G31)*0.1*10 -> 0 | J31: =I31*12 -> 0 | R31: =COUNTIF($C$20:$C$49,Q31)+COUNTIF($C$54:$C$83,Q31)+COUNTIF($C$88:$C$117,Q31)+COUNTIF($C$122:$C$151,Q31)+COUNTIF($C$156:$C$185,Q31)+COUNTIF($C$190:$C$219,Q31)+COUNTIF($C$224:$C$253,Q31) -> 0 | S31: =SUMIF($C$20:$C$49,Q31,$G$20:$G$49)+SUMIF($C$54:$C$83,Q31,$G$54:$G$83)+SUMIF($C$88:$C$117,Q31,$G$88:$G$117)+SUMIF($C$122:$C$151,Q31,$G$122:$G$151)+SUMIF($C$156:$C$185,Q31,$G$156:$G$185)+SUMIF($C$190:$C$219,Q31,$G$190:$G$219)+SUMIF($C$224:$C$253,Q31,$G$224:$G$253) -> 0
H32: =IF(AND(A32<>"",B32<>"",C32<>"",D32<>"",E32<>"",F32<>"",G32<>""),VLOOKUP(F32,通所リハビリテーション費!$A$20:$B$24,2,0),0) -> 0 | I32: =(H32*G32)*0.1*10 -> 0 | J32: =I32*12 -> 0 | R32: =COUNTIF($C$20:$C$49,Q32)+COUNTIF($C$54:$C$83,Q32)+COUNTIF($C$88:$C$117,Q32)+COUNTIF($C$122:$C$151,Q32)+COUNTIF($C$156:$C$185,Q32)+COUNTIF($C$190:$C$219,Q32)+COUNTIF($C$224:$C$253,Q32) -> 0 | S32: =SUMIF($C$20:$C$49,Q32,$G$20:$G$49)+SUMIF($C$54:$C$83,Q32,$G$54:$G$83)+SUMIF($C$88:$C$117,Q32,$G$88:$G$117)+SUMIF($C$122:$C$151,Q32,$G$122:$G$151)+SUMIF($C$156:$C$185,Q32,$G$156:$G$185)+SUMIF($C$190:$C$219,Q32,$G$190:$G$219)+SUMIF($C$224:$C$253,Q32,$G$224:$G$253) -> 0
H33: =IF(AND(A33<>"",B33<>"",C33<>"",D33<>"",E33<>"",F33<>"",G33<>""),VLOOKUP(F33,通所リハビリテーション費!$A$20:$B$24,2,0),0) -> 0 | I33: =(H33*G33)*0.1*10 -> 0 | J33: =I33*12 -> 0 | R33: =COUNTIF($C$20:$C$49,Q33)+COUNTIF($C$54:$C$83,Q33)+COUNTIF($C$88:$C$117,Q33)+COUNTIF($C$122:$C$151,Q33)+COUNTIF($C$156:$C$185,Q33)+COUNTIF($C$190:$C$219,Q33)+COUNTIF($C$224:$C$253,Q33) -> 0 | S33: =SUMIF($C$20:$C$49,Q33,$G$20:$G$49)+SUMIF($C$54:$C$83,Q33,$G$54:$G$83)+SUMIF($C$88:$C$117,Q33,$G$88:$G$117)+SUMIF($C$122:$C$151,Q33,$G$122:$G$151)+SUMIF($C$156:$C$185,Q33,$G$156:$G$185)+SUMIF($C$190:$C$219,Q33,$G$190:$G$219)+SUMIF($C$224:$C$253,Q33,$G$224:$G$253) -> 0
H34: =IF(AND(A34<>"",B34<>"",C34<>"",D34<>"",E34<>"",F34<>"",G34<>""),VLOOKUP(F34,通所リハビリテーション費!$A$20:$B$24,2,0),0) -> 0 | I34: =(H34*G34)*0.1*10 -> 0 | J34: =I34*12 -> 0 | R34: =COUNTIF($C$20:$C$49,Q34)+COUNTIF($C$54:$C$83,Q34)+COUNTIF($C$88:$C$117,Q34)+COUNTIF($C$122:$C$151,Q34)+COUNTIF($C$156:$C$185,Q34)+COUNTIF($C$190:$C$219,Q34)+COUNTIF($C$224:$C$253,Q34) -> 0 | S34: =SUMIF($C$20:$C$49,Q34,$G$20:$G$49)+SUMIF($C$54:$C$83,Q34,$G$54:$G$83)+SUMIF($C$88:$C$117,Q34,$G$88:$G$117)+SUMIF($C$122:$C$151,Q34,$G$122:$G$151)+SUMIF($C$156:$C$185,Q34,$G$156:$G$185)+SUMIF($C$190:$C$219,Q34,$G$190:$G$219)+SUMIF($C$224:$C$253,Q34,$G$224:$G$253) -> 0
H35: =IF(AND(A35<>"",B35<>"",C35<>"",D35<>"",E35<>"",F35<>"",G35<>""),VLOOKUP(F35,通所リハビリテーション費!$A$20:$B$24,2,0),0) -> 0 | I35: =(H35*G35)*0.1*10 -> 0 | J35: =I35*12 -> 0 | R35: =COUNTIF($C$20:$C$49,Q35)+COUNTIF($C$54:$C$83,Q35)+COUNTIF($C$88:$C$117,Q35)+COUNTIF($C$122:$C$151,Q35)+COUNTIF($C$156:$C$185,Q35)+COUNTIF($C$190:$C$219,Q35)+COUNTIF($C$224:$C$253,Q35) -> 0 | S35: =SUMIF($C$20:$C$49,Q35,$G$20:$G$49)+SUMIF($C$54:$C$83,Q35,$G$54:$G$83)+SUMIF($C$88:$C$117,Q35,$G$88:$G$117)+SUMIF($C$122:$C$151,Q35,$G$122:$G$151)+SUMIF($C$156:$C$185,Q35,$G$156:$G$185)+SUMIF($C$190:$C$219,Q35,$G$190:$G$219)+SUMIF($C$224:$C$253,Q35,$G$224:$G$253) -> 0
H36: =IF(AND(A36<>"",B36<>"",C36<>"",D36<>"",E36<>"",F36<>"",G36<>""),VLOOKUP(F36,通所リハビリテーション費!$A$20:$B$24,2,0),0) -> 0 | I36: =(H36*G36)*0.1*10 -> 0 | J36: =I36*12 -> 0 | R36: =COUNTIF($C$20:$C$49,Q36)+COUNTIF($C$54:$C$83,Q36)+COUNTIF($C$88:$C$117,Q36)+COUNTIF($C$122:$C$151,Q36)+COUNTIF($C$156:$C$185,Q36)+COUNTIF($C$190:$C$219,Q36)+COUNTIF($C$224:$C$253,Q36) -> 0 | S36: =SUMIF($C$20:$C$49,Q36,$G$20:$G$49)+SUMIF($C$54:$C$83,Q36,$G$54:$G$83)+SUMIF($C$88:$C$117,Q36,$G$88:$G$117)+SUMIF($C$122:$C$151,Q36,$G$122:$G$151)+SUMIF($C$156:$C$185,Q36,$G$156:$G$185)+SUMIF($C$190:$C$219,Q36,$G$190:$G$219)+SUMIF($C$224:$C$253,Q36,$G$224:$G$253) -> 0
... H45: =IF(AND(A45<>"",B45<>"",C45<>"",D45<>"",E45<>"",F45<>"",G45<>""),VLOOKUP(F45,通所リハビリテーション費!$A$20:$B$24,2,0),0) -> 0 | I45: =(H45*G45)*0.1*10 -> 0 | J45: =I45*12 -> 0 | R45: =COUNTIF($C$20:$C$49,Q45)+COUNTIF($C$54:$C$83,Q45)+COUNTIF($C$88:$C$117,Q45)+COUNTIF($C$122:$C$151,Q45)+COUNTIF($C$156:$C$185,Q45)+COUNTIF($C$190:$C$219,Q45)+COUNTIF($C$224:$C$253,Q45) -> 0 | S45: =SUMIF($C$20:$C$49,Q45,$G$20:$G$49)+SUMIF($C$54:$C$83,Q45,$G$54:$G$83)+SUMIF($C$88:$C$117,Q45,$G$88:$G$117)+SUMIF($C$122:$C$151,Q45,$G$122:$G$151)+SUMIF($C$156:$C$185,Q45,$G$156:$G$185)+SUMIF($C$190:$C$219,Q45,$G$190:$G$219)+SUMIF($C$224:$C$253,Q45,$G$224:$G$253) -> 0
H46: =IF(AND(A46<>"",B46<>"",C46<>"",D46<>"",E46<>"",F46<>"",G46<>""),VLOOKUP(F46,通所リハビリテーション費!$A$20:$B$24,2,0),0) -> 0 | I46: =(H46*G46)*0.1*10 -> 0 | J46: =I46*12 -> 0 | R46: =SUM(R3:R45) -> 0 | S46: =SUM(S3:S45) -> 0
H47: =IF(AND(A47<>"",B47<>"",C47<>"",D47<>"",E47<>"",F47<>"",G47<>""),VLOOKUP(F47,通所リハビリテーション費!$A$20:$B$24,2,0),0) -> 0 | I47: =(H47*G47)*0.1*10 -> 0 | J47: =I47*12 -> 0
H48: =IF(AND(A48<>"",B48<>"",C48<>"",D48<>"",E48<>"",F48<>"",G48<>""),VLOOKUP(F48,通所リハビリテーション費!$A$20:$B$24,2,0),0) -> 0 | I48: =(H48*G48)*0.1*10 -> 0 | J48: =I48*12 -> 0
...

Sheet (附表１－１)(附表１－２)補助金所要額調
A1: 附表１－１
B3: 吉備中央町中山間特別地域訪問介護サービス等支援事業 補助金所要額調
CG5: 事業者名 | CP5: =IF(基本情報入力シート!V8="","",基本情報入力シート!V8)
B7: 事業所名 | N7: サービス種別 | Z7: 補助対象事業区分 | BI7: 地区数 | BU7: 対象者数 | CG7: サービス 提供回数 | CS7: 基準額 | DE7: 補助金所要額
B8: =IF(基本情報入力シート!V19="","",基本情報入力シート!V19) | N8: =IF(基本情報入力シート!V21="","",基本情報入力シート!V21) -> 通所リハビリテーション | Z8: =IF(基本情報入力シート!V22="","",基本情報入力シート!V22) -> 別表第1の1 区分1 移動に片道20分以上の時間を要するサービス（特別地域加算対象地域内に居住する利用者を対象に行う場合） | BI8: ='(附表１－３)年間実施計画'!A258 -> 0 | BU8: ='(附表１－３)年間実施計画'!B258 -> 0 | CG8: ='(附表１－３)年間実施計画'!C258 -> 0 | CS8: ='(附表１－３)年間実施計画'!E258 -> 0 | DE8: =ROUNDDOWN(CS8,-3) -> 0
B10: （注）補助金所要額欄は、事業所ごとに千円未満の額を切り捨てた額を記入すること。
A12: 附表１－２
B13: 年間計画内訳 | BM13: 事業者名 | BT13: =IF(基本情報入力シート!V8="","",基本情報入力シート!V8)
BM14: 事業所名 | BT14: =IF(基本情報入力シート!V19="","",基本情報入力シート!V19)
B16: 地域名 | H16: 対象人数 | O16: サービス 提供回数 | V16: 地域名 | AB16: 対象人数 | AI16: サービス 提供回数 | AP16: 地域名 | AV16: 対象人数 | BC16: サービス 提供回数 | BJ16: 地域名 | BP16: 対象人数 | BW16: サービス 提供回数 | CD16: 地域名 | CJ16: 対象人数 | CQ16: サービス 提供回数
B17: 広面 | H17: ='(附表１－３)年間実施計画'!R3 -> 0 | O17: ='(附表１－３)年間実施計画'!S3 -> 0 | V17: 細田 | AB17: ='(附表１－３)年間実施計画'!R13 -> 0 | AI17: ='(附表１－３)年間実施計画'!S13 -> 0 | AP17: 福沢 | AV17: ='(附表１－３)年間実施計画'!R23 -> 0 | BC17: ='(附表１－３)年間実施計画'!S23 -> 0
B18: 上加茂 | H18: ='(附表１－３)年間実施計画'!R4 -> 0 | O18: ='(附表１－３)年間実施計画'!S4 -> 0 | V18: 三納谷 | AB18: ='(附表１－３)年間実施計画'!R14 -> 0 | AI18: ='(附表１－３)年間実施計画'!S14 -> 0 | AP18: 溝部 | AV18: ='(附表１－３)年間実施計画'!R24 -> 0 | BC18: ='(附表１－３)年間実施計画'!S24 -> 0
B19: 下加茂 | H19: ='(附表１－３)年間実施計画'!R5 -> 0 | O19: ='(附表１－３)年間実施計画'!S5 -> 0 | V19: 上田西 | AB19: ='(附表１－３)年間実施計画'!R15 -> 0 | AI19: ='(附表１－３)年間実施計画'!S15 -> 0
B20: 美原 | H20: ='(附表１－３)年間実施計画'!R6 -> 0 | O20: ='(附表１－３)年間実施計画'!S6 -> 0 | V20: 円城 | AB20: ='(附表１－３)年間実施計画'!R16 -> 0 | AI20: ='(附表１－３)年間実施計画'!S16 -> 0
B21: 加茂市場 | H21: ='(附表１－３)年間実施計画'!R7 -> 0 | O21: ='(附表１－３)年間実施計画'!S7 -> 0 | V21: 案田 | AB21: ='(附表１－３)年間実施計画'!R17 -> 0 | AI21: ='(附表１－３)年間実施計画'!S17 -> 0
B22: 高谷 | H22: ='(附表１－３)年間実施計画'!R8 -> 0 | O22: ='(附表１－３)年間実施計画'!S8 -> 0 | V22: 高富 | AB22: ='(附表１－３)年間実施計画'!R18 -> 0 | AI22: ='(附表１－３)年間実施計画'!S18 -> 0
B23: 平岡 | H23: ='(附表１－３)年間実施計画'!R9 -> 0 | O23: ='(附表１－３)年間実施計画'!S9 -> 0 | V23: 神瀬 | AB23: ='(附表１－３)年間実施計画'!R19 -> 0 | AI23: ='(附表１－３)年間実施計画'!S19 -> 0
B24: 上野 | H24: ='(附表１－３)年間実施計画'!R10 -> 0 | O24: ='(附表１－３)年間実施計画'!S10 -> 0 | V24: 小森 | AB24: ='(附表１－３)年間実施計画'!R20 -> 0 | AI24: ='(附表１－３)年間実施計画'!S20 -> 0
B25: 竹部 | H25: ='(附表１－３)年間実施計画'!R11 -> 0 | O25: ='(附表１－３)年間実施計画'!S11 -> 0 | V25: 尾原 | AB25: ='(附表１－３)年間実施計画'!R21 -> 0 | AI25: ='(附表１－３)年間実施計画'!S21 -> 0
B26: 上田東 | H26: ='(附表１－３)年間実施計画'!R12 -> 0 | O26: ='(附表１－３)年間実施計画'!S12 -> 0 | V26: 笹目 | AB26: ='(附表１－３)年間実施計画'!R22 -> 0 | AI26: ='(附表１－３)年間実施計画'!S22 -> 0 | AP26: 合計 | AV26: =H17+H18+H19+H20+H21+H22+H23+H24+H25+H26+AB17+AB18+AB19+AB20+AB21+AB22+AB23+AB24+AB25+AB26+AV17+AV18+AV19+AV20 -> 0 | BC26: =O17+O18+O19+O20+O21+O22+O23+O24+O25+O26+AI17+AI18+AI19+AI20+AI21+AI22+AI23+AI24+AI25+AI26+BC17+BC18+BC19+BC20 -> 0

Sheet (附表2)実施状況報告（４月）
A1: 附表2 | H1: 令和 年 月 日
A2: 吉備中央町長 様 | R2: 対象者人数 | S2: サービス 提供回数
Q3: =対象地域一覧!A3 -> 広面 | R3: =COUNTIF($D$21:$D$30,Q3)+COUNTIF($D$35:$D$39,Q3)+COUNTIF($D$45:$D$54,Q3)+COUNTIF($D$59:$D$63,Q3)+COUNTIF($D$69:$D$78,Q3)+COUNTIF($D$83:$D$87,Q3)+COUNTIF($D$93:$D$102,Q3)+COUNTIF($D$107:$D$111,Q3)+COUNTIF($D$117:$D$126,Q3)+COUNTIF($D$131:$D$135,Q3)+COUNTIF($D$141:$D$150,Q3)+COUNTIF($D$155:$D$159,Q3)+COUNTIF($D$165:$D$174,Q3)+COUNTIF($D$179:$D$183,Q3) -> 0 | S3: =SUMIF($D$21:$D$30,Q3,$H$21:$H$30)+SUMIF($D$35:$D$39,Q3,$H$35:$H$39)+SUMIF($D$45:$D$54,Q3,$H$45:$H$54)+SUMIF($D$59:$D$63,Q3,$H$59:$H$63)+SUMIF($D$69:$D$78,Q3,$H$69:$H$78)+SUMIF($D$83:$D$87,Q3,$H$83:$H$87)+SUMIF($D$93:$D$102,Q3,$H$93:$H$102)+SUMIF($D$107:$D$111,Q3,$H$107:$H$111)+SUMIF($D$117:$D$126,Q3,$H$117:$H$126)+SUMIF($D$131:$D$135,Q3,$H$131:$H$135)+SUMIF($D$141:$D$150,Q3,$H$141:$H$150)+SUMIF($D$155:$D$159,Q3,$H$155:$H$159)+SUMIF($D$165:$D$174,Q3,$H$165:$H$174)+SUMIF($D$179:$D$183,Q3,$H$179:$H$183) -> 0
A4: 実 施 状 況 報 告 明 細 書 （通所リハビリテーション事業所用、通常規模型リハビリテーション費） 令和８年４月分 | Q4: =対象地域一覧!A4 -> 上加茂 | R4: =COUNTIF($D$21:$D$30,Q4)+COUNTIF($D$35:$D$39,Q4)+COUNTIF($D$45:$D$54,Q4)+COUNTIF($D$59:$D$63,Q4)+COUNTIF($D$69:$D$78,Q4)+COUNTIF($D$83:$D$87,Q4)+COUNTIF($D$93:$D$102,Q4)+COUNTIF($D$107:$D$111,Q4)+COUNTIF($D$117:$D$126,Q4)+COUNTIF($D$131:$D$135,Q4)+COUNTIF($D$141:$D$150,Q4)+COUNTIF($D$155:$D$159,Q4)+COUNTIF($D$165:$D$174,Q4)+COUNTIF($D$179:$D$183,Q4) -> 0 | S4: =SUMIF($D$21:$D$30,Q4,$H$21:$H$30)+SUMIF($D$35:$D$39,Q4,$H$35:$H$39)+SUMIF($D$45:$D$54,Q4,$H$45:$H$54)+SUMIF($D$59:$D$63,Q4,$H$59:$H$63)+SUMIF($D$69:$D$78,Q4,$H$69:$H$78)+SUMIF($D$83:$D$87,Q4,$H$83:$H$87)+SUMIF($D$93:$D$102,Q4,$H$93:$H$102)+SUMIF($D$107:$D$111,Q4,$H$107:$H$111)+SUMIF($D$117:$D$126,Q4,$H$117:$H$126)+SUMIF($D$131:$D$135,Q4,$H$131:$H$135)+SUMIF($D$141:$D$150,Q4,$H$141:$H$150)+SUMIF($D$155:$D$159,Q4,$H$155:$H$159)+SUMIF($D$165:$D$174,Q4,$H$165:$H$174)+SUMIF($D$179:$D$183,Q4,$H$179:$H$183) -> 0
Q5: =対象地域一覧!A5 -> 下加茂 | R5: =COUNTIF($D$21:$D$30,Q5)+COUNTIF($D$35:$D$39,Q5)+COUNTIF($D$45:$D$54,Q5)+COUNTIF($D$59:$D$63,Q5)+COUNTIF($D$69:$D$78,Q5)+COUNTIF($D$83:$D$87,Q5)+COUNTIF($D$93:$D$102,Q5)+COUNTIF($D$107:$D$111,Q5)+COUNTIF($D$117:$D$126,Q5)+COUNTIF($D$131:$D$135,Q5)+COUNTIF($D$141:$D$150,Q5)+COUNTIF($D$155:$D$159,Q5)+COUNTIF($D$165:$D$174,Q5)+COUNTIF($D$179:$D$183,Q5) -> 0 | S5: =SUMIF($D$21:$D$30,Q5,$H$21:$H$30)+SUMIF($D$35:$D$39,Q5,$H$35:$H$39)+SUMIF($D$45:$D$54,Q5,$H$45:$H$54)+SUMIF($D$59:$D$63,Q5,$H$59:$H$63)+SUMIF($D$69:$D$78,Q5,$H$69:$H$78)+SUMIF($D$83:$D$87,Q5,$H$83:$H$87)+SUMIF($D$93:$D$102,Q5,$H$93:$H$102)+SUMIF($D$107:$D$111,Q5,$H$107:$H$111)+SUMIF($D$117:$D$126,Q5,$H$117:$H$126)+SUMIF($D$131:$D$135,Q5,$H$131:$H$135)+SUMIF($D$141:$D$150,Q5,$H$141:$H$150)+SUMIF($D$155:$D$159,Q5,$H$155:$H$159)+SUMIF($D$165:$D$174,Q5,$H$165:$H$174)+SUMIF($D$179:$D$183,Q5,$H$179:$H$183) -> 0
A6: 1.事業所情報 | Q6: =対象地域一覧!A6 -> 美原 | R6: =COUNTIF($D$21:$D$30,Q6)+COUNTIF($D$35:$D$39,Q6)+COUNTIF($D$45:$D$54,Q6)+COUNTIF($D$59:$D$63,Q6)+COUNTIF($D$69:$D$78,Q6)+COUNTIF($D$83:$D$87,Q6)+COUNTIF($D$93:$D$102,Q6)+COUNTIF($D$107:$D$111,Q6)+COUNTIF($D$117:$D$126,Q6)+COUNTIF($D$131:$D$135,Q6)+COUNTIF($D$141:$D$150,Q6)+COUNTIF($D$155:$D$159,Q6)+COUNTIF($D$165:$D$174,Q6)+COUNTIF($D$179:$D$183,Q6) -> 0 | S6: =SUMIF($D$21:$D$30,Q6,$H$21:$H$30)+SUMIF($D$35:$D$39,Q6,$H$35:$H$39)+SUMIF($D$45:$D$54,Q6,$H$45:$H$54)+SUMIF($D$59:$D$63,Q6,$H$59:$H$63)+SUMIF($D$69:$D$78,Q6,$H$69:$H$78)+SUMIF($D$83:$D$87,Q6,$H$83:$H$87)+SUMIF($D$93:$D$102,Q6,$H$93:$H$102)+SUMIF($D$107:$D$111,Q6,$H$107:$H$111)+SUMIF($D$117:$D$126,Q6,$H$117:$H$126)+SUMIF($D$131:$D$135,Q6,$H$131:$H$135)+SUMIF($D$141:$D$150,Q6,$H$141:$H$150)+SUMIF($D$155:$D$159,Q6,$H$155:$H$159)+SUMIF($D$165:$D$174,Q6,$H$165:$H$174)+SUMIF($D$179:$D$183,Q6,$H$179:$H$183) -> 0
A7: 事業者名 | C7: =IF(基本情報入力シート!V8="","",基本情報入力シート!V8) | Q7: =対象地域一覧!A7 -> 加茂市場 | R7: =COUNTIF($D$21:$D$30,Q7)+COUNTIF($D$35:$D$39,Q7)+COUNTIF($D$45:$D$54,Q7)+COUNTIF($D$59:$D$63,Q7)+COUNTIF($D$69:$D$78,Q7)+COUNTIF($D$83:$D$87,Q7)+COUNTIF($D$93:$D$102,Q7)+COUNTIF($D$107:$D$111,Q7)+COUNTIF($D$117:$D$126,Q7)+COUNTIF($D$131:$D$135,Q7)+COUNTIF($D$141:$D$150,Q7)+COUNTIF($D$155:$D$159,Q7)+COUNTIF($D$165:$D$174,Q7)+COUNTIF($D$179:$D$183,Q7) -> 0 | S7: =SUMIF($D$21:$D$30,Q7,$H$21:$H$30)+SUMIF($D$35:$D$39,Q7,$H$35:$H$39)+SUMIF($D$45:$D$54,Q7,$H$45:$H$54)+SUMIF($D$59:$D$63,Q7,$H$59:$H$63)+SUMIF($D$69:$D$78,Q7,$H$69:$H$78)+SUMIF($D$83:$D$87,Q7,$H$83:$H$87)+SUMIF($D$93:$D$102,Q7,$H$93:$H$102)+SUMIF($D$107:$D$111,Q7,$H$107:$H$111)+SUMIF($D$117:$D$126,Q7,$H$117:$H$126)+SUMIF($D$131:$D$135,Q7,$H$131:$H$135)+SUMIF($D$141:$D$150,Q7,$H$141:$H$150)+SUMIF($D$155:$D$159,Q7,$H$155:$H$159)+SUMIF($D$165:$D$174,Q7,$H$165:$H$174)+SUMIF($D$179:$D$183,Q7,$H$179:$H$183) -> 0
A8: 事業所名 | C8: =IF(基本情報入力シート!V19="","",基本情報入力シート!V19) | Q8: =対象地域一覧!A8 -> 高谷 | R8: =COUNTIF($D$21:$D$30,Q8)+COUNTIF($D$35:$D$39,Q8)+COUNTIF($D$45:$D$54,Q8)+COUNTIF($D$59:$D$63,Q8)+COUNTIF($D$69:$D$78,Q8)+COUNTIF($D$83:$D$87,Q8)+COUNTIF($D$93:$D$102,Q8)+COUNTIF($D$107:$D$111,Q8)+COUNTIF($D$117:$D$126,Q8)+COUNTIF($D$131:$D$135,Q8)+COUNTIF($D$141:$D$150,Q8)+COUNTIF($D$155:$D$159,Q8)+COUNTIF($D$165:$D$174,Q8)+COUNTIF($D$179:$D$183,Q8) -> 0 | S8: =SUMIF($D$21:$D$30,Q8,$H$21:$H$30)+SUMIF($D$35:$D$39,Q8,$H$35:$H$39)+SUMIF($D$45:$D$54,Q8,$H$45:$H$54)+SUMIF($D$59:$D$63,Q8,$H$59:$H$63)+SUMIF($D$69:$D$78,Q8,$H$69:$H$78)+SUMIF($D$83:$D$87,Q8,$H$83:$H$87)+SUMIF($D$93:$D$102,Q8,$H$93:$H$102)+SUMIF($D$107:$D$111,Q8,$H$107:$H$111)+SUMIF($D$117:$D$126,Q8,$H$117:$H$126)+SUMIF($D$131:$D$135,Q8,$H$131:$H$135)+SUMIF($D$141:$D$150,Q8,$H$141:$H$150)+SUMIF($D$155:$D$159,Q8,$H$155:$H$159)+SUMIF($D$165:$D$174,Q8,$H$165:$H$174)+SUMIF($D$179:$D$183,Q8,$H$179:$H$183) -> 0
A9: 事業所所在地 | C9: =IF(基本情報入力シート!V20="","",基本情報入力シート!V20) | Q9: =対象地域一覧!A9 -> 平岡 | R9: =COUNTIF($D$21:$D$30,Q9)+COUNTIF($D$35:$D$39,Q9)+COUNTIF($D$45:$D$54,Q9)+COUNTIF($D$59:$D$63,Q9)+COUNTIF($D$69:$D$78,Q9)+COUNTIF($D$83:$D$87,Q9)+COUNTIF($D$93:$D$102,Q9)+COUNTIF($D$107:$D$111,Q9)+COUNTIF($D$117:$D$126,Q9)+COUNTIF($D$131:$D$135,Q9)+COUNTIF($D$141:$D$150,Q9)+COUNTIF($D$155:$D$159,Q9)+COUNTIF($D$165:$D$174,Q9)+COUNTIF($D$179:$D$183,Q9) -> 0 | S9: =SUMIF($D$21:$D$30,Q9,$H$21:$H$30)+SUMIF($D$35:$D$39,Q9,$H$35:$H$39)+SUMIF($D$45:$D$54,Q9,$H$45:$H$54)+SUMIF($D$59:$D$63,Q9,$H$59:$H$63)+SUMIF($D$69:$D$78,Q9,$H$69:$H$78)+SUMIF($D$83:$D$87,Q9,$H$83:$H$87)+SUMIF($D$93:$D$102,Q9,$H$93:$H$102)+SUMIF($D$107:$D$111,Q9,$H$107:$H$111)+SUMIF($D$117:$D$126,Q9,$H$117:$H$126)+SUMIF($D$131:$D$135,Q9,$H$131:$H$135)+SUMIF($D$141:$D$150,Q9,$H$141:$H$150)+SUMIF($D$155:$D$159,Q9,$H$155:$H$159)+SUMIF($D$165:$D$174,Q9,$H$165:$H$174)+SUMIF($D$179:$D$183,Q9,$H$179:$H$183) -> 0
A10: サービス種別 | C10: =IF(基本情報入力シート!V21="","",基本情報入力シート!V21) -> 通所リハビリテーション | Q10: =対象地域一覧!A10 -> 上野 | R10: =COUNTIF($D$21:$D$30,Q10)+COUNTIF($D$35:$D$39,Q10)+COUNTIF($D$45:$D$54,Q10)+COUNTIF($D$59:$D$63,Q10)+COUNTIF($D$69:$D$78,Q10)+COUNTIF($D$83:$D$87,Q10)+COUNTIF($D$93:$D$102,Q10)+COUNTIF($D$107:$D$111,Q10)+COUNTIF($D$117:$D$126,Q10)+COUNTIF($D$131:$D$135,Q10)+COUNTIF($D$141:$D$150,Q10)+COUNTIF($D$155:$D$159,Q10)+COUNTIF($D$165:$D$174,Q10)+COUNTIF($D$179:$D$183,Q10) -> 0 | S10: =SUMIF($D$21:$D$30,Q10,$H$21:$H$30)+SUMIF($D$35:$D$39,Q10,$H$35:$H$39)+SUMIF($D$45:$D$54,Q10,$H$45:$H$54)+SUMIF($D$59:$D$63,Q10,$H$59:$H$63)+SUMIF($D$69:$D$78,Q10,$H$69:$H$78)+SUMIF($D$83:$D$87,Q10,$H$83:$H$87)+SUMIF($D$93:$D$102,Q10,$H$93:$H$102)+SUMIF($D$107:$D$111,Q10,$H$107:$H$111)+SUMIF($D$117:$D$126,Q10,$H$117:$H$126)+SUMIF($D$131:$D$135,Q10,$H$131:$H$135)+SUMIF($D$141:$D$150,Q10,$H$141:$H$150)+SUMIF($D$155:$D$159,Q10,$H$155:$H$159)+SUMIF($D$165:$D$174,Q10,$H$165:$H$174)+SUMIF($D$179:$D$183,Q10,$H$179:$H$183) -> 0
A11: 補助対象事業区分 | C11: =IF(基本情報入力シート!V22="","",基本情報入力シート!V22) -> 別表第1の1 区分1 移動に片道20分以上の時間を要するサービス（特別地域加算対象地域内に居住する利用者を対象に行う場合） | Q11: =対象地域一覧!A11 -> 竹部 | R11: =COUNTIF($D$21:$D$30,Q11)+COUNTIF($D$35:$D$39,Q11)+COUNTIF($D$45:$D$54,Q11)+COUNTIF($D$59:$D$63,Q11)+COUNTIF($D$69:$D$78,Q11)+COUNTIF($D$83:$D$87,Q11)+COUNTIF($D$93:$D$102,Q11)+COUNTIF($D$107:$D$111,Q11)+COUNTIF($D$117:$D$126,Q11)+COUNTIF($D$131:$D$135,Q11)+COUNTIF($D$141:$D$150,Q11)+COUNTIF($D$155:$D$159,Q11)+COUNTIF($D$165:$D$174,Q11)+COUNTIF($D$179:$D$183,Q11) -> 0 | S11: =SUMIF($D$21:$D$30,Q11,$H$21:$H$30)+SUMIF($D$35:$D$39,Q11,$H$35:$H$39)+SUMIF($D$45:$D$54,Q11,$H$45:$H$54)+SUMIF($D$59:$D$63,Q11,$H$59:$H$63)+SUMIF($D$69:$D$78,Q11,$H$69:$H$78)+SUMIF($D$83:$D$87,Q11,$H$83:$H$87)+SUMIF($D$93:$D$102,Q11,$H$93:$H$102)+SUMIF($D$107:$D$111,Q11,$H$107:$H$111)+SUMIF($D$117:$D$126,Q11,$H$117:$H$126)+SUMIF($D$131:$D$135,Q11,$H$131:$H$135)+SUMIF($D$141:$D$150,Q11,$H$141:$H$150)+SUMIF($D$155:$D$159,Q11,$H$155:$H$159)+SUMIF($D$165:$D$174,Q11,$H$165:$H$174)+SUMIF($D$179:$D$183,Q11,$H$179:$H$183) -> 0
A12: 加算区分 | C12: 通常規模型リハビリテーション費 | Q12: =対象地域一覧!A12 -> 上田東 | R12: =COUNTIF($D$21:$D$30,Q12)+COUNTIF($D$35:$D$39,Q12)+COUNTIF($D$45:$D$54,Q12)+COUNTIF($D$59:$D$63,Q12)+COUNTIF($D$69:$D$78,Q12)+COUNTIF($D$83:$D$87,Q12)+COUNTIF($D$93:$D$102,Q12)+COUNTIF($D$107:$D$111,Q12)+COUNTIF($D$117:$D$126,Q12)+COUNTIF($D$131:$D$135,Q12)+COUNTIF($D$141:$D$150,Q12)+COUNTIF($D$155:$D$159,Q12)+COUNTIF($D$165:$D$174,Q12)+COUNTIF($D$179:$D$183,Q12) -> 0 | S12: =SUMIF($D$21:$D$30,Q12,$H$21:$H$30)+SUMIF($D$35:$D$39,Q12,$H$35:$H$39)+SUMIF($D$45:$D$54,Q12,$H$45:$H$54)+SUMIF($D$59:$D$63,Q12,$H$59:$H$63)+SUMIF($D$69:$D$78,Q12,$H$69:$H$78)+SUMIF($D$83:$D$87,Q12,$H$83:$H$87)+SUMIF($D$93:$D$102,Q12,$H$93:$H$102)+SUMIF($D$107:$D$111,Q12,$H$107:$H$111)+SUMIF($D$117:$D$126,Q12,$H$117:$H$126)+SUMIF($D$131:$D$135,Q12,$H$131:$H$135)+SUMIF($D$141:$D$150,Q12,$H$141:$H$150)+SUMIF($D$155:$D$159,Q12,$H$155:$H$159)+SUMIF($D$165:$D$174,Q12,$H$165:$H$174)+SUMIF($D$179:$D$183,Q12,$H$179:$H$183) -> 0
Q13: =対象地域一覧!A13 -> 細田 | R13: =COUNTIF($D$21:$D$30,Q13)+COUNTIF($D$35:$D$39,Q13)+COUNTIF($D$45:$D$54,Q13)+COUNTIF($D$59:$D$63,Q13)+COUNTIF($D$69:$D$78,Q13)+COUNTIF($D$83:$D$87,Q13)+COUNTIF($D$93:$D$102,Q13)+COUNTIF($D$107:$D$111,Q13)+COUNTIF($D$117:$D$126,Q13)+COUNTIF($D$131:$D$135,Q13)+COUNTIF($D$141:$D$150,Q13)+COUNTIF($D$155:$D$159,Q13)+COUNTIF($D$165:$D$174,Q13)+COUNTIF($D$179:$D$183,Q13) -> 0 | S13: =SUMIF($D$21:$D$30,Q13,$H$21:$H$30)+SUMIF($D$35:$D$39,Q13,$H$35:$H$39)+SUMIF($D$45:$D$54,Q13,$H$45:$H$54)+SUMIF($D$59:$D$63,Q13,$H$59:$H$63)+SUMIF($D$69:$D$78,Q13,$H$69:$H$78)+SUMIF($D$83:$D$87,Q13,$H$83:$H$87)+SUMIF($D$93:$D$102,Q13,$H$93:$H$102)+SUMIF($D$107:$D$111,Q13,$H$107:$H$111)+SUMIF($D$117:$D$126,Q13,$H$117:$H$126)+SUMIF($D$131:$D$135,Q13,$H$131:$H$135)+SUMIF($D$141:$D$150,Q13,$H$141:$H$150)+SUMIF($D$155:$D$159,Q13,$H$155:$H$159)+SUMIF($D$165:$D$174,Q13,$H$165:$H$174)+SUMIF($D$179:$D$183,Q13,$H$179:$H$183) -> 0
Q14: =対象地域一覧!A14 -> 三納谷 | R14: =COUNTIF($D$21:$D$30,Q14)+COUNTIF($D$35:$D$39,Q14)+COUNTIF($D$45:$D$54,Q14)+COUNTIF($D$59:$D$63,Q14)+COUNTIF($D$69:$D$78,Q14)+COUNTIF($D$83:$D$87,Q14)+COUNTIF($D$93:$D$102,Q14)+COUNTIF($D$107:$D$111,Q14)+COUNTIF($D$117:$D$126,Q14)+COUNTIF($D$131:$D$135,Q14)+COUNTIF($D$141:$D$150,Q14)+COUNTIF($D$155:$D$159,Q14)+COUNTIF($D$165:$D$174,Q14)+COUNTIF($D$179:$D$183,Q14) -> 0 | S14: =SUMIF($D$21:$D$30,Q14,$H$21:$H$30)+SUMIF($D$35:$D$39,Q14,$H$35:$H$39)+SUMIF($D$45:$D$54,Q14,$H$45:$H$54)+SUMIF($D$59:$D$63,Q14,$H$59:$H$63)+SUMIF($D$69:$D$78,Q14,$H$69:$H$78)+SUMIF($D$83:$D$87,Q14,$H$83:$H$87)+SUMIF($D$93:$D$102,Q14,$H$93:$H$102)+SUMIF($D$107:$D$111,Q14,$H$107:$H$111)+SUMIF($D$117:$D$126,Q14,$H$117:$H$126)+SUMIF($D$131:$D$135,Q14,$H$131:$H$135)+SUMIF($D$141:$D$150,Q14,$H$141:$H$150)+SUMIF($D$155:$D$159,Q14,$H$155:$H$159)+SUMIF($D$165:$D$174,Q14,$H$165:$H$174)+SUMIF($D$179:$D$183,Q14,$H$179:$H$183) -> 0
Q15: =対象地域一覧!A15 -> 上田西 | R15: =COUNTIF($D$21:$D$30,Q15)+COUNTIF($D$35:$D$39,Q15)+COUNTIF($D$45:$D$54,Q15)+COUNTIF($D$59:$D$63,Q15)+COUNTIF($D$69:$D$78,Q15)+COUNTIF($D$83:$D$87,Q15)+COUNTIF($D$93:$D$102,Q15)+COUNTIF($D$107:$D$111,Q15)+COUNTIF($D$117:$D$126,Q15)+COUNTIF($D$131:$D$135,Q15)+COUNTIF($D$141:$D$150,Q15)+COUNTIF($D$155:$D$159,Q15)+COUNTIF($D$165:$D$174,Q15)+COUNTIF($D$179:$D$183,Q15) -> 0 | S15: =SUMIF($D$21:$D$30,Q15,$H$21:$H$30)+SUMIF($D$35:$D$39,Q15,$H$35:$H$39)+SUMIF($D$45:$D$54,Q15,$H$45:$H$54)+SUMIF($D$59:$D$63,Q15,$H$59:$H$63)+SUMIF($D$69:$D$78,Q15,$H$69:$H$78)+SUMIF($D$83:$D$87,Q15,$H$83:$H$87)+SUMIF($D$93:$D$102,Q15,$H$93:$H$102)+SUMIF($D$107:$D$111,Q15,$H$107:$H$111)+SUMIF($D$117:$D$126,Q15,$H$117:$H$126)+SUMIF($D$131:$D$135,Q15,$H$131:$H$135)+SUMIF($D$141:$D$150,Q15,$H$141:$H$150)+SUMIF($D$155:$D$159,Q15,$H$155:$H$159)+SUMIF($D$165:$D$174,Q15,$H$165:$H$174)+SUMIF($D$179:$D$183,Q15,$H$179:$H$183) -> 0
Q16: =対象地域一覧!A16 -> 円城 | R16: =COUNTIF($D$21:$D$30,Q16)+COUNTIF($D$35:$D$39,Q16)+COUNTIF($D$45:$D$54,Q16)+COUNTIF($D$59:$D$63,Q16)+COUNTIF($D$69:$D$78,Q16)+COUNTIF($D$83:$D$87,Q16)+COUNTIF($D$93:$D$102,Q16)+COUNTIF($D$107:$D$111,Q16)+COUNTIF($D$117:$D$126,Q16)+COUNTIF($D$131:$D$135,Q16)+COUNTIF($D$141:$D$150,Q16)+COUNTIF($D$155:$D$159,Q16)+COUNTIF($D$165:$D$174,Q16)+COUNTIF($D$179:$D$183,Q16) -> 0 | S16: =SUMIF($D$21:$D$30,Q16,$H$21:$H$30)+SUMIF($D$35:$D$39,Q16,$H$35:$H$39)+SUMIF($D$45:$D$54,Q16,$H$45:$H$54)+SUMIF($D$59:$D$63,Q16,$H$59:$H$63)+SUMIF($D$69:$D$78,Q16,$H$69:$H$78)+SUMIF($D$83:$D$87,Q16,$H$83:$H$87)+SUMIF($D$93:$D$102,Q16,$H$93:$H$102)+SUMIF($D$107:$D$111,Q16,$H$107:$H$111)+SUMIF($D$117:$D$126,Q16,$H$117:$H$126)+SUMIF($D$131:$D$135,Q16,$H$131:$H$135)+SUMIF($D$141:$D$150,Q16,$H$141:$H$150)+SUMIF($D$155:$D$159,Q16,$H$155:$H$159)+SUMIF($D$165:$D$174,Q16,$H$165:$H$174)+SUMIF($D$179:$D$183,Q16,$H$179:$H$183) -> 0
A17: 2. 実績内訳 | Q17: =対象地域一覧!A17 -> 案田 | R17: =COUNTIF($D$21:$D$30,Q17)+COUNTIF($D$35:$D$39,Q17)+COUNTIF($D$45:$D$54,Q17)+COUNTIF($D$59:$D$63,Q17)+COUNTIF($D$69:$D$78,Q17)+COUNTIF($D$83:$D$87,Q17)+COUNTIF($D$93:$D$102,Q17)+COUNTIF($D$107:$D$111,Q17)+COUNTIF($D$117:$D$126,Q17)+COUNTIF($D$131:$D$135,Q17)+COUNTIF($D$141:$D$150,Q17)+COUNTIF($D$155:$D$159,Q17)+COUNTIF($D$165:$D$174,Q17)+COUNTIF($D$179:$D$183,Q17) -> 0 | S17: =SUMIF($D$21:$D$30,Q17,$H$21:$H$30)+SUMIF($D$35:$D$39,Q17,$H$35:$H$39)+SUMIF($D$45:$D$54,Q17,$H$45:$H$54)+SUMIF($D$59:$D$63,Q17,$H$59:$H$63)+SUMIF($D$69:$D$78,Q17,$H$69:$H$78)+SUMIF($D$83:$D$87,Q17,$H$83:$H$87)+SUMIF($D$93:$D$102,Q17,$H$93:$H$102)+SUMIF($D$107:$D$111,Q17,$H$107:$H$111)+SUMIF($D$117:$D$126,Q17,$H$117:$H$126)+SUMIF($D$131:$D$135,Q17,$H$131:$H$135)+SUMIF($D$141:$D$150,Q17,$H$141:$H$150)+SUMIF($D$155:$D$159,Q17,$H$155:$H$159)+SUMIF($D$165:$D$174,Q17,$H$165:$H$174)+SUMIF($D$179:$D$183,Q17,$H$179:$H$183) -> 0
A18: （1）所要時間1時間以上2時間未満の場合 | Q18: =対象地域一覧!A18 -> 高富 | R18: =COUNTIF($D$21:$D$30,Q18)+COUNTIF($D$35:$D$39,Q18)+COUNTIF($D$45:$D$54,Q18)+COUNTIF($D$59:$D$63,Q18)+COUNTIF($D$69:$D$78,Q18)+COUNTIF($D$83:$D$87,Q18)+COUNTIF($D$93:$D$102,Q18)+COUNTIF($D$107:$D$111,Q18)+COUNTIF($D$117:$D$126,Q18)+COUNTIF($D$131:$D$135,Q18)+COUNTIF($D$141:$D$150,Q18)+COUNTIF($D$155:$D$159,Q18)+COUNTIF($D$165:$D$174,Q18)+COUNTIF($D$179:$D$183,Q18) -> 0 | S18: =SUMIF($D$21:$D$30,Q18,$H$21:$H$30)+SUMIF($D$35:$D$39,Q18,$H$35:$H$39)+SUMIF($D$45:$D$54,Q18,$H$45:$H$54)+SUMIF($D$59:$D$63,Q18,$H$59:$H$63)+SUMIF($D$69:$D$78,Q18,$H$69:$H$78)+SUMIF($D$83:$D$87,Q18,$H$83:$H$87)+SUMIF($D$93:$D$102,Q18,$H$93:$H$102)+SUMIF($D$107:$D$111,Q18,$H$107:$H$111)+SUMIF($D$117:$D$126,Q18,$H$117:$H$126)+SUMIF($D$131:$D$135,Q18,$H$131:$H$135)+SUMIF($D$141:$D$150,Q18,$H$141:$H$150)+SUMIF($D$155:$D$159,Q18,$H$155:$H$159)+SUMIF($D$165:$D$174,Q18,$H$165:$H$174)+SUMIF($D$179:$D$183,Q18,$H$179:$H$183) -> 0
A19: ※往復の送迎を行った場合 （片道のみ送迎を行った場合は下記別表に入力すること） | Q19: =対象地域一覧!A19 -> 神瀬 | R19: =COUNTIF($D$21:$D$30,Q19)+COUNTIF($D$35:$D$39,Q19)+COUNTIF($D$45:$D$54,Q19)+COUNTIF($D$59:$D$63,Q19)+COUNTIF($D$69:$D$78,Q19)+COUNTIF($D$83:$D$87,Q19)+COUNTIF($D$93:$D$102,Q19)+COUNTIF($D$107:$D$111,Q19)+COUNTIF($D$117:$D$126,Q19)+COUNTIF($D$131:$D$135,Q19)+COUNTIF($D$141:$D$150,Q19)+COUNTIF($D$155:$D$159,Q19)+COUNTIF($D$165:$D$174,Q19)+COUNTIF($D$179:$D$183,Q19) -> 0 | S19: =SUMIF($D$21:$D$30,Q19,$H$21:$H$30)+SUMIF($D$35:$D$39,Q19,$H$35:$H$39)+SUMIF($D$45:$D$54,Q19,$H$45:$H$54)+SUMIF($D$59:$D$63,Q19,$H$59:$H$63)+SUMIF($D$69:$D$78,Q19,$H$69:$H$78)+SUMIF($D$83:$D$87,Q19,$H$83:$H$87)+SUMIF($D$93:$D$102,Q19,$H$93:$H$102)+SUMIF($D$107:$D$111,Q19,$H$107:$H$111)+SUMIF($D$117:$D$126,Q19,$H$117:$H$126)+SUMIF($D$131:$D$135,Q19,$H$131:$H$135)+SUMIF($D$141:$D$150,Q19,$H$141:$H$150)+SUMIF($D$155:$D$159,Q19,$H$155:$H$159)+SUMIF($D$165:$D$174,Q19,$H$165:$H$174)+SUMIF($D$179:$D$183,Q19,$H$179:$H$183) -> 0
A20: 所要時間1時間以上2時間未満の場合 | B20: 被保険者番号 | C20: 被保険者氏名 | D20: 地区名 | E20: 事業所から 利用者宅までの 距離（km） | F20: 事業所から 利用者宅までの 所要時間（分） | G20: 要介護度 | H20: サービス 提供回数 | I20: 基本報酬 （月単位数） | J20: 基準額(月) | Q20: =対象地域一覧!A20 -> 小森 | R20: =COUNTIF($D$21:$D$30,Q20)+COUNTIF($D$35:$D$39,Q20)+COUNTIF($D$45:$D$54,Q20)+COUNTIF($D$59:$D$63,Q20)+COUNTIF($D$69:$D$78,Q20)+COUNTIF($D$83:$D$87,Q20)+COUNTIF($D$93:$D$102,Q20)+COUNTIF($D$107:$D$111,Q20)+COUNTIF($D$117:$D$126,Q20)+COUNTIF($D$131:$D$135,Q20)+COUNTIF($D$141:$D$150,Q20)+COUNTIF($D$155:$D$159,Q20)+COUNTIF($D$165:$D$174,Q20)+COUNTIF($D$179:$D$183,Q20) -> 0 | S20: =SUMIF($D$21:$D$30,Q20,$H$21:$H$30)+SUMIF($D$35:$D$39,Q20,$H$35:$H$39)+SUMIF($D$45:$D$54,Q20,$H$45:$H$54)+SUMIF($D$59:$D$63,Q20,$H$59:$H$63)+SUMIF($D$69:$D$78,Q20,$H$69:$H$78)+SUMIF($D$83:$D$87,Q20,$H$83:$H$87)+SUMIF($D$93:$D$102,Q20,$H$93:$H$102)+SUMIF($D$107:$D$111,Q20,$H$107:$H$111)+SUMIF($D$117:$D$126,Q20,$H$117:$H$126)+SUMIF($D$131:$D$135,Q20,$H$131:$H$135)+SUMIF($D$141:$D$150,Q20,$H$141:$H$150)+SUMIF($D$155:$D$159,Q20,$H$155:$H$159)+SUMIF($D$165:$D$174,Q20,$H$165:$H$174)+SUMIF($D$179:$D$183,Q20,$H$179:$H$183) -> 0
I21: =IF(AND(B21<>"",C21<>"",D21<>"",E21<>"",F21<>"",G21<>"",H21<>""),VLOOKUP(G21,通所リハビリテーション費!$A$20:$B$24,2,0),0) -> 0 | J21: =(I21*H21)*0.1*10 -> 0 | Q21: =対象地域一覧!A21 -> 尾原 | R21: =COUNTIF($D$21:$D$30,Q21)+COUNTIF($D$35:$D$39,Q21)+COUNTIF($D$45:$D$54,Q21)+COUNTIF($D$59:$D$63,Q21)+COUNTIF($D$69:$D$78,Q21)+COUNTIF($D$83:$D$87,Q21)+COUNTIF($D$93:$D$102,Q21)+COUNTIF($D$107:$D$111,Q21)+COUNTIF($D$117:$D$126,Q21)+COUNTIF($D$131:$D$135,Q21)+COUNTIF($D$141:$D$150,Q21)+COUNTIF($D$155:$D$159,Q21)+COUNTIF($D$165:$D$174,Q21)+COUNTIF($D$179:$D$183,Q21) -> 0 | S21: =SUMIF($D$21:$D$30,Q21,$H$21:$H$30)+SUMIF($D$35:$D$39,Q21,$H$35:$H$39)+SUMIF($D$45:$D$54,Q21,$H$45:$H$54)+SUMIF($D$59:$D$63,Q21,$H$59:$H$63)+SUMIF($D$69:$D$78,Q21,$H$69:$H$78)+SUMIF($D$83:$D$87,Q21,$H$83:$H$87)+SUMIF($D$93:$D$102,Q21,$H$93:$H$102)+SUMIF($D$107:$D$111,Q21,$H$107:$H$111)+SUMIF($D$117:$D$126,Q21,$H$117:$H$126)+SUMIF($D$131:$D$135,Q21,$H$131:$H$135)+SUMIF($D$141:$D$150,Q21,$H$141:$H$150)+SUMIF($D$155:$D$159,Q21,$H$155:$H$159)+SUMIF($D$165:$D$174,Q21,$H$165:$H$174)+SUMIF($D$179:$D$183,Q21,$H$179:$H$183) -> 0
I22: =IF(AND(B22<>"",C22<>"",D22<>"",E22<>"",F22<>"",G22<>"",H22<>""),VLOOKUP(G22,通所リハビリテーション費!$A$20:$B$24,2,0),0) -> 0 | J22: =(I22*H22)*0.1*10 -> 0 | Q22: =対象地域一覧!A22 -> 笹目 | R22: =COUNTIF($D$21:$D$30,Q22)+COUNTIF($D$35:$D$39,Q22)+COUNTIF($D$45:$D$54,Q22)+COUNTIF($D$59:$D$63,Q22)+COUNTIF($D$69:$D$78,Q22)+COUNTIF($D$83:$D$87,Q22)+COUNTIF($D$93:$D$102,Q22)+COUNTIF($D$107:$D$111,Q22)+COUNTIF($D$117:$D$126,Q22)+COUNTIF($D$131:$D$135,Q22)+COUNTIF($D$141:$D$150,Q22)+COUNTIF($D$155:$D$159,Q22)+COUNTIF($D$165:$D$174,Q22)+COUNTIF($D$179:$D$183,Q22) -> 0 | S22: =SUMIF($D$21:$D$30,Q22,$H$21:$H$30)+SUMIF($D$35:$D$39,Q22,$H$35:$H$39)+SUMIF($D$45:$D$54,Q22,$H$45:$H$54)+SUMIF($D$59:$D$63,Q22,$H$59:$H$63)+SUMIF($D$69:$D$78,Q22,$H$69:$H$78)+SUMIF($D$83:$D$87,Q22,$H$83:$H$87)+SUMIF($D$93:$D$102,Q22,$H$93:$H$102)+SUMIF($D$107:$D$111,Q22,$H$107:$H$111)+SUMIF($D$117:$D$126,Q22,$H$117:$H$126)+SUMIF($D$131:$D$135,Q22,$H$131:$H$135)+SUMIF($D$141:$D$150,Q22,$H$141:$H$150)+SUMIF($D$155:$D$159,Q22,$H$155:$H$159)+SUMIF($D$165:$D$174,Q22,$H$165:$H$174)+SUMIF($D$179:$D$183,Q22,$H$179:$H$183) -> 0
I23: =IF(AND(B23<>"",C23<>"",D23<>"",E23<>"",F23<>"",G23<>"",H23<>""),VLOOKUP(G23,通所リハビリテーション費!$A$20:$B$24,2,0),0) -> 0 | J23: =(I23*H23)*0.1*10 -> 0 | Q23: =対象地域一覧!A23 -> 福沢 | R23: =COUNTIF($D$21:$D$30,Q23)+COUNTIF($D$35:$D$39,Q23)+COUNTIF($D$45:$D$54,Q23)+COUNTIF($D$59:$D$63,Q23)+COUNTIF($D$69:$D$78,Q23)+COUNTIF($D$83:$D$87,Q23)+COUNTIF($D$93:$D$102,Q23)+COUNTIF($D$107:$D$111,Q23)+COUNTIF($D$117:$D$126,Q23)+COUNTIF($D$131:$D$135,Q23)+COUNTIF($D$141:$D$150,Q23)+COUNTIF($D$155:$D$159,Q23)+COUNTIF($D$165:$D$174,Q23)+COUNTIF($D$179:$D$183,Q23) -> 0 | S23: =SUMIF($D$21:$D$30,Q23,$H$21:$H$30)+SUMIF($D$35:$D$39,Q23,$H$35:$H$39)+SUMIF($D$45:$D$54,Q23,$H$45:$H$54)+SUMIF($D$59:$D$63,Q23,$H$59:$H$63)+SUMIF($D$69:$D$78,Q23,$H$69:$H$78)+SUMIF($D$83:$D$87,Q23,$H$83:$H$87)+SUMIF($D$93:$D$102,Q23,$H$93:$H$102)+SUMIF($D$107:$D$111,Q23,$H$107:$H$111)+SUMIF($D$117:$D$126,Q23,$H$117:$H$126)+SUMIF($D$131:$D$135,Q23,$H$131:$H$135)+SUMIF($D$141:$D$150,Q23,$H$141:$H$150)+SUMIF($D$155:$D$159,Q23,$H$155:$H$159)+SUMIF($D$165:$D$174,Q23,$H$165:$H$174)+SUMIF($D$179:$D$183,Q23,$H$179:$H$183) -> 0
I24: =IF(AND(B24<>"",C24<>"",D24<>"",E24<>"",F24<>"",G24<>"",H24<>""),VLOOKUP(G24,通所リハビリテーション費!$A$20:$B$24,2,0),0) -> 0 | J24: =(I24*H24)*0.1*10 -> 0 | Q24: =対象地域一覧!A24 -> 溝部 | R24: =COUNTIF($D$21:$D$30,Q24)+COUNTIF($D$35:$D$39,Q24)+COUNTIF($D$45:$D$54,Q24)+COUNTIF($D$59:$D$63,Q24)+COUNTIF($D$69:$D$78,Q24)+COUNTIF($D$83:$D$87,Q24)+COUNTIF($D$93:$D$102,Q24)+COUNTIF($D$107:$D$111,Q24)+COUNTIF($D$117:$D$126,Q24)+COUNTIF($D$131:$D$135,Q24)+COUNTIF($D$141:$D$150,Q24)+COUNTIF($D$155:$D$159,Q24)+COUNTIF($D$165:$D$174,Q24)+COUNTIF($D$179:$D$183,Q24) -> 0 | S24: =SUMIF($D$21:$D$30,Q24,$H$21:$H$30)+SUMIF($D$35:$D$39,Q24,$H$35:$H$39)+SUMIF($D$45:$D$54,Q24,$H$45:$H$54)+SUMIF($D$59:$D$63,Q24,$H$59:$H$63)+SUMIF($D$69:$D$78,Q24,$H$69:$H$78)+SUMIF($D$83:$D$87,Q24,$H$83:$H$87)+SUMIF($D$93:$D$102,Q24,$H$93:$H$102)+SUMIF($D$107:$D$111,Q24,$H$107:$H$111)+SUMIF($D$117:$D$126,Q24,$H$117:$H$126)+SUMIF($D$131:$D$135,Q24,$H$131:$H$135)+SUMIF($D$141:$D$150,Q24,$H$141:$H$150)+SUMIF($D$155:$D$159,Q24,$H$155:$H$159)+SUMIF($D$165:$D$174,Q24,$H$165:$H$174)+SUMIF($D$179:$D$183,Q24,$H$179:$H$183) -> 0
I25: =IF(AND(B25<>"",C25<>"",D25<>"",E25<>"",F25<>"",G25<>"",H25<>""),VLOOKUP(G25,通所リハビリテーション費!$A$20:$B$24,2,0),0) -> 0 | J25: =(I25*H25)*0.1*10 -> 0 | R25: =COUNTIF($D$21:$D$30,Q25)+COUNTIF($D$35:$D$39,Q25)+COUNTIF($D$45:$D$54,Q25)+COUNTIF($D$59:$D$63,Q25)+COUNTIF($D$69:$D$78,Q25)+COUNTIF($D$83:$D$87,Q25)+COUNTIF($D$93:$D$102,Q25)+COUNTIF($D$107:$D$111,Q25)+COUNTIF($D$117:$D$126,Q25)+COUNTIF($D$131:$D$135,Q25)+COUNTIF($D$141:$D$150,Q25)+COUNTIF($D$155:$D$159,Q25)+COUNTIF($D$165:$D$174,Q25)+COUNTIF($D$179:$D$183,Q25) -> 0 | S25: =SUMIF($D$21:$D$30,Q25,$H$21:$H$30)+SUMIF($D$35:$D$39,Q25,$H$35:$H$39)+SUMIF($D$45:$D$54,Q25,$H$45:$H$54)+SUMIF($D$59:$D$63,Q25,$H$59:$H$63)+SUMIF($D$69:$D$78,Q25,$H$69:$H$78)+SUMIF($D$83:$D$87,Q25,$H$83:$H$87)+SUMIF($D$93:$D$102,Q25,$H$93:$H$102)+SUMIF($D$107:$D$111,Q25,$H$107:$H$111)+SUMIF($D$117:$D$126,Q25,$H$117:$H$126)+SUMIF($D$131:$D$135,Q25,$H$131:$H$135)+SUMIF($D$141:$D$150,Q25,$H$141:$H$150)+SUMIF($D$155:$D$159,Q25,$H$155:$H$159)+SUMIF($D$165:$D$174,Q25,$H$165:$H$174)+SUMIF($D$179:$D$183,Q25,$H$179:$H$183) -> 0
I26: =IF(AND(B26<>"",C26<>"",D26<>"",E26<>"",F26<>"",G26<>"",H26<>""),VLOOKUP(G26,通所リハビリテーション費!$A$20:$B$24,2,0),0) -> 0 | J26: =(I26*H26)*0.1*10 -> 0 | R26: =COUNTIF($D$21:$D$30,Q26)+COUNTIF($D$35:$D$39,Q26)+COUNTIF($D$45:$D$54,Q26)+COUNTIF($D$59:$D$63,Q26)+COUNTIF($D$69:$D$78,Q26)+COUNTIF($D$83:$D$87,Q26)+COUNTIF($D$93:$D$102,Q26)+COUNTIF($D$107:$D$111,Q26)+COUNTIF($D$117:$D$126,Q26)+COUNTIF($D$131:$D$135,Q26)+COUNTIF($D$141:$D$150,Q26)+COUNTIF($D$155:$D$159,Q26)+COUNTIF($D$165:$D$174,Q26)+COUNTIF($D$179:$D$183,Q26) -> 0 | S26: =SUMIF($D$21:$D$30,Q26,$H$21:$H$30)+SUMIF($D$35:$D$39,Q26,$H$35:$H$39)+SUMIF($D$45:$D$54,Q26,$H$45:$H$54)+SUMIF($D$59:$D$63,Q26,$H$59:$H$63)+SUMIF($D$69:$D$78,Q26,$H$69:$H$78)+SUMIF($D$83:$D$87,Q26,$H$83:$H$87)+SUMIF($D$93:$D$102,Q26,$H$93:$H$102)+SUMIF($D$107:$D$111,Q26,$H$107:$H$111)+SUMIF($D$117:$D$126,Q26,$H$117:$H$126)+SUMIF($D$131:$D$135,Q26,$H$131:$H$135)+SUMIF($D$141:$D$150,Q26,$H$141:$H$150)+SUMIF($D$155:$D$159,Q26,$H$155:$H$159)+SUMIF($D$165:$D$174,Q26,$H$165:$H$174)+SUMIF($D$179:$D$183,Q26,$H$179:$H$183) -> 0
I27: =IF(AND(B27<>"",C27<>"",D27<>"",E27<>"",F27<>"",G27<>"",H27<>""),VLOOKUP(G27,通所リハビリテーション費!$A$20:$B$24,2,0),0) -> 0 | J27: =(I27*H27)*0.1*10 -> 0 | R27: =COUNTIF($D$21:$D$30,Q27)+COUNTIF($D$35:$D$39,Q27)+COUNTIF($D$45:$D$54,Q27)+COUNTIF($D$59:$D$63,Q27)+COUNTIF($D$69:$D$78,Q27)+COUNTIF($D$83:$D$87,Q27)+COUNTIF($D$93:$D$102,Q27)+COUNTIF($D$107:$D$111,Q27)+COUNTIF($D$117:$D$126,Q27)+COUNTIF($D$131:$D$135,Q27)+COUNTIF($D$141:$D$150,Q27)+COUNTIF($D$155:$D$159,Q27)+COUNTIF($D$165:$D$174,Q27)+COUNTIF($D$179:$D$183,Q27) -> 0 | S27: =SUMIF($D$21:$D$30,Q27,$H$21:$H$30)+SUMIF($D$35:$D$39,Q27,$H$35:$H$39)+SUMIF($D$45:$D$54,Q27,$H$45:$H$54)+SUMIF($D$59:$D$63,Q27,$H$59:$H$63)+SUMIF($D$69:$D$78,Q27,$H$69:$H$78)+SUMIF($D$83:$D$87,Q27,$H$83:$H$87)+SUMIF($D$93:$D$102,Q27,$H$93:$H$102)+SUMIF($D$107:$D$111,Q27,$H$107:$H$111)+SUMIF($D$117:$D$126,Q27,$H$117:$H$126)+SUMIF($D$131:$D$135,Q27,$H$131:$H$135)+SUMIF($D$141:$D$150,Q27,$H$141:$H$150)+SUMIF($D$155:$D$159,Q27,$H$155:$H$159)+SUMIF($D$165:$D$174,Q27,$H$165:$H$174)+SUMIF($D$179:$D$183,Q27,$H$179:$H$183) -> 0
I28: =IF(AND(B28<>"",C28<>"",D28<>"",E28<>"",F28<>"",G28<>"",H28<>""),VLOOKUP(G28,通所リハビリテーション費!$A$20:$B$24,2,0),0) -> 0 | J28: =(I28*H28)*0.1*10 -> 0 | R28: =COUNTIF($D$21:$D$30,Q28)+COUNTIF($D$35:$D$39,Q28)+COUNTIF($D$45:$D$54,Q28)+COUNTIF($D$59:$D$63,Q28)+COUNTIF($D$69:$D$78,Q28)+COUNTIF($D$83:$D$87,Q28)+COUNTIF($D$93:$D$102,Q28)+COUNTIF($D$107:$D$111,Q28)+COUNTIF($D$117:$D$126,Q28)+COUNTIF($D$131:$D$135,Q28)+COUNTIF($D$141:$D$150,Q28)+COUNTIF($D$155:$D$159,Q28)+COUNTIF($D$165:$D$174,Q28)+COUNTIF($D$179:$D$183,Q28) -> 0 | S28: =SUMIF($D$21:$D$30,Q28,$H$21:$H$30)+SUMIF($D$35:$D$39,Q28,$H$35:$H$39)+SUMIF($D$45:$D$54,Q28,$H$45:$H$54)+SUMIF($D$59:$D$63,Q28,$H$59:$H$63)+SUMIF($D$69:$D$78,Q28,$H$69:$H$78)+SUMIF($D$83:$D$87,Q28,$H$83:$H$87)+SUMIF($D$93:$D$102,Q28,$H$93:$H$102)+SUMIF($D$107:$D$111,Q28,$H$107:$H$111)+SUMIF($D$117:$D$126,Q28,$H$117:$H$126)+SUMIF($D$131:$D$135,Q28,$H$131:$H$135)+SUMIF($D$141:$D$150,Q28,$H$141:$H$150)+SUMIF($D$155:$D$159,Q28,$H$155:$H$159)+SUMIF($D$165:$D$174,Q28,$H$165:$H$174)+SUMIF($D$179:$D$183,Q28,$H$179:$H$183) -> 0
I29: =IF(AND(B29<>"",C29<>"",D29<>"",E29<>"",F29<>"",G29<>"",H29<>""),VLOOKUP(G29,通所リハビリテーション費!$A$20:$B$24,2,0),0) -> 0 | J29: =(I29*H29)*0.1*10 -> 0 | R29: =COUNTIF($D$21:$D$30,Q29)+COUNTIF($D$35:$D$39,Q29)+COUNTIF($D$45:$D$54,Q29)+COUNTIF($D$59:$D$63,Q29)+COUNTIF($D$69:$D$78,Q29)+COUNTIF($D$83:$D$87,Q29)+COUNTIF($D$93:$D$102,Q29)+COUNTIF($D$107:$D$111,Q29)+COUNTIF($D$117:$D$126,Q29)+COUNTIF($D$131:$D$135,Q29)+COUNTIF($D$141:$D$150,Q29)+COUNTIF($D$155:$D$159,Q29)+COUNTIF($D$165:$D$174,Q29)+COUNTIF($D$179:$D$183,Q29) -> 0 | S29: =SUMIF($D$21:$D$30,Q29,$H$21:$H$30)+SUMIF($D$35:$D$39,Q29,$H$35:$H$39)+SUMIF($D$45:$D$54,Q29,$H$45:$H$54)+SUMIF($D$59:$D$63,Q29,$H$59:$H$63)+SUMIF($D$69:$D$78,Q29,$H$69:$H$78)+SUMIF($D$83:$D$87,Q29,$H$83:$H$87)+SUMIF($D$93:$D$102,Q29,$H$93:$H$102)+SUMIF($D$107:$D$111,Q29,$H$107:$H$111)+SUMIF($D$117:$D$126,Q29,$H$117:$H$126)+SUMIF($D$131:$D$135,Q29,$H$131:$H$135)+SUMIF($D$141:$D$150,Q29,$H$141:$H$150)+SUMIF($D$155:$D$159,Q29,$H$155:$H$159)+SUMIF($D$165:$D$174,Q29,$H$165:$H$174)+SUMIF($D$179:$D$183,Q29,$H$179:$H$183) -> 0
I30: =IF(AND(B30<>"",C30<>"",D30<>"",E30<>"",F30<>"",G30<>"",H30<>""),VLOOKUP(G30,通所リハビリテーション費!$A$20:$B$24,2,0),0) -> 0 | J30: =(I30*H30)*0.1*10 -> 0 | R30: =COUNTIF($D$21:$D$30,Q30)+COUNTIF($D$35:$D$39,Q30)+COUNTIF($D$45:$D$54,Q30)+COUNTIF($D$59:$D$63,Q30)+COUNTIF($D$69:$D$78,Q30)+COUNTIF($D$83:$D$87,Q30)+COUNTIF($D$93:$D$102,Q30)+COUNTIF($D$107:$D$111,Q30)+COUNTIF($D$117:$D$126,Q30)+COUNTIF($D$131:$D$135,Q30)+COUNTIF($D$141:$D$150,Q30)+COUNTIF($D$155:$D$159,Q30)+COUNTIF($D$165:$D$174,Q30)+COUNTIF($D$179:$D$183,Q30) -> 0 | S30: =SUMIF($D$21:$D$30,Q30,$H$21:$H$30)+SUMIF($D$35:$D$39,Q30,$H$35:$H$39)+SUMIF($D$45:$D$54,Q30,$H$45:$H$54)+SUMIF($D$59:$D$63,Q30,$H$59:$H$63)+SUMIF($D$69:$D$78,Q30,$H$69:$H$78)+SUMIF($D$83:$D$87,Q30,$H$83:$H$87)+SUMIF($D$93:$D$102,Q30,$H$93:$H$102)+SUMIF($D$107:$D$111,Q30,$H$107:$H$111)+SUMIF($D$117:$D$126,Q30,$H$117:$H$126)+SUMIF($D$131:$D$135,Q30,$H$131:$H$135)+SUMIF($D$141:$D$150,Q30,$H$141:$H$150)+SUMIF($D$155:$D$159,Q30,$H$155:$H$159)+SUMIF($D$165:$D$174,Q30,$H$165:$H$174)+SUMIF($D$179:$D$183,Q30,$H$179:$H$183) -> 0
A31: 合計 | H31: =SUMIF(H21:H30,"<>#N/A") -> 0 | I31: =SUMIF(I21:I30,"<>#N/A") -> 0 | J31: =SUMIF(J21:J30,"<>#N/A") -> 0 | R31: =COUNTIF($D$21:$D$30,Q31)+COUNTIF($D$35:$D$39,Q31)+COUNTIF($D$45:$D$54,Q31)+COUNTIF($D$59:$D$63,Q31)+COUNTIF($D$69:$D$78,Q31)+COUNTIF($D$83:$D$87,Q31)+COUNTIF($D$93:$D$102,Q31)+COUNTIF($D$107:$D$111,Q31)+COUNTIF($D$117:$D$126,Q31)+COUNTIF($D$131:$D$135,Q31)+COUNTIF($D$141:$D$150,Q31)+COUNTIF($D$155:$D$159,Q31)+COUNTIF($D$165:$D$174,Q31)+COUNTIF($D$179:$D$183,Q31) -> 0 | S31: =SUMIF($D$21:$D$30,Q31,$H$21:$H$30)+SUMIF($D$35:$D$39,Q31,$H$35:$H$39)+SUMIF($D$45:$D$54,Q31,$H$45:$H$54)+SUMIF($D$59:$D$63,Q31,$H$59:$H$63)+SUMIF($D$69:$D$78,Q31,$H$69:$H$78)+SUMIF($D$83:$D$87,Q31,$H$83:$H$87)+SUMIF($D$93:$D$102,Q31,$H$93:$H$102)+SUMIF($D$107:$D$111,Q31,$H$107:$H$111)+SUMIF($D$117:$D$126,Q31,$H$117:$H$126)+SUMIF($D$131:$D$135,Q31,$H$131:$H$135)+SUMIF($D$141:$D$150,Q31,$H$141:$H$150)+SUMIF($D$155:$D$159,Q31,$H$155:$H$159)+SUMIF($D$165:$D$174,Q31,$H$165:$H$174)+SUMIF($D$179:$D$183,Q31,$H$179:$H$183) -> 0
R32: =COUNTIF($D$21:$D$30,Q32)+COUNTIF($D$35:$D$39,Q32)+COUNTIF($D$45:$D$54,Q32)+COUNTIF($D$59:$D$63,Q32)+COUNTIF($D$69:$D$78,Q32)+COUNTIF($D$83:$D$87,Q32)+COUNTIF($D$93:$D$102,Q32)+COUNTIF($D$107:$D$111,Q32)+COUNTIF($D$117:$D$126,Q32)+COUNTIF($D$131:$D$135,Q32)+COUNTIF($D$141:$D$150,Q32)+COUNTIF($D$155:$D$159,Q32)+COUNTIF($D$165:$D$174,Q32)+COUNTIF($D$179:$D$183,Q32) -> 0 | S32: =SUMIF($D$21:$D$30,Q32,$H$21:$H$30)+SUMIF($D$35:$D$39,Q32,$H$35:$H$39)+SUMIF($D$45:$D$54,Q32,$H$45:$H$54)+SUMIF($D$59:$D$63,Q32,$H$59:$H$63)+SUMIF($D$69:$D$78,Q32,$H$69:$H$78)+SUMIF($D$83:$D$87,Q32,$H$83:$H$87)+SUMIF($D$93:$D$102,Q32,$H$93:$H$102)+SUMIF($D$107:$D$111,Q32,$H$107:$H$111)+SUMIF($D$117:$D$126,Q32,$H$117:$H$126)+SUMIF($D$131:$D$135,Q32,$H$131:$H$135)+SUMIF($D$141:$D$150,Q32,$H$141:$H$150)+SUMIF($D$155:$D$159,Q32,$H$155:$H$159)+SUMIF($D$165:$D$174,Q32,$H$165:$H$174)+SUMIF($D$179:$D$183,Q32,$H$179:$H$183) -> 0
A33: ※片道のみ送迎を行った場合 | R33: =COUNTIF($D$21:$D$30,Q33)+COUNTIF($D$35:$D$39,Q33)+COUNTIF($D$45:$D$54,Q33)+COUNTIF($D$59:$D$63,Q33)+COUNTIF($D$69:$D$78,Q33)+COUNTIF($D$83:$D$87,Q33)+COUNTIF($D$93:$D$102,Q33)+COUNTIF($D$107:$D$111,Q33)+COUNTIF($D$117:$D$126,Q33)+COUNTIF($D$131:$D$135,Q33)+COUNTIF($D$141:$D$150,Q33)+COUNTIF($D$155:$D$159,Q33)+COUNTIF($D$165:$D$174,Q33)+COUNTIF($D$179:$D$183,Q33) -> 0 | S33: =SUMIF($D$21:$D$30,Q33,$H$21:$H$30)+SUMIF($D$35:$D$39,Q33,$H$35:$H$39)+SUMIF($D$45:$D$54,Q33,$H$45:$H$54)+SUMIF($D$59:$D$63,Q33,$H$59:$H$63)+SUMIF($D$69:$D$78,Q33,$H$69:$H$78)+SUMIF($D$83:$D$87,Q33,$H$83:$H$87)+SUMIF($D$93:$D$102,Q33,$H$93:$H$102)+SUMIF($D$107:$D$111,Q33,$H$107:$H$111)+SUMIF($D$117:$D$126,Q33,$H$117:$H$126)+SUMIF($D$131:$D$135,Q33,$H$131:$H$135)+SUMIF($D$141:$D$150,Q33,$H$141:$H$150)+SUMIF($D$155:$D$159,Q33,$H$155:$H$159)+SUMIF($D$165:$D$174,Q33,$H$165:$H$174)+SUMIF($D$179:$D$183,Q33,$H$179:$H$183) -> 0
A34: 所要時間1時間以上2時間未満の場合 | B34: 被保険者番号 | C34: 被保険者氏名 | D34: 地区名 | E34: 事業所から 利用者宅までの 距離（km） | F34: 事業所から 利用者宅までの 所要時間（分） | G34: 要介護度 | H34: サービス 提供回数 ※片道のみ | I34: 基本報酬 （月単位数） | J34: 基準額(月) | R34: =COUNTIF($D$21:$D$30,Q34)+COUNTIF($D$35:$D$39,Q34)+COUNTIF($D$45:$D$54,Q34)+COUNTIF($D$59:$D$63,Q34)+COUNTIF($D$69:$D$78,Q34)+COUNTIF($D$83:$D$87,Q34)+COUNTIF($D$93:$D$102,Q34)+COUNTIF($D$107:$D$111,Q34)+COUNTIF($D$117:$D$126,Q34)+COUNTIF($D$131:$D$135,Q34)+COUNTIF($D$141:$D$150,Q34)+COUNTIF($D$155:$D$159,Q34)+COUNTIF($D$165:$D$174,Q34)+COUNTIF($D$179:$D$183,Q34) -> 0 | S34: =SUMIF($D$21:$D$30,Q34,$H$21:$H$30)+SUMIF($D$35:$D$39,Q34,$H$35:$H$39)+SUMIF($D$45:$D$54,Q34,$H$45:$H$54)+SUMIF($D$59:$D$63,Q34,$H$59:$H$63)+SUMIF($D$69:$D$78,Q34,$H$69:$H$78)+SUMIF($D$83:$D$87,Q34,$H$83:$H$87)+SUMIF($D$93:$D$102,Q34,$H$93:$H$102)+SUMIF($D$107:$D$111,Q34,$H$107:$H$111)+SUMIF($D$117:$D$126,Q34,$H$117:$H$126)+SUMIF($D$131:$D$135,Q34,$H$131:$H$135)+SUMIF($D$141:$D$150,Q34,$H$141:$H$150)+SUMIF($D$155:$D$159,Q34,$H$155:$H$159)+SUMIF($D$165:$D$174,Q34,$H$165:$H$174)+SUMIF($D$179:$D$183,Q34,$H$179:$H$183) -> 0
I35: =IF(AND(B35<>"",C35<>"",D35<>"",E35<>"",F35<>"",G35<>"",H35<>""),VLOOKUP(G35,通所リハビリテーション費!$A$20:$B$24,2,0),0) -> 0 | J35: =((I35*H35)*0.1*10)/2 -> 0 | R35: =COUNTIF($D$21:$D$30,Q35)+COUNTIF($D$35:$D$39,Q35)+COUNTIF($D$45:$D$54,Q35)+COUNTIF($D$59:$D$63,Q35)+COUNTIF($D$69:$D$78,Q35)+COUNTIF($D$83:$D$87,Q35)+COUNTIF($D$93:$D$102,Q35)+COUNTIF($D$107:$D$111,Q35)+COUNTIF($D$117:$D$126,Q35)+COUNTIF($D$131:$D$135,Q35)+COUNTIF($D$141:$D$150,Q35)+COUNTIF($D$155:$D$159,Q35)+COUNTIF($D$165:$D$174,Q35)+COUNTIF($D$179:$D$183,Q35) -> 0 | S35: =SUMIF($D$21:$D$30,Q35,$H$21:$H$30)+SUMIF($D$35:$D$39,Q35,$H$35:$H$39)+SUMIF($D$45:$D$54,Q35,$H$45:$H$54)+SUMIF($D$59:$D$63,Q35,$H$59:$H$63)+SUMIF($D$69:$D$78,Q35,$H$69:$H$78)+SUMIF($D$83:$D$87,Q35,$H$83:$H$87)+SUMIF($D$93:$D$102,Q35,$H$93:$H$102)+SUMIF($D$107:$D$111,Q35,$H$107:$H$111)+SUMIF($D$117:$D$126,Q35,$H$117:$H$126)+SUMIF($D$131:$D$135,Q35,$H$131:$H$135)+SUMIF($D$141:$D$150,Q35,$H$141:$H$150)+SUMIF($D$155:$D$159,Q35,$H$155:$H$159)+SUMIF($D$165:$D$174,Q35,$H$165:$H$174)+SUMIF($D$179:$D$183,Q35,$H$179:$H$183) -> 0
I36: =IF(AND(B36<>"",C36<>"",D36<>"",E36<>"",F36<>"",G36<>"",H36<>""),VLOOKUP(G36,通所リハビリテーション費!$A$20:$B$24,2,0),0) -> 0 | J36: =((I36*H36)*0.1*10)/2 -> 0 | R36: =COUNTIF($D$21:$D$30,Q36)+COUNTIF($D$35:$D$39,Q36)+COUNTIF($D$45:$D$54,Q36)+COUNTIF($D$59:$D$63,Q36)+COUNTIF($D$69:$D$78,Q36)+COUNTIF($D$83:$D$87,Q36)+COUNTIF($D$93:$D$102,Q36)+COUNTIF($D$107:$D$111,Q36)+COUNTIF($D$117:$D$126,Q36)+COUNTIF($D$131:$D$135,Q36)+COUNTIF($D$141:$D$150,Q36)+COUNTIF($D$155:$D$159,Q36)+COUNTIF($D$165:$D$174,Q36)+COUNTIF($D$179:$D$183,Q36) -> 0 | S36: =SUMIF($D$21:$D$30,Q36,$H$21:$H$30)+SUMIF($D$35:$D$39,Q36,$H$35:$H$39)+SUMIF($D$45:$D$54,Q36,$H$45:$H$54)+SUMIF($D$59:$D$63,Q36,$H$59:$H$63)+SUMIF($D$69:$D$78,Q36,$H$69:$H$78)+SUMIF($D$83:$D$87,Q36,$H$83:$H$87)+SUMIF($D$93:$D$102,Q36,$H$93:$H$102)+SUMIF($D$107:$D$111,Q36,$H$107:$H$111)+SUMIF($D$117:$D$126,Q36,$H$117:$H$126)+SUMIF($D$131:$D$135,Q36,$H$131:$H$135)+SUMIF($D$141:$D$150,Q36,$H$141:$H$150)+SUMIF($D$155:$D$159,Q36,$H$155:$H$159)+SUMIF($D$165:$D$174,Q36,$H$165:$H$174)+SUMIF($D$179:$D$183,Q36,$H$179:$H$183) -> 0
