Workbook
Name サービス提供時間: #REF!
Name サービス提供時間1: #REF!
Name サービス提供時間2: #REF!
Name サービス提供時間3: #REF!
Name サービス提供時間4: #REF!
Name サービス提供時間5: #REF!
Name サービス提供時間6: #REF!
Name 介護度: #REF!

Sheet 基本情報入力シート
A2: 基 本 情 報 入 力 シ ー ト
A3: （通所介護事業所用、通常規模型通所介護費）
A4: 特別地域加算対象地域内に居住する利用者を対象に行う場合用
A6: 1.基本情報
A7: 事業者 | I7: フリガナ
I8: 名称
A9: 事業者 所在地 | I9: 〒 | Z9: -
I10: 住所１（番地・住居番号まで）
I11: 住所２（建物名等）
A12: 事業者 代表者 | I12: 職名
I13: 氏名
A14: 法人番号
A15: 書類作成 担当者 | I15: フリガナ
I16: 氏名
A17: 連絡先 | I17: 電話番号
I18: E-mail
A19: 事業所名
A20: 事業所所在地
A21: サービス種別 | V21: 通所介護
A22: 補助対象事業区分 | V22: 別表第1の1 区分1 移動に片道20分以上の時間を要するサービス（特別地域加算対象地域内に居住する利用者を対象に行う場合）

Sheet (附表１－３)年間実施計画
A1: 附表１－３ | H1: 令和 年 月 日 | U1: ① | W1: ② | Y1: ③ | AA1: ④ | AC1: ⑤ | AE1: ⑥ | AG1: 合計
A2: 吉備中央町長 様 | U2: 対象者人数 | V2: サービス 提供回数 | W2: 対象者人数 | X2: サービス 提供回数 | Y2: 対象者人数 | Z2: サービス 提供回数 | AA2: 対象者人数 | AB2: サービス 提供回数 | AC2: 対象者人数 | AD2: サービス 提供回数 | AE2: 対象者人数 | AF2: サービス 提供回数 | AG2: 対象者人数 | AH2: サービス 提供回数
T3: 広面 | U3: =COUNTIF($C$20:$C$54,$T3) -> 0 | V3: =SUMIF($C$20:$C$54,$T3,$G$20:$G$54) -> 0 | W3: =COUNTIF($C$59:$C$93,$T3) -> 0 | X3: =SUMIF($C$59:$C$93,$T3,$G$59:$G$93) -> 0 | Y3: =COUNTIF($C$98:$C$132,$T3) -> 0 | Z3: =SUMIF($C$98:$C$132,$T3,$G$98:$G$132) -> 0 | AA3: =COUNTIF($C$137:$C$171,$T3) -> 0 | AB3: =SUMIF($C$137:$C$171,T3,$G$137:$G$171) -> 0 | AC3: =COUNTIF($C$176:$C$210,T3) -> 0 | AD3: =SUMIF($C$176:$C$210,T3,$G$176:$G$210) -> 0 | AE3: =COUNTIF($C$215:$C$249,T3) -> 0 | AF3: =SUMIF($C$215:$C$249,T3,$G$215:$G$249) -> 0 | AG3: =SUM(U3,W3,Y3,AA3,AC3,AE3) -> 0 | AH3: =SUM(V3,X3,Z3,AB3,AD3,AF3) -> 0
A4: 年 間 実 施 計 画 （通所介護事業所用、通常規模型通所介護費） | T4: 上加茂 | U4: =COUNTIF($C$20:$C$54,T4) -> 0 | V4: =SUMIF($C$20:$C$54,T4,$G$20:$G$54) -> 0 | W4: =COUNTIF($C$59:$C$93,T4) -> 0 | X4: =SUMIF($C$59:$C$93,T4,$G$59:$G$93) -> 0 | Y4: =COUNTIF($C$98:$C$132,T4) -> 0 | Z4: =SUMIF($C$98:$C$132,$T4,$G$98:$G$132) -> 0 | AA4: =COUNTIF($C$137:$C$171,$T4) -> 0 | AB4: =SUMIF($C$137:$C$171,T4,$G$137:$G$171) -> 0 | AC4: =COUNTIF($C$176:$C$210,T4) -> 0 | AD4: =SUMIF($C$176:$C$210,T4,$G$176:$G$210) -> 0 | AE4: =COUNTIF($C$215:$C$249,T4) -> 0 | AF4: =SUMIF($C$215:$C$249,T4,$G$215:$G$249) -> 0 | AG4: =SUM(U4,W4,Y4,AA4,AC4,AE4) -> 0 | AH4: =SUM(V4,X4,Z4,AB4,AD4,AF4) -> 0
T5: 下加茂 | U5: =COUNTIF($C$20:$C$54,T5) -> 0 | V5: =SUMIF($C$20:$C$54,T5,$G$20:$G$54) -> 0 | W5: =COUNTIF($C$59:$C$93,T5) -> 0 | X5: =SUMIF($C$59:$C$93,T5,$G$59:$G$93) -> 0 | Y5: =COUNTIF($C$98:$C$132,T5) -> 0 | Z5: =SUMIF($C$98:$C$132,$T5,$G$98:$G$132) -> 0 | AA5: =COUNTIF($C$137:$C$171,$T5) -> 0 | AB5: =SUMIF($C$137:$C$171,T5,$G$137:$G$171) -> 0 | AC5: =COUNTIF($C$176:$C$210,T5) -> 0 | AD5: =SUMIF($C$176:$C$210,T5,$G$176:$G$210) -> 0 | AE5: =COUNTIF($C$215:$C$249,T5) -> 0 | AF5: =SUMIF($C$215:$C$249,T5,$G$215:$G$249) -> 0 | AG5: =SUM(U5,W5,Y5,AA5,AC5,AE5) -> 0 | AH5: =SUM(V5,X5,Z5,AB5,AD5,AF5) -> 0
A6: 1.事業所情報 | T6: 美原 | U6: =COUNTIF($C$20:$C$54,T6) -> 0 | V6: =SUMIF($C$20:$C$54,T6,$G$20:$G$54) -> 0 | W6: =COUNTIF($C$59:$C$93,T6) -> 0 | X6: =SUMIF($C$59:$C$93,T6,$G$59:$G$93) -> 0 | Y6: =COUNTIF($C$98:$C$132,T6) -> 0 | Z6: =SUMIF($C$98:$C$132,$T6,$G$98:$G$132) -> 0 | AA6: =COUNTIF($C$137:$C$171,$T6) -> 0 | AB6: =SUMIF($C$137:$C$171,T6,$G$137:$G$171) -> 0 | AC6: =COUNTIF($C$176:$C$210,T6) -> 0 | AD6: =SUMIF($C$176:$C$210,T6,$G$176:$G$210) -> 0 | AE6: =COUNTIF($C$215:$C$249,T6) -> 0 | AF6: =SUMIF($C$215:$C$249,T6,$G$215:$G$249) -> 0 | AG6: =SUM(U6,W6,Y6,AA6,AC6,AE6) -> 0 | AH6: =SUM(V6,X6,Z6,AB6,AD6,AF6) -> 0
A7: 事業者名 | B7: =IF(基本情報入力シート!V8="","",基本情報入力シート!V8) | T7: 加茂市場 | U7: =COUNTIF($C$20:$C$54,T7) -> 0 | V7: =SUMIF($C$20:$C$54,T7,$G$20:$G$54) -> 0 | W7: =COUNTIF($C$59:$C$93,T7) -> 0 | X7: =SUMIF($C$59:$C$93,T7,$G$59:$G$93) -> 0 | Y7: =COUNTIF($C$98:$C$132,T7) -> 0 | Z7: =SUMIF($C$98:$C$132,$T7,$G$98:$G$132) -> 0 | AA7: =COUNTIF($C$137:$C$171,$T7) -> 0 | AB7: =SUMIF($C$137:$C$171,T7,$G$137:$G$171) -> 0 | AC7: =COUNTIF($C$176:$C$210,T7) -> 0 | AD7: =SUMIF($C$176:$C$210,T7,$G$176:$G$210) -> 0 | AE7: =COUNTIF($C$215:$C$249,T7) -> 0 | AF7: =SUMIF($C$215:$C$249,T7,$G$215:$G$249) -> 0 | AG7: =SUM(U7,W7,Y7,AA7,AC7,AE7) -> 0 | AH7: =SUM(V7,X7,Z7,AB7,AD7,AF7) -> 0
A8: 事業所名 | B8: =IF(基本情報入力シート!V19="","",基本情報入力シート!V19) | T8: 高谷 | U8: =COUNTIF($C$20:$C$54,T8) -> 0 | V8: =SUMIF($C$20:$C$54,T8,$G$20:$G$54) -> 0 | W8: =COUNTIF($C$59:$C$93,T8) -> 0 | X8: =SUMIF($C$59:$C$93,T8,$G$59:$G$93) -> 0 | Y8: =COUNTIF($C$98:$C$132,T8) -> 0 | Z8: =SUMIF($C$98:$C$132,$T8,$G$98:$G$132) -> 0 | AA8: =COUNTIF($C$137:$C$171,$T8) -> 0 | AB8: =SUMIF($C$137:$C$171,T8,$G$137:$G$171) -> 0 | AC8: =COUNTIF($C$176:$C$210,T8) -> 0 | AD8: =SUMIF($C$176:$C$210,T8,$G$176:$G$210) -> 0 | AE8: =COUNTIF($C$215:$C$249,T8) -> 0 | AF8: =SUMIF($C$215:$C$249,T8,$G$215:$G$249) -> 0 | AG8: =SUM(U8,W8,Y8,AA8,AC8,AE8) -> 0 | AH8: =SUM(V8,X8,Z8,AB8,AD8,AF8) -> 0
A9: 事業所所在地 | B9: =IF(基本情報入力シート!V20="","",基本情報入力シート!V20) | T9: 平岡 | U9: =COUNTIF($C$20:$C$54,T9) -> 0 | V9: =SUMIF($C$20:$C$54,T9,$G$20:$G$54) -> 0 | W9: =COUNTIF($C$59:$C$93,T9) -> 0 | X9: =SUMIF($C$59:$C$93,T9,$G$59:$G$93) -> 0 | Y9: =COUNTIF($C$98:$C$132,T9) -> 0 | Z9: =SUMIF($C$98:$C$132,$T9,$G$98:$G$132) -> 0 | AA9: =COUNTIF($C$137:$C$171,$T9) -> 0 | AB9: =SUMIF($C$137:$C$171,T9,$G$137:$G$171) -> 0 | AC9: =COUNTIF($C$176:$C$210,T9) -> 0 | AD9: =SUMIF($C$176:$C$210,T9,$G$176:$G$210) -> 0 | AE9: =COUNTIF($C$215:$C$249,T9) -> 0 | AF9: =SUMIF($C$215:$C$249,T9,$G$215:$G$249) -> 0 | AG9: =SUM(U9,W9,Y9,AA9,AC9,AE9) -> 0 | AH9: =SUM(V9,X9,Z9,AB9,AD9,AF9) -> 0
A10: サービス種別 | B10: =IF(基本情報入力シート!V21="","",基本情報入力シート!V21) -> 通所介護 | T10: 上野 | U10: =COUNTIF($C$20:$C$54,T10) -> 0 | V10: =SUMIF($C$20:$C$54,T10,$G$20:$G$54) -> 0 | W10: =COUNTIF($C$59:$C$93,T10) -> 0 | X10: =SUMIF($C$59:$C$93,T10,$G$59:$G$93) -> 0 | Y10: =COUNTIF($C$98:$C$132,T10) -> 0 | Z10: =SUMIF($C$98:$C$132,$T10,$G$98:$G$132) -> 0 | AA10: =COUNTIF($C$137:$C$171,$T10) -> 0 | AB10: =SUMIF($C$137:$C$171,T10,$G$137:$G$171) -> 0 | AC10: =COUNTIF($C$176:$C$210,T10) -> 0 | AD10: =SUMIF($C$176:$C$210,T10,$G$176:$G$210) -> 0 | AE10: =COUNTIF($C$215:$C$249,T10) -> 0 | AF10: =SUMIF($C$215:$C$249,T10,$G$215:$G$249) -> 0 | AG10: =SUM(U10,W10,Y10,AA10,AC10,AE10) -> 0 | AH10: =SUM(V10,X10,Z10,AB10,AD10,AF10) -> 0
A11: 区分 | B11: =IF(基本情報入力シート!V22="","",基本情報入力シート!V22) -> 別表第1の1 区分1 移動に片道20分以上の時間を要するサービス（特別地域加算対象地域内に居住する利用者を対象に行う場合） | T11: 竹部 | U11: =COUNTIF($C$20:$C$54,T11) -> 0 | V11: =SUMIF($C$20:$C$54,T11,$G$20:$G$54) -> 0 | W11: =COUNTIF($C$59:$C$93,T11) -> 0 | X11: =SUMIF($C$59:$C$93,T11,$G$59:$G$93) -> 0 | Y11: =COUNTIF($C$98:$C$132,T11) -> 0 | Z11: =SUMIF($C$98:$C$132,$T11,$G$98:$G$132) -> 0 | AA11: =COUNTIF($C$137:$C$171,$T11) -> 0 | AB11: =SUMIF($C$137:$C$171,T11,$G$137:$G$171) -> 0 | AC11: =COUNTIF($C$176:$C$210,T11) -> 0 | AD11: =SUMIF($C$176:$C$210,T11,$G$176:$G$210) -> 0 | AE11: =COUNTIF($C$215:$C$249,T11) -> 0 | AF11: =SUMIF($C$215:$C$249,T11,$G$215:$G$249) -> 0 | AG11: =SUM(U11,W11,Y11,AA11,AC11,AE11) -> 0 | AH11: =SUM(V11,X11,Z11,AB11,AD11,AF11) -> 0
A12: 加算区分 | B12: 通常規模型通所介護費 | T12: 上田東 | U12: =COUNTIF($C$20:$C$54,T12) -> 0 | V12: =SUMIF($C$20:$C$54,T12,$G$20:$G$54) -> 0 | W12: =COUNTIF($C$59:$C$93,T12) -> 0 | X12: =SUMIF($C$59:$C$93,T12,$G$59:$G$93) -> 0 | Y12: =COUNTIF($C$98:$C$132,T12) -> 0 | Z12: =SUMIF($C$98:$C$132,$T12,$G$98:$G$132) -> 0 | AA12: =COUNTIF($C$137:$C$171,$T12) -> 0 | AB12: =SUMIF($C$137:$C$171,T12,$G$137:$G$171) -> 0 | AC12: =COUNTIF($C$176:$C$210,T12) -> 0 | AD12: =SUMIF($C$176:$C$210,T12,$G$176:$G$210) -> 0 | AE12: =COUNTIF($C$215:$C$249,T12) -> 0 | AF12: =SUMIF($C$215:$C$249,T12,$G$215:$G$249) -> 0 | AG12: =SUM(U12,W12,Y12,AA12,AC12,AE12) -> 0 | AH12: =SUM(V12,X12,Z12,AB12,AD12,AF12) -> 0
T13: 細田 | U13: =COUNTIF($C$20:$C$54,T13) -> 0 | V13: =SUMIF($C$20:$C$54,T13,$G$20:$G$54) -> 0 | W13: =COUNTIF($C$59:$C$93,T13) -> 0 | X13: =SUMIF($C$59:$C$93,T13,$G$59:$G$93) -> 0 | Y13: =COUNTIF($C$98:$C$132,T13) -> 0 | Z13: =SUMIF($C$98:$C$132,$T13,$G$98:$G$132) -> 0 | AA13: =COUNTIF($C$137:$C$171,$T13) -> 0 | AB13: =SUMIF($C$137:$C$171,T13,$G$137:$G$171) -> 0 | AC13: =COUNTIF($C$176:$C$210,T13) -> 0 | AD13: =SUMIF($C$176:$C$210,T13,$G$176:$G$210) -> 0 | AE13: =COUNTIF($C$215:$C$249,T13) -> 0 | AF13: =SUMIF($C$215:$C$249,T13,$G$215:$G$249) -> 0 | AG13: =SUM(U13,W13,Y13,AA13,AC13,AE13) -> 0 | AH13: =SUM(V13,X13,Z13,AB13,AD13,AF13) -> 0
T14: 三納谷 | U14: =COUNTIF($C$20:$C$54,T14) -> 0 | V14: =SUMIF($C$20:$C$54,T14,$G$20:$G$54) -> 0 | W14: =COUNTIF($C$59:$C$93,T14) -> 0 | X14: =SUMIF($C$59:$C$93,T14,$G$59:$G$93) -> 0 | Y14: =COUNTIF($C$98:$C$132,T14) -> 0 | Z14: =SUMIF($C$98:$C$132,$T14,$G$98:$G$132) -> 0 | AA14: =COUNTIF($C$137:$C$171,$T14) -> 0 | AB14: =SUMIF($C$137:$C$171,T14,$G$137:$G$171) -> 0 | AC14: =COUNTIF($C$176:$C$210,T14) -> 0 | AD14: =SUMIF($C$176:$C$210,T14,$G$176:$G$210) -> 0 | AE14: =COUNTIF($C$215:$C$249,T14) -> 0 | AF14: =SUMIF($C$215:$C$249,T14,$G$215:$G$249) -> 0 | AG14: =SUM(U14,W14,Y14,AA14,AC14,AE14) -> 0 | AH14: =SUM(V14,X14,Z14,AB14,AD14,AF14) -> 0
T15: 上田西 | U15: =COUNTIF($C$20:$C$54,T15) -> 0 | V15: =SUMIF($C$20:$C$54,T15,$G$20:$G$54) -> 0 | W15: =COUNTIF($C$59:$C$93,T15) -> 0 | X15: =SUMIF($C$59:$C$93,T15,$G$59:$G$93) -> 0 | Y15: =COUNTIF($C$98:$C$132,T15) -> 0 | Z15: =SUMIF($C$98:$C$132,$T15,$G$98:$G$132) -> 0 | AA15: =COUNTIF($C$137:$C$171,$T15) -> 0 | AB15: =SUMIF($C$137:$C$171,T15,$G$137:$G$171) -> 0 | AC15: =COUNTIF($C$176:$C$210,T15) -> 0 | AD15: =SUMIF($C$176:$C$210,T15,$G$176:$G$210) -> 0 | AE15: =COUNTIF($C$215:$C$249,T15) -> 0 | AF15: =SUMIF($C$215:$C$249,T15,$G$215:$G$249) -> 0 | AG15: =SUM(U15,W15,Y15,AA15,AC15,AE15) -> 0 | AH15: =SUM(V15,X15,Z15,AB15,AD15,AF15) -> 0
T16: 円城 | U16: =COUNTIF($C$20:$C$54,T16) -> 0 | V16: =SUMIF($C$20:$C$54,T16,$G$20:$G$54) -> 0 | W16: =COUNTIF($C$59:$C$93,T16) -> 0 | X16: =SUMIF($C$59:$C$93,T16,$G$59:$G$93) -> 0 | Y16: =COUNTIF($C$98:$C$132,T16) -> 0 | Z16: =SUMIF($C$98:$C$132,$T16,$G$98:$G$132) -> 0 | AA16: =COUNTIF($C$137:$C$171,$T16) -> 0 | AB16: =SUMIF($C$137:$C$171,T16,$G$137:$G$171) -> 0 | AC16: =COUNTIF($C$176:$C$210,T16) -> 0 | AD16: =SUMIF($C$176:$C$210,T16,$G$176:$G$210) -> 0 | AE16: =COUNTIF($C$215:$C$249,T16) -> 0 | AF16: =SUMIF($C$215:$C$249,T16,$G$215:$G$249) -> 0 | AG16: =SUM(U16,W16,Y16,AA16,AC16,AE16) -> 0 | AH16: =SUM(V16,X16,Z16,AB16,AD16,AF16) -> 0
A17: 2.年間実施計画明細 | T17: 案田 | U17: =COUNTIF($C$20:$C$54,T17) -> 0 | V17: =SUMIF($C$20:$C$54,T17,$G$20:$G$54) -> 0 | W17: =COUNTIF($C$59:$C$93,T17) -> 0 | X17: =SUMIF($C$59:$C$93,T17,$G$59:$G$93) -> 0 | Y17: =COUNTIF($C$98:$C$132,T17) -> 0 | Z17: =SUMIF($C$98:$C$132,$T17,$G$98:$G$132) -> 0 | AA17: =COUNTIF($C$137:$C$171,$T17) -> 0 | AB17: =SUMIF($C$137:$C$171,T17,$G$137:$G$171) -> 0 | AC17: =COUNTIF($C$176:$C$210,T17) -> 0 | AD17: =SUMIF($C$176:$C$210,T17,$G$176:$G$210) -> 0 | AE17: =COUNTIF($C$215:$C$249,T17) -> 0 | AF17: =SUMIF($C$215:$C$249,T17,$G$215:$G$249) -> 0 | AG17: =SUM(U17,W17,Y17,AA17,AC17,AE17) -> 0 | AH17: =SUM(V17,X17,Z17,AB17,AD17,AF17) -> 0
A18: （1）所要時間3時間以上4時間未満の場合 | T18: 高富 | U18: =COUNTIF($C$20:$C$54,T18) -> 0 | V18: =SUMIF($C$20:$C$54,T18,$G$20:$G$54) -> 0 | W18: =COUNTIF($C$59:$C$93,T18) -> 0 | X18: =SUMIF($C$59:$C$93,T18,$G$59:$G$93) -> 0 | Y18: =COUNTIF($C$98:$C$132,T18) -> 0 | Z18: =SUMIF($C$98:$C$132,$T18,$G$98:$G$132) -> 0 | AA18: =COUNTIF($C$137:$C$171,$T18) -> 0 | AB18: =SUMIF($C$137:$C$171,T18,$G$137:$G$171) -> 0 | AC18: =COUNTIF($C$176:$C$210,T18) -> 0 | AD18: =SUMIF($C$176:$C$210,T18,$G$176:$G$210) -> 0 | AE18: =COUNTIF($C$215:$C$249,T18) -> 0 | AF18: =SUMIF($C$215:$C$249,T18,$G$215:$G$249) -> 0 | AG18: =SUM(U18,W18,Y18,AA18,AC18,AE18) -> 0 | AH18: =SUM(V18,X18,Z18,AB18,AD18,AF18) -> 0
A19: 被保険者番号 | B19: 被保険者氏名 | C19: 地区名 | D19: 事業所から 利用者宅までの 距離（km） | E19: 事業所から 利用者宅までの 所要時間（分） | F19: 要介護度 | G19: 月間予定回数 (月平均回数) | H19: 基本報酬 （月単位数） | I19: 基準額(月) | J19: 基準額(年) | T19: 神瀬 | U19: =COUNTIF($C$20:$C$54,T19) -> 0 | V19: =SUMIF($C$20:$C$54,T19,$G$20:$G$54) -> 0 | W19: =COUNTIF($C$59:$C$93,T19) -> 0 | X19: =SUMIF($C$59:$C$93,T19,$G$59:$G$93) -> 0 | Y19: =COUNTIF($C$98:$C$132,T19) -> 0 | Z19: =SUMIF($C$98:$C$132,$T19,$G$98:$G$132) -> 0 | AA19: =COUNTIF($C$137:$C$171,$T19) -> 0 | AB19: =SUMIF($C$137:$C$171,T19,$G$137:$G$171) -> 0 | AC19: =COUNTIF($C$176:$C$210,T19) -> 0 | AD19: =SUMIF($C$176:$C$210,T19,$G$176:$G$210) -> 0 | AE19: =COUNTIF($C$215:$C$249,T19) -> 0 | AF19: =SUMIF($C$215:$C$249,T19,$G$215:$G$249) -> 0 | AG19: =SUM(U19,W19,Y19,AA19,AC19,AE19) -> 0 | AH19: =SUM(V19,X19,Z19,AB19,AD19,AF19) -> 0
H20: =IF(AND(A20<>"",B20<>"",C20<>"",D20<>"",E20<>"",F20<>"",G20<>""),VLOOKUP(F20,通所介護費!$A$20:$B$24,2,0),0) -> 0 | I20: =(H20*G20)*0.1*10 -> 0 | J20: =I20*12 -> 0 | T20: 小森 | U20: =COUNTIF($C$20:$C$54,T20) -> 0 | V20: =SUMIF($C$20:$C$54,T20,$G$20:$G$54) -> 0 | W20: =COUNTIF($C$59:$C$93,T20) -> 0 | X20: =SUMIF($C$59:$C$93,T20,$G$59:$G$93) -> 0 | Y20: =COUNTIF($C$98:$C$132,T20) -> 0 | Z20: =SUMIF($C$98:$C$132,$T20,$G$98:$G$132) -> 0 | AA20: =COUNTIF($C$137:$C$171,$T20) -> 0 | AB20: =SUMIF($C$137:$C$171,T20,$G$137:$G$171) -> 0 | AC20: =COUNTIF($C$176:$C$210,T20) -> 0 | AD20: =SUMIF($C$176:$C$210,T20,$G$176:$G$210) -> 0 | AE20: =COUNTIF($C$215:$C$249,T20) -> 0 | AF20: =SUMIF($C$215:$C$249,T20,$G$215:$G$249) -> 0 | AG20: =SUM(U20,W20,Y20,AA20,AC20,AE20) -> 0 | AH20: =SUM(V20,X20,Z20,AB20,AD20,AF20) -> 0
H21: =IF(AND(A21<>"",B21<>"",C21<>"",D21<>"",E21<>"",F21<>"",G21<>""),VLOOKUP(F21,通所介護費!$A$20:$B$24,2,0),0) -> 0 | I21: =(H21*G21)*0.1*10 -> 0 | J21: =I21*12 -> 0 | T21: 尾原 | U21: =COUNTIF($C$20:$C$54,T21) -> 0 | V21: =SUMIF($C$20:$C$54,T21,$G$20:$G$54) -> 0 | W21: =COUNTIF($C$59:$C$93,T21) -> 0 | X21: =SUMIF($C$59:$C$93,T21,$G$59:$G$93) -> 0 | Y21: =COUNTIF($C$98:$C$132,T21) -> 0 | Z21: =SUMIF($C$98:$C$132,$T21,$G$98:$G$132) -> 0 | AA21: =COUNTIF($C$137:$C$171,$T21) -> 0 | AB21: =SUMIF($C$137:$C$171,T21,$G$137:$G$171) -> 0 | AC21: =COUNTIF($C$176:$C$210,T21) -> 0 | AD21: =SUMIF($C$176:$C$210,T21,$G$176:$G$210) -> 0 | AE21: =COUNTIF($C$215:$C$249,T21) -> 0 | AF21: =SUMIF($C$215:$C$249,T21,$G$215:$G$249) -> 0 | AG21: =SUM(U21,W21,Y21,AA21,AC21,AE21) -> 0 | AH21: =SUM(V21,X21,Z21,AB21,AD21,AF21) -> 0
H22: =IF(AND(A22<>"",B22<>"",C22<>"",D22<>"",E22<>"",F22<>"",G22<>""),VLOOKUP(F22,通所介護費!$A$20:$B$24,2,0),0) -> 0 | I22: =(H22*G22)*0.1*10 -> 0 | J22: =I22*12 -> 0 | T22: 笹目 | U22: =COUNTIF($C$20:$C$54,T22) -> 0 | V22: =SUMIF($C$20:$C$54,T22,$G$20:$G$54) -> 0 | W22: =COUNTIF($C$59:$C$93,T22) -> 0 | X22: =SUMIF($C$59:$C$93,T22,$G$59:$G$93) -> 0 | Y22: =COUNTIF($C$98:$C$132,T22) -> 0 | Z22: =SUMIF($C$98:$C$132,$T22,$G$98:$G$132) -> 0 | AA22: =COUNTIF($C$137:$C$171,$T22) -> 0 | AB22: =SUMIF($C$137:$C$171,T22,$G$137:$G$171) -> 0 | AC22: =COUNTIF($C$176:$C$210,T22) -> 0 | AD22: =SUMIF($C$176:$C$210,T22,$G$176:$G$210) -> 0 | AE22: =COUNTIF($C$215:$C$249,T22) -> 0 | AF22: =SUMIF($C$215:$C$249,T22,$G$215:$G$249) -> 0 | AG22: =SUM(U22,W22,Y22,AA22,AC22,AE22) -> 0 | AH22: =SUM(V22,X22,Z22,AB22,AD22,AF22) -> 0
H23: =IF(AND(A23<>"",B23<>"",C23<>"",D23<>"",E23<>"",F23<>"",G23<>""),VLOOKUP(F23,通所介護費!$A$20:$B$24,2,0),0) -> 0 | I23: =(H23*G23)*0.1*10 -> 0 | J23: =I23*12 -> 0 | T23: 福沢 | U23: =COUNTIF($C$20:$C$54,T23) -> 0 | V23: =SUMIF($C$20:$C$54,T23,$G$20:$G$54) -> 0 | W23: =COUNTIF($C$59:$C$93,T23) -> 0 | X23: =SUMIF($C$59:$C$93,T23,$G$59:$G$93) -> 0 | Y23: =COUNTIF($C$98:$C$132,T23) -> 0 | Z23: =SUMIF($C$98:$C$132,$T23,$G$98:$G$132) -> 0 | AA23: =COUNTIF($C$137:$C$171,$T23) -> 0 | AB23: =SUMIF($C$137:$C$171,T23,$G$137:$G$171) -> 0 | AC23: =COUNTIF($C$176:$C$210,T23) -> 0 | AD23: =SUMIF($C$176:$C$210,T23,$G$176:$G$210) -> 0 | AE23: =COUNTIF($C$215:$C$249,T23) -> 0 | AF23: =SUMIF($C$215:$C$249,T23,$G$215:$G$249) -> 0 | AG23: =SUM(U23,W23,Y23,AA23,AC23,AE23) -> 0 | AH23: =SUM(V23,X23,Z23,AB23,AD23,AF23) -> 0
H24: =IF(AND(A24<>"",B24<>"",C24<>"",D24<>"",E24<>"",F24<>"",G24<>""),VLOOKUP(F24,通所介護費!$A$20:$B$24,2,0),0) -> 0 | I24: =(H24*G24)*0.1*10 -> 0 | J24: =I24*12 -> 0 | T24: 溝部 | U24: =COUNTIF($C$20:$C$54,T24) -> 0 | V24: =SUMIF($C$20:$C$54,T24,$G$20:$G$54) -> 0 | W24: =COUNTIF($C$59:$C$93,T24) -> 0 | X24: =SUMIF($C$59:$C$93,T24,$G$59:$G$93) -> 0 | Y24: =COUNTIF($C$98:$C$132,T24) -> 0 | Z24: =SUMIF($C$98:$C$132,$T24,$G$98:$G$132) -> 0 | AA24: =COUNTIF($C$137:$C$171,$T24) -> 0 | AB24: =SUMIF($C$137:$C$171,T24,$G$137:$G$171) -> 0 | AC24: =COUNTIF($C$176:$C$210,T24) -> 0 | AD24: =SUMIF($C$176:$C$210,T24,$G$176:$G$210) -> 0 | AE24: =COUNTIF($C$215:$C$249,T24) -> 0 | AF24: =SUMIF($C$215:$C$249,T24,$G$215:$G$249) -> 0 | AG24: =SUM(U24,W24,Y24,AA24,AC24,AE24) -> 0 | AH24: =SUM(V24,X24,Z24,AB24,AD24,AF24) -> 0
H25: =IF(AND(A25<>"",B25<>"",C25<>"",D25<>"",E25<>"",F25<>"",G25<>""),VLOOKUP(F25,通所介護費!$A$20:$B$24,2,0),0) -> 0 | I25: =(H25*G25)*0.1*10 -> 0 | J25: =I25*12 -> 0 | U25: =COUNTIF($C$20:$C$54,T25) -> 0 | V25: =SUMIF($C$20:$C$54,T25,$G$20:$G$54) -> 0 | W25: =COUNTIF($C$59:$C$93,T25) -> 0 | X25: =SUMIF($C$59:$C$93,T25,$G$59:$G$93) -> 0 | Y25: =COUNTIF($C$98:$C$132,T25) -> 0 | Z25: =SUMIF($C$98:$C$132,$T25,$G$98:$G$132) -> 0 | AA25: =COUNTIF($C$137:$C$171,$T25) -> 0 | AB25: =SUMIF($C$137:$C$171,T25,$G$137:$G$171) -> 0 | AC25: =COUNTIF($C$176:$C$210,T25) -> 0 | AD25: =SUMIF($C$176:$C$210,T25,$G$176:$G$210) -> 0 | AE25: =COUNTIF($C$215:$C$249,T25) -> 0 | AF25: =SUMIF($C$215:$C$249,T25,$G$215:$G$249) -> 0 | AG25: =SUM(U25,W25,Y25,AA25,AC25,AE25) -> 0 | AH25: =SUM(V25,X25,Z25,AB25,AD25,AF25) -> 0
H26: =IF(AND(A26<>"",B26<>"",C26<>"",D26<>"",E26<>"",F26<>"",G26<>""),VLOOKUP(F26,通所介護費!$A$20:$B$24,2,0),0) -> 0 | I26: =(H26*G26)*0.1*10 -> 0 | J26: =I26*12 -> 0 | U26: =COUNTIF($C$20:$C$54,T26) -> 0 | V26: =SUMIF($C$20:$C$54,T26,$G$20:$G$54) -> 0 | W26: =COUNTIF($C$59:$C$93,T26) -> 0 | X26: =SUMIF($C$59:$C$93,T26,$G$59:$G$93) -> 0 | Y26: =COUNTIF($C$98:$C$132,T26) -> 0 | Z26: =SUMIF($C$98:$C$132,$T26,$G$98:$G$132) -> 0 | AA26: =COUNTIF($C$137:$C$171,$T26) -> 0 | AB26: =SUMIF($C$137:$C$171,T26,$G$137:$G$171) -> 0 | AC26: =COUNTIF($C$176:$C$210,T26) -> 0 | AD26: =SUMIF($C$176:$C$210,T26,$G$176:$G$210) -> 0 | AE26: =COUNTIF($C$215:$C$249,T26) -> 0 | AF26: =SUMIF($C$215:$C$249,T26,$G$215:$G$249) -> 0 | AG26: =SUM(U26,W26,Y26,AA26,AC26,AE26) -> 0 | AH26: =SUM(V26,X26,Z26,AB26,AD26,AF26) -> 0
H27: =IF(AND(A27<>"",B27<>"",C27<>"",D27<>"",E27<>"",F27<>"",G27<>""),VLOOKUP(F27,通所介護費!$A$20:$B$24,2,0),0) -> 0 | I27: =(H27*G27)*0.1*10 -> 0 | J27: =I27*12 -> 0 | U27: =COUNTIF($C$20:$C$54,T27) -> 0 | V27: =SUMIF($C$20:$C$54,T27,$G$20:$G$54) -> 0 | W27: =COUNTIF($C$59:$C$93,T27) -> 0 | X27: =SUMIF($C$59:$C$93,T27,$G$59:$G$93) -> 0 | Y27: =COUNTIF($C$98:$C$132,T27) -> 0 | Z27: =SUMIF($C$98:$C$132,$T27,$G$98:$G$132) -> 0 | AA27: =COUNTIF($C$137:$C$171,$T27) -> 0 | AB27: =SUMIF($C$137:$C$171,T27,$G$137:$G$171) -> 0 | AC27: =COUNTIF($C$176:$C$210,T27) -> 0 | AD27: =SUMIF($C$176:$C$210,T27,$G$176:$G$210) -> 0 | AE27: =COUNTIF($C$215:$C$249,T27) -> 0 | AF27: =SUMIF($C$215:$C$249,T27,$G$215:$G$249) -> 0 | AG27: =SUM(U27,W27,Y27,AA27,AC27,AE27) -> 0 | AH27: =SUM(V27,X27,Z27,AB27,AD27,AF27) -> 0
H28: =IF(AND(A28<>"",B28<>"",C28<>"",D28<>"",E28<>"",F28<>"",G28<>""),VLOOKUP(F28,通所介護費!$A$20:$B$24,2,0),0) -> 0 | I28: =(H28*G28)*0.1*10 -> 0 | J28: =I28*12 -> 0 | U28: =COUNTIF($C$20:$C$54,T28) -> 0 | V28: =SUMIF($C$20:$C$54,T28,$G$20:$G$54) -> 0 | W28: =COUNTIF($C$59:$C$93,T28) -> 0 | X28: =SUMIF($C$59:$C$93,T28,$G$59:$G$93) -> 0 | Y28: =COUNTIF($C$98:$C$132,T28) -> 0 | Z28: =SUMIF($C$98:$C$132,$T28,$G$98:$G$132) -> 0 | AA28: =COUNTIF($C$137:$C$171,$T28) -> 0 | AB28: =SUMIF($C$137:$C$171,T28,$G$137:$G$171) -> 0 | AC28: =COUNTIF($C$176:$C$210,T28) -> 0 | AD28: =SUMIF($C$176:$C$210,T28,$G$176:$G$210) -> 0 | AE28: =COUNTIF($C$215:$C$249,T28) -> 0 | AF28: =SUMIF($C$215:$C$249,T28,$G$215:$G$249) -> 0 | AG28: =SUM(U28,W28,Y28,AA28,AC28,AE28) -> 0 | AH28: =SUM(V28,X28,Z28,AB28,AD28,AF28) -> 0
H29: =IF(AND(A29<>"",B29<>"",C29<>"",D29<>"",E29<>"",F29<>"",G29<>""),VLOOKUP(F29,通所介護費!$A$20:$B$24,2,0),0) -> 0 | I29: =(H29*G29)*0.1*10 -> 0 | J29: =I29*12 -> 0 | U29: =COUNTIF($C$20:$C$54,T29) -> 0 | V29: =SUMIF($C$20:$C$54,T29,$G$20:$G$54) -> 0 | W29: =COUNTIF($C$59:$C$93,T29) -> 0 | X29: =SUMIF($C$59:$C$93,T29,$G$59:$G$93) -> 0 | Y29: =COUNTIF($C$98:$C$132,T29) -> 0 | Z29: =SUMIF($C$98:$C$132,$T29,$G$98:$G$132) -> 0 | AA29: =COUNTIF($C$137:$C$171,$T29) -> 0 | AB29: =SUMIF($C$137:$C$171,T29,$G$137:$G$171) -> 0 | AC29: =COUNTIF($C$176:$C$210,T29) -> 0 | AD29: =SUMIF($C$176:$C$210,T29,$G$176:$G$210) -> 0 | AE29: =COUNTIF($C$215:$C$249,T29) -> 0 | AF29: =SUMIF($C$215:$C$249,T29,$G$215:$G$249) -> 0 | AG29: =SUM(U29,W29,Y29,AA29,AC29,AE29) -> 0 | AH29: =SUM(V29,X29,Z29,AB29,AD29,AF29) -> 0
H30: =IF(AND(A30<>"",B30<>"",C30<>"",D30<>"",E30<>"",F30<>"",G30<>""),VLOOKUP(F30,通所介護費!$A$20:$B$24,2,0),0) -> 0 | I30: =(H30*G30)*0.1*10 -> 0 | J30: =I30*12 -> 0 | U30: =COUNTIF($C$20:$C$54,T30) -> 0 | V30: =SUMIF($C$20:$C$54,T30,$G$20:$G$54) -> 0 | W30: =COUNTIF($C$59:$C$93,T30) -> 0 | X30: =SUMIF($C$59:$C$93,T30,$G$59:$G$93) -> 0 | Y30: =COUNTIF($C$98:$C$132,T30) -> 0 | Z30: =SUMIF($C$98:$C$132,$T30,$G$98:$G$132) -> 0 | AA30: =COUNTIF($C$137:$C$171,$T30) -> 0 | AB30: =SUMIF($C$137:$C$171,T30,$G$137:$G$171) -> 0 | AC30: =COUNTIF($C$176:$C$210,T30) -> 0 | AD30: =SUMIF($C$176:$C$210,T30,$G$176:$G$210) -> 0 | AE30: =COUNTIF($C$215:$C$249,T30) -> 0 | AF30: =SUMIF($C$215:$C$249,T30,$G$215:$G$249) -> 0 | AG30: =SUM(U30,W30,Y30,AA30,AC30,AE30) -> 0 | AH30: =SUM(V30,X30,Z30,AB30,AD30,AF30) -> 0
H31: =IF(AND(A31<>"",B31<>"",C31<>"",D31<>"",E31<>"",F31<>"",G31<>""),VLOOKUP(F31,通所介護費!$A$20:$B$24,2,0),0) -> 0 | I31: =(H31*G31)*0.1*10 -> 0 | J31: =I31*12 -> 0 | U31: =COUNTIF($C$20:$C$54,T31) -> 0 | V31: =SUMIF($C$20:$C$54,T31,$G$20:$G$54) -> 0 | W31: =COUNTIF($C$59:$C$93,T31) -> 0 | X31: =SUMIF($C$59:$C$93,T31,$G$59:$G$93) -> 0 | Y31: =COUNTIF($C$98:$C$132,T31) -> 0 | Z31: =SUMIF($C$98:$C$132,$T31,$G$98:$G$132) -> 0 | AA31: =COUNTIF($C$137:$C$171,$T31) -> 0 | AB31: =SUMIF($C$137:$C$171,T31,$G$137:$G$171) -> 0 | AC31: =COUNTIF($C$176:$C$210,T31) -> 0 | AD31: =SUMIF($C$176:$C$210,T31,$G$176:$G$210) -> 0 | AE31: =COUNTIF($C$215:$C$249,T31) -> 0 | AF31: =SUMIF($C$215:$C$249,T31,$G$215:$G$249) -> 0 | AG31: =SUM(U31,W31,Y31,AA31,AC31,AE31) -> 0 | AH31: =SUM(V31,X31,Z31,AB31,AD31,AF31) -> 0
H32: =IF(AND(A32<>"",B32<>"",C32<>"",D32<>"",E32<>"",F32<>"",G32<>""),VLOOKUP(F32,通所介護費!$A$20:$B$24,2,0),0) -> 0 | I32: =(H32*G32)*0.1*10 -> 0 | J32: =I32*12 -> 0 | U32: =COUNTIF($C$20:$C$54,T32) -> 0 | V32: =SUMIF($C$20:$C$54,T32,$G$20:$G$54) -> 0 | W32: =COUNTIF($C$59:$C$93,T32) -> 0 | X32: =SUMIF($C$59:$C$93,T32,$G$59:$G$93) -> 0 | Y32: =COUNTIF($C$98:$C$132,T32) -> 0 | Z32: =SUMIF($C$98:$C$132,$T32,$G$98:$G$132) -> 0 | AA32: =COUNTIF($C$137:$C$171,$T32) -> 0 | AB32: =SUMIF($C$137:$C$171,T32,$G$137:$G$171) -> 0 | AC32: =COUNTIF($C$176:$C$210,T32) -> 0 | AD32: =SUMIF($C$176:$C$210,T32,$G$176:$G$210) -> 0 | AE32: =COUNTIF($C$215:$C$249,T32) -> 0 | AF32: =SUMIF($C$215:$C$249,T32,$G$215:$G$249) -> 0 | AG32: =SUM(U32,W32,Y32,AA32,AC32,AE32) -> 0 | AH32: =SUM(V32,X32,Z32,AB32,AD32,AF32) -> 0
H33: =IF(AND(A33<>"",B33<>"",C33<>"",D33<>"",E33<>"",F33<>"",G33<>""),VLOOKUP(F33,通所介護費!$A$20:$B$24,2,0),0) -> 0 | I33: =(H33*G33)*0.1*10 -> 0 | J33: =I33*12 -> 0 | U33: =COUNTIF($C$20:$C$54,T33) -> 0 | V33: =SUMIF($C$20:$C$54,T33,$G$20:$G$54) -> 0 | W33: =COUNTIF($C$59:$C$93,T33) -> 0 | X33: =SUMIF($C$59:$C$93,T33,$G$59:$G$93) -> 0 | Y33: =COUNTIF($C$98:$C$132,T33) -> 0 | Z33: =SUMIF($C$98:$C$132,$T33,$G$98:$G$132) -> 0 | AA33: =COUNTIF($C$137:$C$171,$T33) -> 0 | AB33: =SUMIF($C$137:$C$171,T33,$G$137:$G$171) -> 0 | AC33: =COUNTIF($C$176:$C$210,T33) -> 0 | AD33: =SUMIF($C$176:$C$210,T33,$G$176:$G$210) -> 0 | AE33: =COUNTIF($C$215:$C$249,T33) -> 0 | AF33: =SUMIF($C$215:$C$249,T33,$G$215:$G$249) -> 0 | AG33: =SUM(U33,W33,Y33,AA33,AC33,AE33) -> 0 | AH33: =SUM(V33,X33,Z33,AB33,AD33,AF33) -> 0
H34: =IF(AND(A34<>"",B34<>"",C34<>"",D34<>"",E34<>"",F34<>"",G34<>""),VLOOKUP(F34,通所介護費!$A$20:$B$24,2,0),0) -> 0 | I34: =(H34*G34)*0.1*10 -> 0 | J34: =I34*12 -> 0 | U34: =COUNTIF($C$20:$C$54,T34) -> 0 | V34: =SUMIF($C$20:$C$54,T34,$G$20:$G$54) -> 0 | W34: =COUNTIF($C$59:$C$93,T34) -> 0 | X34: =SUMIF($C$59:$C$93,T34,$G$59:$G$93) -> 0 | Y34: =COUNTIF($C$98:$C$132,T34) -> 0 | Z34: =SUMIF($C$98:$C$132,$T34,$G$98:$G$132) -> 0 | AA34: =COUNTIF($C$137:$C$171,$T34) -> 0 | AB34: =SUMIF($C$137:$C$171,T34,$G$137:$G$171) -> 0 | AC34: =COUNTIF($C$176:$C$210,T34) -> 0 | AD34: =SUMIF($C$176:$C$210,T34,$G$176:$G$210) -> 0 | AE34: =COUNTIF($C$215:$C$249,T34) -> 0 | AF34: =SUMIF($C$215:$C$249,T34,$G$215:$G$249) -> 0 | AG34: =SUM(U34,W34,Y34,AA34,AC34,AE34) -> 0 | AH34: =SUM(V34,X34,Z34,AB34,AD34,AF34) -> 0
H35: =IF(AND(A35<>"",B35<>"",C35<>"",D35<>"",E35<>"",F35<>"",G35<>""),VLOOKUP(F35,通所介護費!$A$20:$B$24,2,0),0) -> 0 | I35: =(H35*G35)*0.1*10 -> 0 | J35: =I35*12 -> 0 | U35: =COUNTIF($C$20:$C$54,T35) -> 0 | V35: =SUMIF($C$20:$C$54,T35,$G$20:$G$54) -> 0 | W35: =COUNTIF($C$59:$C$93,T35) -> 0 | X35: =SUMIF($C$59:$C$93,T35,$G$59:$G$93) -> 0 | Y35: =COUNTIF($C$98:$C$132,T35) -> 0 | Z35: =SUMIF($C$98:$C$132,$T35,$G$98:$G$132) -> 0 | AA35: =COUNTIF($C$137:$C$171,$T35) -> 0 | AB35: =SUMIF($C$137:$C$171,T35,$G$137:$G$171) -> 0 | AC35: =COUNTIF($C$176:$C$210,T35) -> 0 | AD35: =SUMIF($C$176:$C$210,T35,$G$176:$G$210) -> 0 | AE35: =COUNTIF($C$215:$C$249,T35) -> 0 | AF35: =SUMIF($C$215:$C$249,T35,$G$215:$G$249) -> 0 | AG35: =SUM(U35,W35,Y35,AA35,AC35,AE35) -> 0 | AH35: =SUM(V35,X35,Z35,AB35,AD35,AF35) -> 0
H36: =IF(AND(A36<>"",B36<>"",C36<>"",D36<>"",E36<>"",F36<>"",G36<>""),VLOOKUP(F36,通所介護費!$A$20:$B$24,2,0),0) -> 0 | I36: =(H36*G36)*0.1*10 -> 0 | J36: =I36*12 -> 0 | U36: =COUNTIF($C$20:$C$54,T36) -> 0 | V36: =SUMIF($C$20:$C$54,T36,$G$20:$G$54) -> 0 | W36: =COUNTIF($C$59:$C$93,T36) -> 0 | X36: =SUMIF($C$59:$C$93,T36,$G$59:$G$93) -> 0 | Y36: =COUNTIF($C$98:$C$132,T36) -> 0 | Z36: =SUMIF($C$98:$C$132,$T36,$G$98:$G$132) -> 0 | AA36: =COUNTIF($C$137:$C$171,$T36) -> 0 | AB36: =SUMIF($C$137:$C$171,T36,$G$137:$G$171) -> 0 | AC36: =COUNTIF($C$176:$C$210,T36) -> 0 | AD36: =SUMIF($C$176:$C$210,T36,$G$176:$G$210) -> 0 | AE36: =COUNTIF($C$215:$C$249,T36) -> 0 | AF36: =SUMIF($C$215:$C$249,T36,$G$215:$G$249) -> 0 | AG36: =SUM(U36,W36,Y36,AA36,AC36,AE36) -> 0 | AH36: =SUM(V36,X36,Z36,AB36,AD36,AF36) -> 0
... H45: =IF(AND(A45<>"",B45<>"",C45<>"",D45<>"",E45<>"",F45<>"",G45<>""),VLOOKUP(F45,通所介護費!$A$20:$B$24,2,0),0) -> 0 | I45: =(H45*G45)*0.1*10 -> 0 | J45: =I45*12 -> 0 | U45: =COUNTIF($C$20:$C$54,T45) -> 0 | V45: =SUMIF($C$20:$C$54,T45,$G$20:$G$54) -> 0 | W45: =COUNTIF($C$59:$C$93,T45) -> 0 | X45: =SUMIF($C$59:$C$93,T45,$G$59:$G$93) -> 0 | Y45: =COUNTIF($C$98:$C$132,T45) -> 0 | Z45: =SUMIF($C$98:$C$132,$T45,$G$98:$G$132) -> 0 | AA45: =COUNTIF($C$137:$C$171,$T45) -> 0 | AB45: =SUMIF($C$137:$C$171,T45,$G$137:$G$171) -> 0 | AC45: =COUNTIF($C$176:$C$210,T45) -> 0 | AD45: =SUMIF($C$176:$C$210,T45,$G$176:$G$210) -> 0 | AE45: =COUNTIF($C$215:$C$249,T45) -> 0 | AF45: =SUMIF($C$215:$C$249,T45,$G$215:$G$249) -> 0 | AG45: =SUM(U45,W45,Y45,AA45,AC45,AE45) -> 0 | AH45: =SUM(V45,X45,Z45,AB45,AD45,AF45) -> 0
H46: =IF(AND(A46<>"",B46<>"",C46<>"",D46<>"",E46<>"",F46<>"",G46<>""),VLOOKUP(F46,通所介護費!$A$20:$B$24,2,0),0) -> 0 | I46: =(H46*G46)*0.1*10 -> 0 | J46: =I46*12 -> 0 | AG46: =SUM(AG3:AG45) -> 0 | AH46: =SUM(AH3:AH45) -> 0
H47: =IF(AND(A47<>"",B47<>"",C47<>"",D47<>"",E47<>"",F47<>"",G47<>""),VLOOKUP(F47,通所介護費!$A$20:$B$24,2,0),0) -> 0 | I47: =(H47*G47)*0.1*10 -> 0 | J47: =I47*12 -> 0
H48: =IF(AND(A48<>"",B48<>"",C48<>"",D48<>"",E48<>"",F48<>"",G48<>""),VLOOKUP(F48,通所介護費!$A$20:$B$24,2,0),0) -> 0 | I48: =(H48*G48)*0.1*10 -> 0 | J48: =I48*12 -> 0
H49: =IF(AND(A49<>"",B49<>"",C49<>"",D49<>"",E49<>"",F49<>"",G49<>""),VLOOKUP(F49,通所介護費!$A$20:$B$24,2,0),0) -> 0 | I49: =(H49*G49)*0.1*10 -> 0 | J49: =I49*12 -> 0
H50: =IF(AND(A50<>"",B50<>"",C50<>"",D50<>"",E50<>"",F50<>"",G50<>""),VLOOKUP(F50,通所介護費!$A$20:$B$24,2,0),0) -> 0 | I50: =(H50*G50)*0.1*10 -> 0 | J50: =I50*12 -> 0
H51: =IF(AND(A51<>"",B51<>"",C51<>"",D51<>"",E51<>"",F51<>"",G51<>""),VLOOKUP(F51,通所介護費!$A$20:$B$24,2,0),0) -> 0 | I51: =(H51*G51)*0.1*10 -> 0 | J51: =I51*12 -> 0
H52: =IF(AND(A52<>"",B52<>"",C52<>"",D52<>"",E52<>"",F52<>"",G52<>""),VLOOKUP(F52,通所介護費!$A$20:$B$24,2,0),0) -> 0 | I52: =(H52*G52)*0.1*10 -> 0 | J52: =I52*12 -> 0
H53: =IF(AND(A53<>"",B53<>"",C53<>"",D53<>"",E53<>"",F53<>"",G53<>""),VLOOKUP(F53,通所介護費!$A$20:$B$24,2,0),0) -> 0 | I53: =(H53*G53)*0.1*10 -> 0 | J53: =I53*12 -> 0
H54: =IF(AND(A54<>"",B54<>"",C54<>"",D54<>"",E54<>"",F54<>"",G54<>""),VLOOKUP(F54,通所介護費!$A$20:$B$24,2,0),0) -> 0 | I54: =(H54*G54)*0.1*10 -> 0 | J54: =I54*12 -> 0
A55: 合計 | G55: =SUMIF(G20:G54,"<>#N/A") -> 0 | H55: =SUMIF(H20:H54,"<>#N/A") -> 0 | I55: =SUMIF(I20:I54,"<>#N/A") -> 0 | J55: =SUMIF(J20:J54,"<>#N/A") -> 0
A57: （2）所要時間4時間以上5時間未満の場合
A58: 被保険者番号 | B58: 被保険者氏名 | C58: 地区名 | D58: 事業所から 利用者宅までの 距離（km） | E58: 事業所から 利用者宅までの 所要時間（分） | F58: 要介護度 | G58: 月間予定回数 (月平均回数) | H58: 基本報酬 （月単位数） | I58: 基準額(月) | J58: 基準額(年)
H59: =IF(AND(A59<>"",B59<>"",C59<>"",D59<>"",E59<>"",F59<>"",G59<>""),VLOOKUP(F59,通所介護費!$A$27:$B$31,2,0),0) -> 0 | I59: =(H59*G59)*0.1*10 -> 0 | J59: =I59*12 -> 0
H60: =IF(AND(A60<>"",B60<>"",C60<>"",D60<>"",E60<>"",F60<>"",G60<>""),VLOOKUP(F60,通所介護費!$A$27:$B$31,2,0),0) -> 0 | I60: =(H60*G60)*0.1*10 -> 0 | J60: =I60*12 -> 0
H61: =IF(AND(A61<>"",B61<>"",C61<>"",D61<>"",E61<>"",F61<>"",G61<>""),VLOOKUP(F61,通所介護費!$A$27:$B$31,2,0),0) -> 0 | I61: =(H61*G61)*0.1*10 -> 0 | J61: =I61*12 -> 0
H62: =IF(AND(A62<>"",B62<>"",C62<>"",D62<>"",E62<>"",F62<>"",G62<>""),VLOOKUP(F62,通所介護費!$A$27:$B$31,2,0),0) -> 0 | I62: =(H62*G62)*0.1*10 -> 0 | J62: =I62*12 -> 0
H63: =IF(AND(A63<>"",B63<>"",C63<>"",D63<>"",E63<>"",F63<>"",G63<>""),VLOOKUP(F63,通所介護費!$A$27:$B$31,2,0),0) -> 0 | I63: =(H63*G63)*0.1*10 -> 0 | J63: =I63*12 -> 0
H64: =IF(AND(A64<>"",B64<>"",C64<>"",D64<>"",E64<>"",F64<>"",G64<>""),VLOOKUP(F64,通所介護費!$A$27:$B$31,2,0),0) -> 0 | I64: =(H64*G64)*0.1*10 -> 0 | J64: =I64*12 -> 0
H65: =IF(AND(A65<>"",B65<>"",C65<>"",D65<>"",E65<>"",F65<>"",G65<>""),VLOOKUP(F65,通所介護費!$A$27:$B$31,2,0),0) -> 0 | I65: =(H65*G65)*0.1*10 -> 0 | J65: =I65*12 -> 0
H66: =IF(AND(A66<>"",B66<>"",C66<>"",D66<>"",E66<>"",F66<>"",G66<>""),VLOOKUP(F66,通所介護費!$A$27:$B$31,2,0),0) -> 0 | I66: =(H66*G66)*0.1*10 -> 0 | J66: =I66*12 -> 0
H67: =IF(AND(A67<>"",B67<>"",C67<>"",D67<>"",E67<>"",F67<>"",G67<>""),VLOOKUP(F67,通所介護費!$A$27:$B$31,2,0),0) -> 0 | I67: =(H67*G67)*0.1*10 -> 0 | J67: =I67*12 -> 0
H68: =IF(AND(A68<>"",B68<>"",C68<>"",D68<>"",E68<>"",F68<>"",G68<>""),VLOOKUP(F68,通所介護費!$A$27:$B$31,2,0),0) -> 0 | I68: =(H68*G68)*0.1*10 -> 0 | J68: =I68*12 -> 0
H69: =IF(AND(A69<>"",B69<>"",C69<>"",D69<>"",E69<>"",F69<>"",G69<>""),VLOOKUP(F69,通所介護費!$A$27:$B$31,2,0),0) -> 0 | I69: =(H69*G69)*0.1*10 -> 0 | J69: =I69*12 -> 0
H70: =IF(AND(A70<>"",B70<>"",C70<>"",D70<>"",E70<>"",F70<>"",G70<>""),VLOOKUP(F70,通所介護費!$A$27:$B$31,2,0),0) -> 0 | I70: =(H70*G70)*0.1*10 -> 0 | J70: =I70*12 -> 0
... H93: =IF(AND(A93<>"",B93<>"",C93<>"",D93<>"",E93<>"",F93<>"",G93<>""),VLOOKUP(F93,通所介護費!$A$27:$B$31,2,0),0) -> 0 | I93: =(H93*G93)*0.1*10 -> 0 | J93: =I93*12 -> 0
A94: 合計 | G94: =SUMIF(G59:G93,"<>#N/A") -> 0 | H94: =SUMIF(H59:H93,"<>#N/A") -> 0 | I94: =SUMIF(I59:I93,"<>#N/A") -> 0 | J94: =SUMIF(J59:J93,"<>#N/A") -> 0
A96: （3）所要時間5時間以上6時間未満の場合
A97: 被保険者番号 | B97: 被保険者氏名 | C97: 地区名 | D97: 事業所から 利用者宅までの 距離（km） | E97: 事業所から 利用者宅までの 所要時間（分） | F97: 要介護度 | G97: 月間予定回数 (月平均回数) | H97: 基本報酬 （月単位数） | I97: 基準額(月) | J97: 基準額(年)
H98: =IF(AND(A98<>"",B98<>"",C98<>"",D98<>"",E98<>"",F98<>"",G98<>""),VLOOKUP(F98,通所介護費!$A$34:$B$38,2,0),0) -> 0 | I98: =(H98*G98)*0.1*10 -> 0 | J98: =I98*12 -> 0
H99: =IF(AND(A99<>"",B99<>"",C99<>"",D99<>"",E99<>"",F99<>"",G99<>""),VLOOKUP(F99,通所介護費!$A$34:$B$38,2,0),0) -> 0 | I99: =(H99*G99)*0.1*10 -> 0 | J99: =I99*12 -> 0
H100: =IF(AND(A100<>"",B100<>"",C100<>"",D100<>"",E100<>"",F100<>"",G100<>""),VLOOKUP(F100,通所介護費!$A$34:$B$38,2,0),0) -> 0 | I100: =(H100*G100)*0.1*10 -> 0 | J100: =I100*12 -> 0
H101: =IF(AND(A101<>"",B101<>"",C101<>"",D101<>"",E101<>"",F101<>"",G101<>""),VLOOKUP(F101,通所介護費!$A$34:$B$38,2,0),0) -> 0 | I101: =(H101*G101)*0.1*10 -> 0 | J101: =I101*12 -> 0
H102: =IF(AND(A102<>"",B102<>"",C102<>"",D102<>"",E102<>"",F102<>"",G102<>""),VLOOKUP(F102,通所介護費!$A$34:$B$38,2,0),0) -> 0 | I102: =(H102*G102)*0.1*10 -> 0 | J102: =I102*12 -> 0
H103: =IF(AND(A103<>"",B103<>"",C103<>"",D103<>"",E103<>"",F103<>"",G103<>""),VLOOKUP(F103,通所介護費!$A$34:$B$38,2,0),0) -> 0 | I103: =(H103*G103)*0.1*10 -> 0 | J103: =I103*12 -> 0
H104: =IF(AND(A104<>"",B104<>"",C104<>"",D104<>"",E104<>"",F104<>"",G104<>""),VLOOKUP(F104,通所介護費!$A$34:$B$38,2,0),0) -> 0 | I104: =(H104*G104)*0.1*10 -> 0 | J104: =I104*12 -> 0
H105: =IF(AND(A105<>"",B105<>"",C105<>"",D105<>"",E105<>"",F105<>"",G105<>""),VLOOKUP(F105,通所介護費!$A$34:$B$38,2,0),0) -> 0 | I105: =(H105*G105)*0.1*10 -> 0 | J105: =I105*12 -> 0
H106: =IF(AND(A106<>"",B106<>"",C106<>"",D106<>"",E106<>"",F106<>"",G106<>""),VLOOKUP(F106,通所介護費!$A$34:$B$38,2,0),0) -> 0 | I106: =(H106*G106)*0.1*10 -> 0 | J106: =I106*12 -> 0
H107: =IF(AND(A107<>"",B107<>"",C107<>"",D107<>"",E107<>"",F107<>"",G107<>""),VLOOKUP(F107,通所介護費!$A$34:$B$38,2,0),0) -> 0 | I107: =(H107*G107)*0.1*10 -> 0 | J107: =I107*12 -> 0
H108: =IF(AND(A108<>"",B108<>"",C108<>"",D108<>"",E108<>"",F108<>"",G108<>""),VLOOKUP(F108,通所介護費!$A$34:$B$38,2,0),0) -> 0 | I108: =(H108*G108)*0.1*10 -> 0 | J108: =I108*12 -> 0
H109: =IF(AND(A109<>"",B109<>"",C109<>"",D109<>"",E109<>"",F109<>"",G109<>""),VLOOKUP(F109,通所介護費!$A$34:$B$38,2,0),0) -> 0 | I109: =(H109*G109)*0.1*10 -> 0 | J109: =I109*12 -> 0
... H132: =IF(AND(A132<>"",B132<>"",C132<>"",D132<>"",E132<>"",F132<>"",G132<>""),VLOOKUP(F132,通所介護費!$A$34:$B$38,2,0),0) -> 0 | I132: =(H132*G132)*0.1*10 -> 0 | J132: =I132*12 -> 0
A133: 合計 | G133: =SUMIF(G98:G132,"<>#N/A") -> 0 | H133: =SUMIF(H98:H132,"<>#N/A") -> 0 | I133: =SUMIF(I98:I132,"<>#N/A") -> 0 | J133: =SUMIF(J98:J132,"<>#N/A") -> 0
A135: （4）所要時間6時間以上7時間未満の場合
A136: 被保険者番号 | B136: 被保険者氏名 | C136: 地区名 | D136: 事業所から 利用者宅までの 距離（km） | E136: 事業所から 利用者宅までの 所要時間（分） | F136: 要介護度 | G136: 月間予定回数 (月平均回数) | H136: 基本報酬 （月単位数） | I136: 基準額(月) | J136: 基準額(年)
H137: =IF(AND(A137<>"",B137<>"",C137<>"",D137<>"",E137<>"",F137<>"",G137<>""),VLOOKUP(F137,通所介護費!$A$41:$B$45,2,0),0) -> 0 | I137: =(H137*G137)*0.1*10 -> 0 | J137: =I137*12 -> 0
H138: =IF(AND(A138<>"",B138<>"",C138<>"",D138<>"",E138<>"",F138<>"",G138<>""),VLOOKUP(F138,通所介護費!$A$41:$B$45,2,0),0) -> 0 | I138: =(H138*G138)*0.1*10 -> 0 | J138: =I138*12 -> 0
H139: =IF(AND(A139<>"",B139<>"",C139<>"",D139<>"",E139<>"",F139<>"",G139<>""),VLOOKUP(F139,通所介護費!$A$41:$B$45,2,0),0) -> 0 | I139: =(H139*G139)*0.1*10 -> 0 | J139: =I139*12 -> 0
H140: =IF(AND(A140<>"",B140<>"",C140<>"",D140<>"",E140<>"",F140<>"",G140<>""),VLOOKUP(F140,通所介護費!$A$41:$B$45,2,0),0) -> 0 | I140: =(H140*G140)*0.1*10 -> 0 | J140: =I140*12 -> 0
H141: =IF(AND(A141<>"",B141<>"",C141<>"",D141<>"",E141<>"",F141<>"",G141<>""),VLOOKUP(F141,通所介護費!$A$41:$B$45,2,0),0) -> 0 | I141: =(H141*G141)*0.1*10 -> 0 | J141: =I141*12 -> 0
H142: =IF(AND(A142<>"",B142<>"",C142<>"",D142<>"",E142<>"",F142<>"",G142<>""),VLOOKUP(F142,通所介護費!$A$41:$B$45,2,0),0) -> 0 | I142: =(H142*G142)*0.1*10 -> 0 | J142: =I142*12 -> 0
H143: =IF(AND(A143<>"",B143<>"",C143<>"",D143<>"",E143<>"",F143<>"",G143<>""),VLOOKUP(F143,通所介護費!$A$41:$B$45,2,0),0) -> 0 | I143: =(H143*G143)*0.1*10 -> 0 | J143: =I143*12 -> 0
H144: =IF(AND(A144<>"",B144<>"",C144<>"",D144<>"",E144<>"",F144<>"",G144<>""),VLOOKUP(F144,通所介護費!$A$41:$B$45,2,0),0) -> 0 | I144: =(H144*G144)*0.1*10 -> 0 | J144: =I144*12 -> 0
H145: =IF(AND(A145<>"",B145<>"",C145<>"",D145<>"",E145<>"",F145<>"",G145<>""),VLOOKUP(F145,通所介護費!$A$41:$B$45,2,0),0) -> 0 | I145: =(H145*G145)*0.1*10 -> 0 | J145: =I145*12 -> 0
H146: =IF(AND(A146<>"",B146<>"",C146<>"",D146<>"",E146<>"",F146<>"",G146<>""),VLOOKUP(F146,通所介護費!$A$41:$B$45,2,0),0) -> 0 | I146: =(H146*G146)*0.1*10 -> 0 | J146: =I146*12 -> 0
H147: =IF(AND(A147<>"",B147<>"",C147<>"",D147<>"",E147<>"",F147<>"",G147<>""),VLOOKUP(F147,通所介護費!$A$41:$B$45,2,0),0) -> 0 | I147: =(H147*G147)*0.1*10 -> 0 | J147: =I147*12 -> 0
H148: =IF(AND(A148<>"",B148<>"",C148<>"",D148<>"",E148<>"",F148<>"",G148<>""),VLOOKUP(F148,通所介護費!$A$41:$B$45,2,0),0) -> 0 | I148: =(H148*G148)*0.1*10 -> 0 | J148: =I148*12 -> 0
... H171: =IF(AND(A171<>"",B171<>"",C171<>"",D171<>"",E171<>"",F171<>"",G171<>""),VLOOKUP(F171,通所介護費!$A$41:$B$45,2,0),0) -> 0 | I171: =(H171*G171)*0.1*10 -> 0 | J171: =I171*12 -> 0
A172: 合計 | G172: =SUMIF(G137:G171,"<>#N/A") -> 0 | H172: =SUMIF(H137:H171,"<>#N/A") -> 0 | I172: =SUMIF(I137:I171,"<>#N/A") -> 0 | J172: =SUMIF(J137:J171,"<>#N/A") -> 0
A174: （5）所要時間7時間以上8時間未満の場合
A175: 被保険者番号 | B175: 被保険者氏名 | C175: 地区名 | D175: 事業所から 利用者宅までの 距離（km） | E175: 事業所から 利用者宅までの 所要時間（分） | F175: 要介護度 | G175: 月間予定回数 (月平均回数) | H175: 基本報酬 （月単位数） | I175: 基準額(月) | J175: 基準額(年)
H176: =IF(AND(A176<>"",B176<>"",C176<>"",D176<>"",E176<>"",F176<>"",G176<>""),VLOOKUP(F176,通所介護費!$A$48:$B$52,2,0),0) -> 0 | I176: =(H176*G176)*0.1*10 -> 0 | J176: =I176*12 -> 0
H177: =IF(AND(A177<>"",B177<>"",C177<>"",D177<>"",E177<>"",F177<>"",G177<>""),VLOOKUP(F177,通所介護費!$A$48:$B$52,2,0),0) -> 0 | I177: =(H177*G177)*0.1*10 -> 0 | J177: =I177*12 -> 0
H178: =IF(AND(A178<>"",B178<>"",C178<>"",D178<>"",E178<>"",F178<>"",G178<>""),VLOOKUP(F178,通所介護費!$A$48:$B$52,2,0),0) -> 0 | I178: =(H178*G178)*0.1*10 -> 0 | J178: =I178*12 -> 0
...

Sheet (附表１－１)(附表１－２)補助金所要額調
A1: 附表１－１
B3: 吉備中央町中山間特別地域訪問介護サービス等支援事業 補助金所要額調
CG5: 事業者名 | CP5: =IF(基本情報入力シート!V8="","",基本情報入力シート!V8)
B7: 事業所名 | N7: サービス種別 | Z7: 補助対象事業区分 | BI7: 地区数 | BU7: 対象者数 | CG7: サービス 提供回数 | CS7: 基準額 | DE7: 補助金所要額
B8: =IF(基本情報入力シート!V19="","",基本情報入力シート!V19) | N8: =IF(基本情報入力シート!V21="","",基本情報入力シート!V21) -> 通所介護 | Z8: =IF(基本情報入力シート!V22="","",基本情報入力シート!V22) -> 別表第1の1 区分1 移動に片道20分以上の時間を要するサービス（特別地域加算対象地域内に居住する利用者を対象に行う場合） | BI8: ='(附表１－３)年間実施計画'!A254 -> 0 | BU8: ='(附表１－３)年間実施計画'!B254 -> 0 | CG8: ='(附表１－３)年間実施計画'!C254 -> 0 | CS8: ='(附表１－３)年間実施計画'!E254 -> 0 | DE8: =ROUNDDOWN(CS8,-3) -> 0
B10: （注）補助金所要額欄は、事業所ごとに千円未満の額を切り捨てた額を記入すること。
A12: 附表１－２
B13: 年間計画内訳 | BI13: 事業者名 | BP13: =IF(基本情報入力シート!V8="","",基本情報入力シート!V8)
BI14: 事業所名 | BP14: =IF(基本情報入力シート!V19="","",基本情報入力シート!V19)
B16: 地域名 | H16: 対象人数 | O16: サービス 提供回数 | V16: 地域名 | AB16: 対象人数 | AI16: サービス 提供回数 | AP16: 地域名 | AV16: 対象人数 | BC16: サービス 提供回数 | BJ16: 地域名 | BP16: 対象人数 | BW16: サービス 提供回数 | CD16: 地域名 | CJ16: 対象人数 | CQ16: サービス 提供回数
B17: 広面 | H17: ='(附表１－３)年間実施計画'!AG3 -> 0 | O17: ='(附表１－３)年間実施計画'!AH3 -> 0 | V17: 細田 | AB17: ='(附表１－３)年間実施計画'!AG13 -> 0 | AI17: ='(附表１－３)年間実施計画'!AH13 -> 0 | AP17: 福沢 | AV17: ='(附表１－３)年間実施計画'!AG23 -> 0 | BC17: ='(附表１－３)年間実施計画'!AH23 -> 0
B18: 上加茂 | H18: ='(附表１－３)年間実施計画'!AG4 -> 0 | O18: ='(附表１－３)年間実施計画'!AH4 -> 0 | V18: 三納谷 | AB18: ='(附表１－３)年間実施計画'!AG14 -> 0 | AI18: ='(附表１－３)年間実施計画'!AH14 -> 0 | AP18: 溝部 | AV18: ='(附表１－３)年間実施計画'!AG24 -> 0 | BC18: ='(附表１－３)年間実施計画'!AH24 -> 0
B19: 下加茂 | H19: ='(附表１－３)年間実施計画'!AG5 -> 0 | O19: ='(附表１－３)年間実施計画'!AH5 -> 0 | V19: 上田西 | AB19: ='(附表１－３)年間実施計画'!AG15 -> 0 | AI19: ='(附表１－３)年間実施計画'!AH15 -> 0
B20: 美原 | H20: ='(附表１－３)年間実施計画'!AG6 -> 0 | O20: ='(附表１－３)年間実施計画'!AH6 -> 0 | V20: 円城 | AB20: ='(附表１－３)年間実施計画'!AG16 -> 0 | AI20: ='(附表１－３)年間実施計画'!AH16 -> 0
B21: 加茂市場 | H21: ='(附表１－３)年間実施計画'!AG7 -> 0 | O21: ='(附表１－３)年間実施計画'!AH7 -> 0 | V21: 案田 | AB21: ='(附表１－３)年間実施計画'!AG17 -> 0 | AI21: ='(附表１－３)年間実施計画'!AH17 -> 0
B22: 高谷 | H22: ='(附表１－３)年間実施計画'!AG8 -> 0 | O22: ='(附表１－３)年間実施計画'!AH8 -> 0 | V22: 高富 | AB22: ='(附表１－３)年間実施計画'!AG18 -> 0 | AI22: ='(附表１－３)年間実施計画'!AH18 -> 0
B23: 平岡 | H23: ='(附表１－３)年間実施計画'!AG9 -> 0 | O23: ='(附表１－３)年間実施計画'!AH9 -> 0 | V23: 神瀬 | AB23: ='(附表１－３)年間実施計画'!AG19 -> 0 | AI23: ='(附表１－３)年間実施計画'!AH19 -> 0
B24: 上野 | H24: ='(附表１－３)年間実施計画'!AG10 -> 0 | O24: ='(附表１－３)年間実施計画'!AH10 -> 0 | V24: 小森 | AB24: ='(附表１－３)年間実施計画'!AG20 -> 0 | AI24: ='(附表１－３)年間実施計画'!AH20 -> 0
B25: 竹部 | H25: ='(附表１－３)年間実施計画'!AG11 -> 0 | O25: ='(附表１－３)年間実施計画'!AH11 -> 0 | V25: 尾原 | AB25: ='(附表１－３)年間実施計画'!AG21 -> 0 | AI25: ='(附表１－３)年間実施計画'!AH21 -> 0
B26: 上田東 | H26: ='(附表１－３)年間実施計画'!AG12 -> 0 | O26: ='(附表１－３)年間実施計画'!AH12 -> 0 | V26: 笹目 | AB26: ='(附表１－３)年間実施計画'!AG22 -> 0 | AI26: ='(附表１－３)年間実施計画'!AH22 -> 0 | AP26: 合計 | AV26: =H17+H18+H19+H20+H21+H22+H23+H24+H25+H26+AB17+AB18+AB19+AB20+AB21+AB22+AB23+AB24+AB25+AB26+AV17+AV18 -> 0 | BC26: =O17+O18+O19+O20+O21+O22+O23+O24+O25+O26+AI17+AI18+AI19+AI20+AI21+AI22+AI23+AI24+AI25+AI26+BC17+BC18 -> 0

Sheet (附表2)実施状況報告（４月）
A1: 附表2 | H1: 令和 年 月 日 | U1: ① | W1: ② | Y1: ③ | AA1: ④ | AC1: ⑤ | AE1: ⑥ | AG1: 合計
A2: 吉備中央町長 様 | U2: 対象者人数 | V2: サービス 提供回数 | W2: 対象者人数 | X2: サービス 提供回数 | Y2: 対象者人数 | Z2: サービス 提供回数 | AA2: 対象者人数 | AB2: サービス 提供回数 | AC2: 対象者人数 | AD2: サービス 提供回数 | AE2: 対象者人数 | AF2: サービス 提供回数 | AG2: 対象者人数 | AH2: サービス 提供回数
T3: =対象地域一覧!A3 -> 広面 | U3: =COUNTIF($D$21:$D$40,$T3)+COUNTIF($D$45:$D$49,$T3) -> 0 | V3: =SUMIF($D$21:$D$40,$T3,$H$21:$H$40)+SUMIF($D$45:$D$49,$T3,$H$45:$H$49) -> 0 | W3: =COUNTIF($D$55:$D$74,$T3)+COUNTIF($D$79:$D$83,$T3) -> 0 | X3: =SUMIF($D$55:$D$74,$T3,$H$55:$H$74)+SUMIF($D$79:$D$83,$T3,$H$79:$H$83) -> 0 | Y3: =COUNTIF($D$89:$D$108,$T3)+COUNTIF($D$113:$D$117,$T3) -> 0 | Z3: =SUMIF($D$89:$D$108,$T3,$H$89:$H$108)+SUMIF($D$113:$D$117,$T3,$H$113:$H$117) -> 0 | AA3: =COUNTIF($D$123:$D$142,$T3)+COUNTIF($D$147:$D$151,$T3) -> 0 | AB3: =SUMIF($D$123:$D$142,$T3,$H$123:$H$142)+SUMIF($D$147:$D$151,$T3,$H$147:$H$151) -> 0 | AC3: =COUNTIF($D$157:$D$176,$T3)+COUNTIF($D$181:$D$185,$T3) -> 0 | AD3: =SUMIF($D$157:$D$176,$T3,$H$157:$H$176)+SUMIF($D$181:$D$185,$T3,$H$181:$H$185) -> 0 | AE3: =COUNTIF($D$191:$D$210,$T3)+COUNTIF($D$215:$D$219,$T3) -> 0 | AF3: =SUMIF($D$191:$D$210,$T3,$H$191:$H$210)+SUMIF($D$215:$D$219,$T3,$H$215:$H$219) -> 0 | AG3: =SUM(U3,W3,Y3,AA3,AC3,AE3) -> 0 | AH3: =SUM(V3,X3,Z3,AB3,AD3,AF3) -> 0
A4: 実 施 状 況 報 告 明 細 書 （通所介護事業所用、通常規模型通所介護費） 令和８年４月分 | T4: =対象地域一覧!A4 -> 上加茂 | U4: =COUNTIF($D$21:$D$40,$T4)+COUNTIF($D$45:$D$49,$T4) -> 0 | V4: =SUMIF($D$21:$D$40,$T4,$H$21:$H$40)+SUMIF($D$45:$D$49,$T4,$H$45:$H$49) -> 0 | W4: =COUNTIF($D$55:$D$74,$T4)+COUNTIF($D$79:$D$83,$T4) -> 0 | X4: =SUMIF($D$55:$D$74,$T4,$H$55:$H$74)+SUMIF($D$79:$D$83,$T4,$H$79:$H$83) -> 0 | Y4: =COUNTIF($D$89:$D$108,$T4)+COUNTIF($D$113:$D$117,$T4) -> 0 | Z4: =SUMIF($D$89:$D$108,$T4,$H$89:$H$108)+SUMIF($D$113:$D$117,$T4,$H$113:$H$117) -> 0 | AA4: =COUNTIF($D$123:$D$142,$T4)+COUNTIF($D$147:$D$151,$T4) -> 0 | AB4: =SUMIF($D$123:$D$142,$T4,$H$123:$H$142)+SUMIF($D$147:$D$151,$T4,$H$147:$H$151) -> 0 | AC4: =COUNTIF($D$157:$D$176,$T4)+COUNTIF($D$181:$D$185,$T4) -> 0 | AD4: =SUMIF($D$157:$D$176,$T4,$H$157:$H$176)+SUMIF($D$181:$D$185,$T4,$H$181:$H$185) -> 0 | AE4: =COUNTIF($D$191:$D$210,$T4)+COUNTIF($D$215:$D$219,$T4) -> 0 | AF4: =SUMIF($D$191:$D$210,$T4,$H$191:$H$210)+SUMIF($D$215:$D$219,$T4,$H$215:$H$219) -> 0 | AG4: =SUM(U4,W4,Y4,AA4,AC4,AE4) -> 0 | AH4: =SUM(V4,X4,Z4,AB4,AD4,AF4) -> 0
T5: =対象地域一覧!A5 -> 下加茂 | U5: =COUNTIF($D$21:$D$40,$T5)+COUNTIF($D$45:$D$49,$T5) -> 0 | V5: =SUMIF($D$21:$D$40,$T5,$H$21:$H$40)+SUMIF($D$45:$D$49,$T5,$H$45:$H$49) -> 0 | W5: =COUNTIF($D$55:$D$74,$T5)+COUNTIF($D$79:$D$83,$T5) -> 0 | X5: =SUMIF($D$55:$D$74,$T5,$H$55:$H$74)+SUMIF($D$79:$D$83,$T5,$H$79:$H$83) -> 0 | Y5: =COUNTIF($D$89:$D$108,$T5)+COUNTIF($D$113:$D$117,$T5) -> 0 | Z5: =SUMIF($D$89:$D$108,$T5,$H$89:$H$108)+SUMIF($D$113:$D$117,$T5,$H$113:$H$117) -> 0 | AA5: =COUNTIF($D$123:$D$142,$T5)+COUNTIF($D$147:$D$151,$T5) -> 0 | AB5: =SUMIF($D$123:$D$142,$T5,$H$123:$H$142)+SUMIF($D$147:$D$151,$T5,$H$147:$H$151) -> 0 | AC5: =COUNTIF($D$157:$D$176,$T5)+COUNTIF($D$181:$D$185,$T5) -> 0 | AD5: =SUMIF($D$157:$D$176,$T5,$H$157:$H$176)+SUMIF($D$181:$D$185,$T5,$H$181:$H$185) -> 0 | AE5: =COUNTIF($D$191:$D$210,$T5)+COUNTIF($D$215:$D$219,$T5) -> 0 | AF5: =SUMIF($D$191:$D$210,$T5,$H$191:$H$210)+SUMIF($D$215:$D$219,$T5,$H$215:$H$219) -> 0 | AG5: =SUM(U5,W5,Y5,AA5,AC5,AE5) -> 0 | AH5: =SUM(V5,X5,Z5,AB5,AD5,AF5) -> 0
A6: 1.事業所情報 | T6: =対象地域一覧!A6 -> 美原 | U6: =COUNTIF($D$21:$D$40,$T6)+COUNTIF($D$45:$D$49,$T6) -> 0 | V6: =SUMIF($D$21:$D$40,$T6,$H$21:$H$40)+SUMIF($D$45:$D$49,$T6,$H$45:$H$49) -> 0 | W6: =COUNTIF($D$55:$D$74,$T6)+COUNTIF($D$79:$D$83,$T6) -> 0 | X6: =SUMIF($D$55:$D$74,$T6,$H$55:$H$74)+SUMIF($D$79:$D$83,$T6,$H$79:$H$83) -> 0 | Y6: =COUNTIF($D$89:$D$108,$T6)+COUNTIF($D$113:$D$117,$T6) -> 0 | Z6: =SUMIF($D$89:$D$108,$T6,$H$89:$H$108)+SUMIF($D$113:$D$117,$T6,$H$113:$H$117) -> 0 | AA6: =COUNTIF($D$123:$D$142,$T6)+COUNTIF($D$147:$D$151,$T6) -> 0 | AB6: =SUMIF($D$123:$D$142,$T6,$H$123:$H$142)+SUMIF($D$147:$D$151,$T6,$H$147:$H$151) -> 0 | AC6: =COUNTIF($D$157:$D$176,$T6)+COUNTIF($D$181:$D$185,$T6) -> 0 | AD6: =SUMIF($D$157:$D$176,$T6,$H$157:$H$176)+SUMIF($D$181:$D$185,$T6,$H$181:$H$185) -> 0 | AE6: =COUNTIF($D$191:$D$210,$T6)+COUNTIF($D$215:$D$219,$T6) -> 0 | AF6: =SUMIF($D$191:$D$210,$T6,$H$191:$H$210)+SUMIF($D$215:$D$219,$T6,$H$215:$H$219) -> 0 | AG6: =SUM(U6,W6,Y6,AA6,AC6,AE6) -> 0 | AH6: =SUM(V6,X6,Z6,AB6,AD6,AF6) -> 0
A7: 事業所名 | C7: =IF(基本情報入力シート!V8="","",基本情報入力シート!V8) | T7: =対象地域一覧!A7 -> 加茂市場 | U7: =COUNTIF($D$21:$D$40,$T7)+COUNTIF($D$45:$D$49,$T7) -> 0 | V7: =SUMIF($D$21:$D$40,$T7,$H$21:$H$40)+SUMIF($D$45:$D$49,$T7,$H$45:$H$49) -> 0 | W7: =COUNTIF($D$55:$D$74,$T7)+COUNTIF($D$79:$D$83,$T7) -> 0 | X7: =SUMIF($D$55:$D$74,$T7,$H$55:$H$74)+SUMIF($D$79:$D$83,$T7,$H$79:$H$83) -> 0 | Y7: =COUNTIF($D$89:$D$108,$T7)+COUNTIF($D$113:$D$117,$T7) -> 0 | Z7: =SUMIF($D$89:$D$108,$T7,$H$89:$H$108)+SUMIF($D$113:$D$117,$T7,$H$113:$H$117) -> 0 | AA7: =COUNTIF($D$123:$D$142,$T7)+COUNTIF($D$147:$D$151,$T7) -> 0 | AB7: =SUMIF($D$123:$D$142,$T7,$H$123:$H$142)+SUMIF($D$147:$D$151,$T7,$H$147:$H$151) -> 0 | AC7: =COUNTIF($D$157:$D$176,$T7)+COUNTIF($D$181:$D$185,$T7) -> 0 | AD7: =SUMIF($D$157:$D$176,$T7,$H$157:$H$176)+SUMIF($D$181:$D$185,$T7,$H$181:$H$185) -> 0 | AE7: =COUNTIF($D$191:$D$210,$T7)+COUNTIF($D$215:$D$219,$T7) -> 0 | AF7: =SUMIF($D$191:$D$210,$T7,$H$191:$H$210)+SUMIF($D$215:$D$219,$T7,$H$215:$H$219) -> 0 | AG7: =SUM(U7,W7,Y7,AA7,AC7,AE7) -> 0 | AH7: =SUM(V7,X7,Z7,AB7,AD7,AF7) -> 0
A8: 事業所名 | C8: =IF(基本情報入力シート!V19="","",基本情報入力シート!V19) | T8: =対象地域一覧!A8 -> 高谷 | U8: =COUNTIF($D$21:$D$40,$T8)+COUNTIF($D$45:$D$49,$T8) -> 0 | V8: =SUMIF($D$21:$D$40,$T8,$H$21:$H$40)+SUMIF($D$45:$D$49,$T8,$H$45:$H$49) -> 0 | W8: =COUNTIF($D$55:$D$74,$T8)+COUNTIF($D$79:$D$83,$T8) -> 0 | X8: =SUMIF($D$55:$D$74,$T8,$H$55:$H$74)+SUMIF($D$79:$D$83,$T8,$H$79:$H$83) -> 0 | Y8: =COUNTIF($D$89:$D$108,$T8)+COUNTIF($D$113:$D$117,$T8) -> 0 | Z8: =SUMIF($D$89:$D$108,$T8,$H$89:$H$108)+SUMIF($D$113:$D$117,$T8,$H$113:$H$117) -> 0 | AA8: =COUNTIF($D$123:$D$142,$T8)+COUNTIF($D$147:$D$151,$T8) -> 0 | AB8: =SUMIF($D$123:$D$142,$T8,$H$123:$H$142)+SUMIF($D$147:$D$151,$T8,$H$147:$H$151) -> 0 | AC8: =COUNTIF($D$157:$D$176,$T8)+COUNTIF($D$181:$D$185,$T8) -> 0 | AD8: =SUMIF($D$157:$D$176,$T8,$H$157:$H$176)+SUMIF($D$181:$D$185,$T8,$H$181:$H$185) -> 0 | AE8: =COUNTIF($D$191:$D$210,$T8)+COUNTIF($D$215:$D$219,$T8) -> 0 | AF8: =SUMIF($D$191:$D$210,$T8,$H$191:$H$210)+SUMIF($D$215:$D$219,$T8,$H$215:$H$219) -> 0 | AG8: =SUM(U8,W8,Y8,AA8,AC8,AE8) -> 0 | AH8: =SUM(V8,X8,Z8,AB8,AD8,AF8) -> 0
A9: 事業所所在地 | C9: =IF(基本情報入力シート!V20="","",基本情報入力シート!V20) | T9: =対象地域一覧!A9 -> 平岡 | U9: =COUNTIF($D$21:$D$40,$T9)+COUNTIF($D$45:$D$49,$T9) -> 0 | V9: =SUMIF($D$21:$D$40,$T9,$H$21:$H$40)+SUMIF($D$45:$D$49,$T9,$H$45:$H$49) -> 0 | W9: =COUNTIF($D$55:$D$74,$T9)+COUNTIF($D$79:$D$83,$T9) -> 0 | X9: =SUMIF($D$55:$D$74,$T9,$H$55:$H$74)+SUMIF($D$79:$D$83,$T9,$H$79:$H$83) -> 0 | Y9: =COUNTIF($D$89:$D$108,$T9)+COUNTIF($D$113:$D$117,$T9) -> 0 | Z9: =SUMIF($D$89:$D$108,$T9,$H$89:$H$108)+SUMIF($D$113:$D$117,$T9,$H$113:$H$117) -> 0 | AA9: =COUNTIF($D$123:$D$142,$T9)+COUNTIF($D$147:$D$151,$T9) -> 0 | AB9: =SUMIF($D$123:$D$142,$T9,$H$123:$H$142)+SUMIF($D$147:$D$151,$T9,$H$147:$H$151) -> 0 | AC9: =COUNTIF($D$157:$D$176,$T9)+COUNTIF($D$181:$D$185,$T9) -> 0 | AD9: =SUMIF($D$157:$D$176,$T9,$H$157:$H$176)+SUMIF($D$181:$D$185,$T9,$H$181:$H$185) -> 0 | AE9: =COUNTIF($D$191:$D$210,$T9)+COUNTIF($D$215:$D$219,$T9) -> 0 | AF9: =SUMIF($D$191:$D$210,$T9,$H$191:$H$210)+SUMIF($D$215:$D$219,$T9,$H$215:$H$219) -> 0 | AG9: =SUM(U9,W9,Y9,AA9,AC9,AE9) -> 0 | AH9: =SUM(V9,X9,Z9,AB9,AD9,AF9) -> 0
A10: サービス種別 | C10: =IF(基本情報入力シート!V21="","",基本情報入力シート!V21) -> 通所介護 | T10: =対象地域一覧!A10 -> 上野 | U10: =COUNTIF($D$21:$D$40,$T10)+COUNTIF($D$45:$D$49,$T10) -> 0 | V10: =SUMIF($D$21:$D$40,$T10,$H$21:$H$40)+SUMIF($D$45:$D$49,$T10,$H$45:$H$49) -> 0 | W10: =COUNTIF($D$55:$D$74,$T10)+COUNTIF($D$79:$D$83,$T10) -> 0 | X10: =SUMIF($D$55:$D$74,$T10,$H$55:$H$74)+SUMIF($D$79:$D$83,$T10,$H$79:$H$83) -> 0 | Y10: =COUNTIF($D$89:$D$108,$T10)+COUNTIF($D$113:$D$117,$T10) -> 0 | Z10: =SUMIF($D$89:$D$108,$T10,$H$89:$H$108)+SUMIF($D$113:$D$117,$T10,$H$113:$H$117) -> 0 | AA10: =COUNTIF($D$123:$D$142,$T10)+COUNTIF($D$147:$D$151,$T10) -> 0 | AB10: =SUMIF($D$123:$D$142,$T10,$H$123:$H$142)+SUMIF($D$147:$D$151,$T10,$H$147:$H$151) -> 0 | AC10: =COUNTIF($D$157:$D$176,$T10)+COUNTIF($D$181:$D$185,$T10) -> 0 | AD10: =SUMIF($D$157:$D$176,$T10,$H$157:$H$176)+SUMIF($D$181:$D$185,$T10,$H$181:$H$185) -> 0 | AE10: =COUNTIF($D$191:$D$210,$T10)+COUNTIF($D$215:$D$219,$T10) -> 0 | AF10: =SUMIF($D$191:$D$210,$T10,$H$191:$H$210)+SUMIF($D$215:$D$219,$T10,$H$215:$H$219) -> 0 | AG10: =SUM(U10,W10,Y10,AA10,AC10,AE10) -> 0 | AH10: =SUM(V10,X10,Z10,AB10,AD10,AF10) -> 0
A11: 補助対象事業区分 | C11: =IF(基本情報入力シート!V22="","",基本情報入力シート!V22) -> 別表第1の1 区分1 移動に片道20分以上の時間を要するサービス（特別地域加算対象地域内に居住する利用者を対象に行う場合） | T11: =対象地域一覧!A11 -> 竹部 | U11: =COUNTIF($D$21:$D$40,$T11)+COUNTIF($D$45:$D$49,$T11) -> 0 | V11: =SUMIF($D$21:$D$40,$T11,$H$21:$H$40)+SUMIF($D$45:$D$49,$T11,$H$45:$H$49) -> 0 | W11: =COUNTIF($D$55:$D$74,$T11)+COUNTIF($D$79:$D$83,$T11) -> 0 | X11: =SUMIF($D$55:$D$74,$T11,$H$55:$H$74)+SUMIF($D$79:$D$83,$T11,$H$79:$H$83) -> 0 | Y11: =COUNTIF($D$89:$D$108,$T11)+COUNTIF($D$113:$D$117,$T11) -> 0 | Z11: =SUMIF($D$89:$D$108,$T11,$H$89:$H$108)+SUMIF($D$113:$D$117,$T11,$H$113:$H$117) -> 0 | AA11: =COUNTIF($D$123:$D$142,$T11)+COUNTIF($D$147:$D$151,$T11) -> 0 | AB11: =SUMIF($D$123:$D$142,$T11,$H$123:$H$142)+SUMIF($D$147:$D$151,$T11,$H$147:$H$151) -> 0 | AC11: =COUNTIF($D$157:$D$176,$T11)+COUNTIF($D$181:$D$185,$T11) -> 0 | AD11: =SUMIF($D$157:$D$176,$T11,$H$157:$H$176)+SUMIF($D$181:$D$185,$T11,$H$181:$H$185) -> 0 | AE11: =COUNTIF($D$191:$D$210,$T11)+COUNTIF($D$215:$D$219,$T11) -> 0 | AF11: =SUMIF($D$191:$D$210,$T11,$H$191:$H$210)+SUMIF($D$215:$D$219,$T11,$H$215:$H$219) -> 0 | AG11: =SUM(U11,W11,Y11,AA11,AC11,AE11) -> 0 | AH11: =SUM(V11,X11,Z11,AB11,AD11,AF11) -> 0
A12: 加算区分 | C12: 通常規模型通所介護費 | T12: =対象地域一覧!A12 -> 上田東 | U12: =COUNTIF($D$21:$D$40,$T12)+COUNTIF($D$45:$D$49,$T12) -> 0 | V12: =SUMIF($D$21:$D$40,$T12,$H$21:$H$40)+SUMIF($D$45:$D$49,$T12,$H$45:$H$49) -> 0 | W12: =COUNTIF($D$55:$D$74,$T12)+COUNTIF($D$79:$D$83,$T12) -> 0 | X12: =SUMIF($D$55:$D$74,$T12,$H$55:$H$74)+SUMIF($D$79:$D$83,$T12,$H$79:$H$83) -> 0 | Y12: =COUNTIF($D$89:$D$108,$T12)+COUNTIF($D$113:$D$117,$T12) -> 0 | Z12: =SUMIF($D$89:$D$108,$T12,$H$89:$H$108)+SUMIF($D$113:$D$117,$T12,$H$113:$H$117) -> 0 | AA12: =COUNTIF($D$123:$D$142,$T12)+COUNTIF($D$147:$D$151,$T12) -> 0 | AB12: =SUMIF($D$123:$D$142,$T12,$H$123:$H$142)+SUMIF($D$147:$D$151,$T12,$H$147:$H$151) -> 0 | AC12: =COUNTIF($D$157:$D$176,$T12)+COUNTIF($D$181:$D$185,$T12) -> 0 | AD12: =SUMIF($D$157:$D$176,$T12,$H$157:$H$176)+SUMIF($D$181:$D$185,$T12,$H$181:$H$185) -> 0 | AE12: =COUNTIF($D$191:$D$210,$T12)+COUNTIF($D$215:$D$219,$T12) -> 0 | AF12: =SUMIF($D$191:$D$210,$T12,$H$191:$H$210)+SUMIF($D$215:$D$219,$T12,$H$215:$H$219) -> 0 | AG12: =SUM(U12,W12,Y12,AA12,AC12,AE12) -> 0 | AH12: =SUM(V12,X12,Z12,AB12,AD12,AF12) -> 0
T13: =対象地域一覧!A13 -> 細田 | U13: =COUNTIF($D$21:$D$40,$T13)+COUNTIF($D$45:$D$49,$T13) -> 0 | V13: =SUMIF($D$21:$D$40,$T13,$H$21:$H$40)+SUMIF($D$45:$D$49,$T13,$H$45:$H$49) -> 0 | W13: =COUNTIF($D$55:$D$74,$T13)+COUNTIF($D$79:$D$83,$T13) -> 0 | X13: =SUMIF($D$55:$D$74,$T13,$H$55:$H$74)+SUMIF($D$79:$D$83,$T13,$H$79:$H$83) -> 0 | Y13: =COUNTIF($D$89:$D$108,$T13)+COUNTIF($D$113:$D$117,$T13) -> 0 | Z13: =SUMIF($D$89:$D$108,$T13,$H$89:$H$108)+SUMIF($D$113:$D$117,$T13,$H$113:$H$117) -> 0 | AA13: =COUNTIF($D$123:$D$142,$T13)+COUNTIF($D$147:$D$151,$T13) -> 0 | AB13: =SUMIF($D$123:$D$142,$T13,$H$123:$H$142)+SUMIF($D$147:$D$151,$T13,$H$147:$H$151) -> 0 | AC13: =COUNTIF($D$157:$D$176,$T13)+COUNTIF($D$181:$D$185,$T13) -> 0 | AD13: =SUMIF($D$157:$D$176,$T13,$H$157:$H$176)+SUMIF($D$181:$D$185,$T13,$H$181:$H$185) -> 0 | AE13: =COUNTIF($D$191:$D$210,$T13)+COUNTIF($D$215:$D$219,$T13) -> 0 | AF13: =SUMIF($D$191:$D$210,$T13,$H$191:$H$210)+SUMIF($D$215:$D$219,$T13,$H$215:$H$219) -> 0 | AG13: =SUM(U13,W13,Y13,AA13,AC13,AE13) -> 0 | AH13: =SUM(V13,X13,Z13,AB13,AD13,AF13) -> 0
T14: =対象地域一覧!A14 -> 三納谷 | U14: =COUNTIF($D$21:$D$40,$T14)+COUNTIF($D$45:$D$49,$T14) -> 0 | V14: =SUMIF($D$21:$D$40,$T14,$H$21:$H$40)+SUMIF($D$45:$D$49,$T14,$H$45:$H$49) -> 0 | W14: =COUNTIF($D$55:$D$74,$T14)+COUNTIF($D$79:$D$83,$T14) -> 0 | X14: =SUMIF($D$55:$D$74,$T14,$H$55:$H$74)+SUMIF($D$79:$D$83,$T14,$H$79:$H$83) -> 0 | Y14: =COUNTIF($D$89:$D$108,$T14)+COUNTIF($D$113:$D$117,$T14) -> 0 | Z14: =SUMIF($D$89:$D$108,$T14,$H$89:$H$108)+SUMIF($D$113:$D$117,$T14,$H$113:$H$117) -> 0 | AA14: =COUNTIF($D$123:$D$142,$T14)+COUNTIF($D$147:$D$151,$T14) -> 0 | AB14: =SUMIF($D$123:$D$142,$T14,$H$123:$H$142)+SUMIF($D$147:$D$151,$T14,$H$147:$H$151) -> 0 | AC14: =COUNTIF($D$157:$D$176,$T14)+COUNTIF($D$181:$D$185,$T14) -> 0 | AD14: =SUMIF($D$157:$D$176,$T14,$H$157:$H$176)+SUMIF($D$181:$D$185,$T14,$H$181:$H$185) -> 0 | AE14: =COUNTIF($D$191:$D$210,$T14)+COUNTIF($D$215:$D$219,$T14) -> 0 | AF14: =SUMIF($D$191:$D$210,$T14,$H$191:$H$210)+SUMIF($D$215:$D$219,$T14,$H$215:$H$219) -> 0 | AG14: =SUM(U14,W14,Y14,AA14,AC14,AE14) -> 0 | AH14: =SUM(V14,X14,Z14,AB14,AD14,AF14) -> 0
T15: =対象地域一覧!A15 -> 上田西 | U15: =COUNTIF($D$21:$D$40,$T15)+COUNTIF($D$45:$D$49,$T15) -> 0 | V15: =SUMIF($D$21:$D$40,$T15,$H$21:$H$40)+SUMIF($D$45:$D$49,$T15,$H$45:$H$49) -> 0 | W15: =COUNTIF($D$55:$D$74,$T15)+COUNTIF($D$79:$D$83,$T15) -> 0 | X15: =SUMIF($D$55:$D$74,$T15,$H$55:$H$74)+SUMIF($D$79:$D$83,$T15,$H$79:$H$83) -> 0 | Y15: =COUNTIF($D$89:$D$108,$T15)+COUNTIF($D$113:$D$117,$T15) -> 0 | Z15: =SUMIF($D$89:$D$108,$T15,$H$89:$H$108)+SUMIF($D$113:$D$117,$T15,$H$113:$H$117) -> 0 | AA15: =COUNTIF($D$123:$D$142,$T15)+COUNTIF($D$147:$D$151,$T15) -> 0 | AB15: =SUMIF($D$123:$D$142,$T15,$H$123:$H$142)+SUMIF($D$147:$D$151,$T15,$H$147:$H$151) -> 0 | AC15: =COUNTIF($D$157:$D$176,$T15)+COUNTIF($D$181:$D$185,$T15) -> 0 | AD15: =SUMIF($D$157:$D$176,$T15,$H$157:$H$176)+SUMIF($D$181:$D$185,$T15,$H$181:$H$185) -> 0 | AE15: =COUNTIF($D$191:$D$210,$T15)+COUNTIF($D$215:$D$219,$T15) -> 0 | AF15: =SUMIF($D$191:$D$210,$T15,$H$191:$H$210)+SUMIF($D$215:$D$219,$T15,$H$215:$H$219) -> 0 | AG15: =SUM(U15,W15,Y15,AA15,AC15,AE15) -> 0 | AH15: =SUM(V15,X15,Z15,AB15,AD15,AF15) -> 0
T16: =対象地域一覧!A16 -> 円城 | U16: =COUNTIF($D$21:$D$40,$T16)+COUNTIF($D$45:$D$49,$T16) -> 0 | V16: =SUMIF($D$21:$D$40,$T16,$H$21:$H$40)+SUMIF($D$45:$D$49,$T16,$H$45:$H$49) -> 0 | W16: =COUNTIF($D$55:$D$74,$T16)+COUNTIF($D$79:$D$83,$T16) -> 0 | X16: =SUMIF($D$55:$D$74,$T16,$H$55:$H$74)+SUMIF($D$79:$D$83,$T16,$H$79:$H$83) -> 0 | Y16: =COUNTIF($D$89:$D$108,$T16)+COUNTIF($D$113:$D$117,$T16) -> 0 | Z16: =SUMIF($D$89:$D$108,$T16,$H$89:$H$108)+SUMIF($D$113:$D$117,$T16,$H$113:$H$117) -> 0 | AA16: =COUNTIF($D$123:$D$142,$T16)+COUNTIF($D$147:$D$151,$T16) -> 0 | AB16: =SUMIF($D$123:$D$142,$T16,$H$123:$H$142)+SUMIF($D$147:$D$151,$T16,$H$147:$H$151) -> 0 | AC16: =COUNTIF($D$157:$D$176,$T16)+COUNTIF($D$181:$D$185,$T16) -> 0 | AD16: =SUMIF($D$157:$D$176,$T16,$H$157:$H$176)+SUMIF($D$181:$D$185,$T16,$H$181:$H$185) -> 0 | AE16: =COUNTIF($D$191:$D$210,$T16)+COUNTIF($D$215:$D$219,$T16) -> 0 | AF16: =SUMIF($D$191:$D$210,$T16,$H$191:$H$210)+SUMIF($D$215:$D$219,$T16,$H$215:$H$219) -> 0 | AG16: =SUM(U16,W16,Y16,AA16,AC16,AE16) -> 0 | AH16: =SUM(V16,X16,Z16,AB16,AD16,AF16) -> 0
A17: 2. 実績内訳 | T17: =対象地域一覧!A17 -> 案田 | U17: =COUNTIF($D$21:$D$40,$T17)+COUNTIF($D$45:$D$49,$T17) -> 0 | V17: =SUMIF($D$21:$D$40,$T17,$H$21:$H$40)+SUMIF($D$45:$D$49,$T17,$H$45:$H$49) -> 0 | W17: =COUNTIF($D$55:$D$74,$T17)+COUNTIF($D$79:$D$83,$T17) -> 0 | X17: =SUMIF($D$55:$D$74,$T17,$H$55:$H$74)+SUMIF($D$79:$D$83,$T17,$H$79:$H$83) -> 0 | Y17: =COUNTIF($D$89:$D$108,$T17)+COUNTIF($D$113:$D$117,$T17) -> 0 | Z17: =SUMIF($D$89:$D$108,$T17,$H$89:$H$108)+SUMIF($D$113:$D$117,$T17,$H$113:$H$117) -> 0 | AA17: =COUNTIF($D$123:$D$142,$T17)+COUNTIF($D$147:$D$151,$T17) -> 0 | AB17: =SUMIF($D$123:$D$142,$T17,$H$123:$H$142)+SUMIF($D$147:$D$151,$T17,$H$147:$H$151) -> 0 | AC17: =COUNTIF($D$157:$D$176,$T17)+COUNTIF($D$181:$D$185,$T17) -> 0 | AD17: =SUMIF($D$157:$D$176,$T17,$H$157:$H$176)+SUMIF($D$181:$D$185,$T17,$H$181:$H$185) -> 0 | AE17: =COUNTIF($D$191:$D$210,$T17)+COUNTIF($D$215:$D$219,$T17) -> 0 | AF17: =SUMIF($D$191:$D$210,$T17,$H$191:$H$210)+SUMIF($D$215:$D$219,$T17,$H$215:$H$219) -> 0 | AG17: =SUM(U17,W17,Y17,AA17,AC17,AE17) -> 0 | AH17: =SUM(V17,X17,Z17,AB17,AD17,AF17) -> 0
A18: （1）所要時間3時間以上4時間未満の場合 | T18: =対象地域一覧!A18 -> 高富 | U18: =COUNTIF($D$21:$D$40,$T18)+COUNTIF($D$45:$D$49,$T18) -> 0 | V18: =SUMIF($D$21:$D$40,$T18,$H$21:$H$40)+SUMIF($D$45:$D$49,$T18,$H$45:$H$49) -> 0 | W18: =COUNTIF($D$55:$D$74,$T18)+COUNTIF($D$79:$D$83,$T18) -> 0 | X18: =SUMIF($D$55:$D$74,$T18,$H$55:$H$74)+SUMIF($D$79:$D$83,$T18,$H$79:$H$83) -> 0 | Y18: =COUNTIF($D$89:$D$108,$T18)+COUNTIF($D$113:$D$117,$T18) -> 0 | Z18: =SUMIF($D$89:$D$108,$T18,$H$89:$H$108)+SUMIF($D$113:$D$117,$T18,$H$113:$H$117) -> 0 | AA18: =COUNTIF($D$123:$D$142,$T18)+COUNTIF($D$147:$D$151,$T18) -> 0 | AB18: =SUMIF($D$123:$D$142,$T18,$H$123:$H$142)+SUMIF($D$147:$D$151,$T18,$H$147:$H$151) -> 0 | AC18: =COUNTIF($D$157:$D$176,$T18)+COUNTIF($D$181:$D$185,$T18) -> 0 | AD18: =SUMIF($D$157:$D$176,$T18,$H$157:$H$176)+SUMIF($D$181:$D$185,$T18,$H$181:$H$185) -> 0 | AE18: =COUNTIF($D$191:$D$210,$T18)+COUNTIF($D$215:$D$219,$T18) -> 0 | AF18: =SUMIF($D$191:$D$210,$T18,$H$191:$H$210)+SUMIF($D$215:$D$219,$T18,$H$215:$H$219) -> 0 | AG18: =SUM(U18,W18,Y18,AA18,AC18,AE18) -> 0 | AH18: =SUM(V18,X18,Z18,AB18,AD18,AF18) -> 0
A19: ※往復の送迎を行った場合 （片道のみ送迎を行った場合は下記別表に入力すること） | T19: =対象地域一覧!A19 -> 神瀬 | U19: =COUNTIF($D$21:$D$40,$T19)+COUNTIF($D$45:$D$49,$T19) -> 0 | V19: =SUMIF($D$21:$D$40,$T19,$H$21:$H$40)+SUMIF($D$45:$D$49,$T19,$H$45:$H$49) -> 0 | W19: =COUNTIF($D$55:$D$74,$T19)+COUNTIF($D$79:$D$83,$T19) -> 0 | X19: =SUMIF($D$55:$D$74,$T19,$H$55:$H$74)+SUMIF($D$79:$D$83,$T19,$H$79:$H$83) -> 0 | Y19: =COUNTIF($D$89:$D$108,$T19)+COUNTIF($D$113:$D$117,$T19) -> 0 | Z19: =SUMIF($D$89:$D$108,$T19,$H$89:$H$108)+SUMIF($D$113:$D$117,$T19,$H$113:$H$117) -> 0 | AA19: =COUNTIF($D$123:$D$142,$T19)+COUNTIF($D$147:$D$151,$T19) -> 0 | AB19: =SUMIF($D$123:$D$142,$T19,$H$123:$H$142)+SUMIF($D$147:$D$151,$T19,$H$147:$H$151) -> 0 | AC19: =COUNTIF($D$157:$D$176,$T19)+COUNTIF($D$181:$D$185,$T19) -> 0 | AD19: =SUMIF($D$157:$D$176,$T19,$H$157:$H$176)+SUMIF($D$181:$D$185,$T19,$H$181:$H$185) -> 0 | AE19: =COUNTIF($D$191:$D$210,$T19)+COUNTIF($D$215:$D$219,$T19) -> 0 | AF19: =SUMIF($D$191:$D$210,$T19,$H$191:$H$210)+SUMIF($D$215:$D$219,$T19,$H$215:$H$219) -> 0 | AG19: =SUM(U19,W19,Y19,AA19,AC19,AE19) -> 0 | AH19: =SUM(V19,X19,Z19,AB19,AD19,AF19) -> 0
A20: 所要時間3時間以上4時間未満の場合 | B20: 被保険者番号 | C20: 被保険者氏名 | D20: 地区名 | E20: 事業所から 利用者宅までの 距離（km） | F20: 事業所から 利用者宅までの 所要時間（分） | G20: 要介護度 | H20: サービス 提供回数 | I20: 基本報酬 （月単位数） | J20: 基準額(月) | T20: =対象地域一覧!A20 -> 小森 | U20: =COUNTIF($D$21:$D$40,$T20)+COUNTIF($D$45:$D$49,$T20) -> 0 | V20: =SUMIF($D$21:$D$40,$T20,$H$21:$H$40)+SUMIF($D$45:$D$49,$T20,$H$45:$H$49) -> 0 | W20: =COUNTIF($D$55:$D$74,$T20)+COUNTIF($D$79:$D$83,$T20) -> 0 | X20: =SUMIF($D$55:$D$74,$T20,$H$55:$H$74)+SUMIF($D$79:$D$83,$T20,$H$79:$H$83) -> 0 | Y20: =COUNTIF($D$89:$D$108,$T20)+COUNTIF($D$113:$D$117,$T20) -> 0 | Z20: =SUMIF($D$89:$D$108,$T20,$H$89:$H$108)+SUMIF($D$113:$D$117,$T20,$H$113:$H$117) -> 0 | AA20: =COUNTIF($D$123:$D$142,$T20)+COUNTIF($D$147:$D$151,$T20) -> 0 | AB20: =SUMIF($D$123:$D$142,$T20,$H$123:$H$142)+SUMIF($D$147:$D$151,$T20,$H$147:$H$151) -> 0 | AC20: =COUNTIF($D$157:$D$176,$T20)+COUNTIF($D$181:$D$185,$T20) -> 0 | AD20: =SUMIF($D$157:$D$176,$T20,$H$157:$H$176)+SUMIF($D$181:$D$185,$T20,$H$181:$H$185) -> 0 | AE20: =COUNTIF($D$191:$D$210,$T20)+COUNTIF($D$215:$D$219,$T20) -> 0 | AF20: =SUMIF($D$191:$D$210,$T20,$H$191:$H$210)+SUMIF($D$215:$D$219,$T20,$H$215:$H$219) -> 0 | AG20: =SUM(U20,W20,Y20,AA20,AC20,AE20) -> 0 | AH20: =SUM(V20,X20,Z20,AB20,AD20,AF20) -> 0
I21: =IF(AND(B21<>"",C21<>"",D21<>"",E21<>"",F21<>"",G21<>"",H21<>""),VLOOKUP(G21,通所介護費!$A$20:$B$24,2,0),0) -> 0 | J21: =(I21*H21)*0.1*10 -> 0 | T21: =対象地域一覧!A21 -> 尾原 | U21: =COUNTIF($D$21:$D$40,$T21)+COUNTIF($D$45:$D$49,$T21) -> 0 | V21: =SUMIF($D$21:$D$40,$T21,$H$21:$H$40)+SUMIF($D$45:$D$49,$T21,$H$45:$H$49) -> 0 | W21: =COUNTIF($D$55:$D$74,$T21)+COUNTIF($D$79:$D$83,$T21) -> 0 | X21: =SUMIF($D$55:$D$74,$T21,$H$55:$H$74)+SUMIF($D$79:$D$83,$T21,$H$79:$H$83) -> 0 | Y21: =COUNTIF($D$89:$D$108,$T21)+COUNTIF($D$113:$D$117,$T21) -> 0 | Z21: =SUMIF($D$89:$D$108,$T21,$H$89:$H$108)+SUMIF($D$113:$D$117,$T21,$H$113:$H$117) -> 0 | AA21: =COUNTIF($D$123:$D$142,$T21)+COUNTIF($D$147:$D$151,$T21) -> 0 | AB21: =SUMIF($D$123:$D$142,$T21,$H$123:$H$142)+SUMIF($D$147:$D$151,$T21,$H$147:$H$151) -> 0 | AC21: =COUNTIF($D$157:$D$176,$T21)+COUNTIF($D$181:$D$185,$T21) -> 0 | AD21: =SUMIF($D$157:$D$176,$T21,$H$157:$H$176)+SUMIF($D$181:$D$185,$T21,$H$181:$H$185) -> 0 | AE21: =COUNTIF($D$191:$D$210,$T21)+COUNTIF($D$215:$D$219,$T21) -> 0 | AF21: =SUMIF($D$191:$D$210,$T21,$H$191:$H$210)+SUMIF($D$215:$D$219,$T21,$H$215:$H$219) -> 0 | AG21: =SUM(U21,W21,Y21,AA21,AC21,AE21) -> 0 | AH21: =SUM(V21,X21,Z21,AB21,AD21,AF21) -> 0
I22: =IF(AND(B22<>"",C22<>"",D22<>"",E22<>"",F22<>"",G22<>"",H22<>""),VLOOKUP(G22,通所介護費!$A$20:$B$24,2,0),0) -> 0 | J22: =(I22*H22)*0.1*10 -> 0 | T22: =対象地域一覧!A22 -> 笹目 | U22: =COUNTIF($D$21:$D$40,$T22)+COUNTIF($D$45:$D$49,$T22) -> 0 | V22: =SUMIF($D$21:$D$40,$T22,$H$21:$H$40)+SUMIF($D$45:$D$49,$T22,$H$45:$H$49) -> 0 | W22: =COUNTIF($D$55:$D$74,$T22)+COUNTIF($D$79:$D$83,$T22) -> 0 | X22: =SUMIF($D$55:$D$74,$T22,$H$55:$H$74)+SUMIF($D$79:$D$83,$T22,$H$79:$H$83) -> 0 | Y22: =COUNTIF($D$89:$D$108,$T22)+COUNTIF($D$113:$D$117,$T22) -> 0 | Z22: =SUMIF($D$89:$D$108,$T22,$H$89:$H$108)+SUMIF($D$113:$D$117,$T22,$H$113:$H$117) -> 0 | AA22: =COUNTIF($D$123:$D$142,$T22)+COUNTIF($D$147:$D$151,$T22) -> 0 | AB22: =SUMIF($D$123:$D$142,$T22,$H$123:$H$142)+SUMIF($D$147:$D$151,$T22,$H$147:$H$151) -> 0 | AC22: =COUNTIF($D$157:$D$176,$T22)+COUNTIF($D$181:$D$185,$T22) -> 0 | AD22: =SUMIF($D$157:$D$176,$T22,$H$157:$H$176)+SUMIF($D$181:$D$185,$T22,$H$181:$H$185) -> 0 | AE22: =COUNTIF($D$191:$D$210,$T22)+COUNTIF($D$215:$D$219,$T22) -> 0 | AF22: =SUMIF($D$191:$D$210,$T22,$H$191:$H$210)+SUMIF($D$215:$D$219,$T22,$H$215:$H$219) -> 0 | AG22: =SUM(U22,W22,Y22,AA22,AC22,AE22) -> 0 | AH22: =SUM(V22,X22,Z22,AB22,AD22,AF22) -> 0
I23: =IF(AND(B23<>"",C23<>"",D23<>"",E23<>"",F23<>"",G23<>"",H23<>""),VLOOKUP(G23,通所介護費!$A$20:$B$24,2,0),0) -> 0 | J23: =(I23*H23)*0.1*10 -> 0 | T23: =対象地域一覧!A23 -> 福沢 | U23: =COUNTIF($D$21:$D$40,$T23)+COUNTIF($D$45:$D$49,$T23) -> 0 | V23: =SUMIF($D$21:$D$40,$T23,$H$21:$H$40)+SUMIF($D$45:$D$49,$T23,$H$45:$H$49) -> 0 | W23: =COUNTIF($D$55:$D$74,$T23)+COUNTIF($D$79:$D$83,$T23) -> 0 | X23: =SUMIF($D$55:$D$74,$T23,$H$55:$H$74)+SUMIF($D$79:$D$83,$T23,$H$79:$H$83) -> 0 | Y23: =COUNTIF($D$89:$D$108,$T23)+COUNTIF($D$113:$D$117,$T23) -> 0 | Z23: =SUMIF($D$89:$D$108,$T23,$H$89:$H$108)+SUMIF($D$113:$D$117,$T23,$H$113:$H$117) -> 0 | AA23: =COUNTIF($D$123:$D$142,$T23)+COUNTIF($D$147:$D$151,$T23) -> 0 | AB23: =SUMIF($D$123:$D$142,$T23,$H$123:$H$142)+SUMIF($D$147:$D$151,$T23,$H$147:$H$151) -> 0 | AC23: =COUNTIF($D$157:$D$176,$T23)+COUNTIF($D$181:$D$185,$T23) -> 0 | AD23: =SUMIF($D$157:$D$176,$T23,$H$157:$H$176)+SUMIF($D$181:$D$185,$T23,$H$181:$H$185) -> 0 | AE23: =COUNTIF($D$191:$D$210,$T23)+COUNTIF($D$215:$D$219,$T23) -> 0 | AF23: =SUMIF($D$191:$D$210,$T23,$H$191:$H$210)+SUMIF($D$215:$D$219,$T23,$H$215:$H$219) -> 0 | AG23: =SUM(U23,W23,Y23,AA23,AC23,AE23) -> 0 | AH23: =SUM(V23,X23,Z23,AB23,AD23,AF23) -> 0
I24: =IF(AND(B24<>"",C24<>"",D24<>"",E24<>"",F24<>"",G24<>"",H24<>""),VLOOKUP(G24,通所介護費!$A$20:$B$24,2,0),0) -> 0 | J24: =(I24*H24)*0.1*10 -> 0 | T24: =対象地域一覧!A24 -> 溝部 | U24: =COUNTIF($D$21:$D$40,$T24)+COUNTIF($D$45:$D$49,$T24) -> 0 | V24: =SUMIF($D$21:$D$40,$T24,$H$21:$H$40)+SUMIF($D$45:$D$49,$T24,$H$45:$H$49) -> 0 | W24: =COUNTIF($D$55:$D$74,$T24)+COUNTIF($D$79:$D$83,$T24) -> 0 | X24: =SUMIF($D$55:$D$74,$T24,$H$55:$H$74)+SUMIF($D$79:$D$83,$T24,$H$79:$H$83) -> 0 | Y24: =COUNTIF($D$89:$D$108,$T24)+COUNTIF($D$113:$D$117,$T24) -> 0 | Z24: =SUMIF($D$89:$D$108,$T24,$H$89:$H$108)+SUMIF($D$113:$D$117,$T24,$H$113:$H$117) -> 0 | AA24: =COUNTIF($D$123:$D$142,$T24)+COUNTIF($D$147:$D$151,$T24) -> 0 | AB24: =SUMIF($D$123:$D$142,$T24,$H$123:$H$142)+SUMIF($D$147:$D$151,$T24,$H$147:$H$151) -> 0 | AC24: =COUNTIF($D$157:$D$176,$T24)+COUNTIF($D$181:$D$185,$T24) -> 0 | AD24: =SUMIF($D$157:$D$176,$T24,$H$157:$H$176)+SUMIF($D$181:$D$185,$T24,$H$181:$H$185) -> 0 | AE24: =COUNTIF($D$191:$D$210,$T24)+COUNTIF($D$215:$D$219,$T24) -> 0 | AF24: =SUMIF($D$191:$D$210,$T24,$H$191:$H$210)+SUMIF($D$215:$D$219,$T24,$H$215:$H$219) -> 0 | AG24: =SUM(U24,W24,Y24,AA24,AC24,AE24) -> 0 | AH24: =SUM(V24,X24,Z24,AB24,AD24,AF24) -> 0
I25: =IF(AND(B25<>"",C25<>"",D25<>"",E25<>"",F25<>"",G25<>"",H25<>""),VLOOKUP(G25,通所介護費!$A$20:$B$24,2,0),0) -> 0 | J25: =(I25*H25)*0.1*10 -> 0 | T25: =対象地域一覧!A25 -> 0 | U25: =COUNTIF($D$21:$D$40,$T25)+COUNTIF($D$45:$D$49,$T25) -> 0 | V25: =SUMIF($D$21:$D$40,$T25,$H$21:$H$40)+SUMIF($D$45:$D$49,$T25,$H$45:$H$49) -> 0 | W25: =COUNTIF($D$55:$D$74,$T25)+COUNTIF($D$79:$D$83,$T25) -> 0 | X25: =SUMIF($D$55:$D$74,$T25,$H$55:$H$74)+SUMIF($D$79:$D$83,$T25,$H$79:$H$83) -> 0 | Y25: =COUNTIF($D$89:$D$108,$T25)+COUNTIF($D$113:$D$117,$T25) -> 0 | Z25: =SUMIF($D$89:$D$108,$T25,$H$89:$H$108)+SUMIF($D$113:$D$117,$T25,$H$113:$H$117) -> 0 | AA25: =COUNTIF($D$123:$D$142,$T25)+COUNTIF($D$147:$D$151,$T25) -> 0 | AB25: =SUMIF($D$123:$D$142,$T25,$H$123:$H$142)+SUMIF($D$147:$D$151,$T25,$H$147:$H$151) -> 0 | AC25: =COUNTIF($D$157:$D$176,$T25)+COUNTIF($D$181:$D$185,$T25) -> 0 | AD25: =SUMIF($D$157:$D$176,$T25,$H$157:$H$176)+SUMIF($D$181:$D$185,$T25,$H$181:$H$185) -> 0 | AE25: =COUNTIF($D$191:$D$210,$T25)+COUNTIF($D$215:$D$219,$T25) -> 0 | AF25: =SUMIF($D$191:$D$210,$T25,$H$191:$H$210)+SUMIF($D$215:$D$219,$T25,$H$215:$H$219) -> 0 | AG25: =SUM(U25,W25,Y25,AA25,AC25,AE25) -> 0 | AH25: =SUM(V25,X25,Z25,AB25,AD25,AF25) -> 0
I26: =IF(AND(B26<>"",C26<>"",D26<>"",E26<>"",F26<>"",G26<>"",H26<>""),VLOOKUP(G26,通所介護費!$A$20:$B$24,2,0),0) -> 0 | J26: =(I26*H26)*0.1*10 -> 0 | T26: =対象地域一覧!A26 -> 0 | U26: =COUNTIF($D$21:$D$40,$T26)+COUNTIF($D$45:$D$49,$T26) -> 0 | V26: =SUMIF($D$21:$D$40,$T26,$H$21:$H$40)+SUMIF($D$45:$D$49,$T26,$H$45:$H$49) -> 0 | W26: =COUNTIF($D$55:$D$74,$T26)+COUNTIF($D$79:$D$83,$T26) -> 0 | X26: =SUMIF($D$55:$D$74,$T26,$H$55:$H$74)+SUMIF($D$79:$D$83,$T26,$H$79:$H$83) -> 0 | Y26: =COUNTIF($D$89:$D$108,$T26)+COUNTIF($D$113:$D$117,$T26) -> 0 | Z26: =SUMIF($D$89:$D$108,$T26,$H$89:$H$108)+SUMIF($D$113:$D$117,$T26,$H$113:$H$117) -> 0 | AA26: =COUNTIF($D$123:$D$142,$T26)+COUNTIF($D$147:$D$151,$T26) -> 0 | AB26: =SUMIF($D$123:$D$142,$T26,$H$123:$H$142)+SUMIF($D$147:$D$151,$T26,$H$147:$H$151) -> 0 | AC26: =COUNTIF($D$157:$D$176,$T26)+COUNTIF($D$181:$D$185,$T26) -> 0 | AD26: =SUMIF($D$157:$D$176,$T26,$H$157:$H$176)+SUMIF($D$181:$D$185,$T26,$H$181:$H$185) -> 0 | AE26: =COUNTIF($D$191:$D$210,$T26)+COUNTIF($D$215:$D$219,$T26) -> 0 | AF26: =SUMIF($D$191:$D$210,$T26,$H$191:$H$210)+SUMIF($D$215:$D$219,$T26,$H$215:$H$219) -> 0 | AG26: =SUM(U26,W26,Y26,AA26,AC26,AE26) -> 0 | AH26: =SUM(V26,X26,Z26,AB26,AD26,AF26) -> 0
I27: =IF(AND(B27<>"",C27<>"",D27<>"",E27<>"",F27<>"",G27<>"",H27<>""),VLOOKUP(G27,通所介護費!$A$20:$B$24,2,0),0) -> 0 | J27: =(I27*H27)*0.1*10 -> 0 | T27: =対象地域一覧!A27 -> 0 | U27: =COUNTIF($D$21:$D$40,$T27)+COUNTIF($D$45:$D$49,$T27) -> 0 | V27: =SUMIF($D$21:$D$40,$T27,$H$21:$H$40)+SUMIF($D$45:$D$49,$T27,$H$45:$H$49) -> 0 | W27: =COUNTIF($D$55:$D$74,$T27)+COUNTIF($D$79:$D$83,$T27) -> 0 | X27: =SUMIF($D$55:$D$74,$T27,$H$55:$H$74)+SUMIF($D$79:$D$83,$T27,$H$79:$H$83) -> 0 | Y27: =COUNTIF($D$89:$D$108,$T27)+COUNTIF($D$113:$D$117,$T27) -> 0 | Z27: =SUMIF($D$89:$D$108,$T27,$H$89:$H$108)+SUMIF($D$113:$D$117,$T27,$H$113:$H$117) -> 0 | AA27: =COUNTIF($D$123:$D$142,$T27)+COUNTIF($D$147:$D$151,$T27) -> 0 | AB27: =SUMIF($D$123:$D$142,$T27,$H$123:$H$142)+SUMIF($D$147:$D$151,$T27,$H$147:$H$151) -> 0 | AC27: =COUNTIF($D$157:$D$176,$T27)+COUNTIF($D$181:$D$185,$T27) -> 0 | AD27: =SUMIF($D$157:$D$176,$T27,$H$157:$H$176)+SUMIF($D$181:$D$185,$T27,$H$181:$H$185) -> 0 | AE27: =COUNTIF($D$191:$D$210,$T27)+COUNTIF($D$215:$D$219,$T27) -> 0 | AF27: =SUMIF($D$191:$D$210,$T27,$H$191:$H$210)+SUMIF($D$215:$D$219,$T27,$H$215:$H$219) -> 0 | AG27: =SUM(U27,W27,Y27,AA27,AC27,AE27) -> 0 | AH27: =SUM(V27,X27,Z27,AB27,AD27,AF27) -> 0
I28: =IF(AND(B28<>"",C28<>"",D28<>"",E28<>"",F28<>"",G28<>"",H28<>""),VLOOKUP(G28,通所介護費!$A$20:$B$24,2,0),0) -> 0 | J28: =(I28*H28)*0.1*10 -> 0 | U28: =COUNTIF($D$21:$D$40,$T28)+COUNTIF($D$45:$D$49,$T28) -> 0 | V28: =SUMIF($D$21:$D$40,$T28,$H$21:$H$40)+SUMIF($D$45:$D$49,$T28,$H$45:$H$49) -> 0 | W28: =COUNTIF($D$55:$D$74,$T28)+COUNTIF($D$79:$D$83,$T28) -> 0 | X28: =SUMIF($D$55:$D$74,$T28,$H$55:$H$74)+SUMIF($D$79:$D$83,$T28,$H$79:$H$83) -> 0 | Y28: =COUNTIF($D$89:$D$108,$T28)+COUNTIF($D$113:$D$117,$T28) -> 0 | Z28: =SUMIF($D$89:$D$108,$T28,$H$89:$H$108)+SUMIF($D$113:$D$117,$T28,$H$113:$H$117) -> 0 | AA28: =COUNTIF($D$123:$D$142,$T28)+COUNTIF($D$147:$D$151,$T28) -> 0 | AB28: =SUMIF($D$123:$D$142,$T28,$H$123:$H$142)+SUMIF($D$147:$D$151,$T28,$H$147:$H$151) -> 0 | AC28: =COUNTIF($D$157:$D$176,$T28)+COUNTIF($D$181:$D$185,$T28) -> 0 | AD28: =SUMIF($D$157:$D$176,$T28,$H$157:$H$176)+SUMIF($D$181:$D$185,$T28,$H$181:$H$185) -> 0 | AE28: =COUNTIF($D$191:$D$210,$T28)+COUNTIF($D$215:$D$219,$T28) -> 0 | AF28: =SUMIF($D$191:$D$210,$T28,$H$191:$H$210)+SUMIF($D$215:$D$219,$T28,$H$215:$H$219) -> 0 | AG28: =SUM(U28,W28,Y28,AA28,AC28,AE28) -> 0 | AH28: =SUM(V28,X28,Z28,AB28,AD28,AF28) -> 0
I29: =IF(AND(B29<>"",C29<>"",D29<>"",E29<>"",F29<>"",G29<>"",H29<>""),VLOOKUP(G29,通所介護費!$A$20:$B$24,2,0),0) -> 0 | J29: =(I29*H29)*0.1*10 -> 0 | U29: =COUNTIF($D$21:$D$40,$T29)+COUNTIF($D$45:$D$49,$T29) -> 0 | V29: =SUMIF($D$21:$D$40,$T29,$H$21:$H$40)+SUMIF($D$45:$D$49,$T29,$H$45:$H$49) -> 0 | W29: =COUNTIF($D$55:$D$74,$T29)+COUNTIF($D$79:$D$83,$T29) -> 0 | X29: =SUMIF($D$55:$D$74,$T29,$H$55:$H$74)+SUMIF($D$79:$D$83,$T29,$H$79:$H$83) -> 0 | Y29: =COUNTIF($D$89:$D$108,$T29)+COUNTIF($D$113:$D$117,$T29) -> 0 | Z29: =SUMIF($D$89:$D$108,$T29,$H$89:$H$108)+SUMIF($D$113:$D$117,$T29,$H$113:$H$117) -> 0 | AA29: =COUNTIF($D$123:$D$142,$T29)+COUNTIF($D$147:$D$151,$T29) -> 0 | AB29: =SUMIF($D$123:$D$142,$T29,$H$123:$H$142)+SUMIF($D$147:$D$151,$T29,$H$147:$H$151) -> 0 | AC29: =COUNTIF($D$157:$D$176,$T29)+COUNTIF($D$181:$D$185,$T29) -> 0 | AD29: =SUMIF($D$157:$D$176,$T29,$H$157:$H$176)+SUMIF($D$181:$D$185,$T29,$H$181:$H$185) -> 0 | AE29: =COUNTIF($D$191:$D$210,$T29)+COUNTIF($D$215:$D$219,$T29) -> 0 | AF29: =SUMIF($D$191:$D$210,$T29,$H$191:$H$210)+SUMIF($D$215:$D$219,$T29,$H$215:$H$219) -> 0 | AG29: =SUM(U29,W29,Y29,AA29,AC29,AE29) -> 0 | AH29: =SUM(V29,X29,Z29,AB29,AD29,AF29) -> 0
I30: =IF(AND(B30<>"",C30<>"",D30<>"",E30<>"",F30<>"",G30<>"",H30<>""),VLOOKUP(G30,通所介護費!$A$20:$B$24,2,0),0) -> 0 | J30: =(I30*H30)*0.1*10 -> 0 | U30: =COUNTIF($D$21:$D$40,$T30)+COUNTIF($D$45:$D$49,$T30) -> 0 | V30: =SUMIF($D$21:$D$40,$T30,$H$21:$H$40)+SUMIF($D$45:$D$49,$T30,$H$45:$H$49) -> 0 | W30: =COUNTIF($D$55:$D$74,$T30)+COUNTIF($D$79:$D$83,$T30) -> 0 | X30: =SUMIF($D$55:$D$74,$T30,$H$55:$H$74)+SUMIF($D$79:$D$83,$T30,$H$79:$H$83) -> 0 | Y30: =COUNTIF($D$89:$D$108,$T30)+COUNTIF($D$113:$D$117,$T30) -> 0 | Z30: =SUMIF($D$89:$D$108,$T30,$H$89:$H$108)+SUMIF($D$113:$D$117,$T30,$H$113:$H$117) -> 0 | AA30: =COUNTIF($D$123:$D$142,$T30)+COUNTIF($D$147:$D$151,$T30) -> 0 | AB30: =SUMIF($D$123:$D$142,$T30,$H$123:$H$142)+SUMIF($D$147:$D$151,$T30,$H$147:$H$151) -> 0 | AC30: =COUNTIF($D$157:$D$176,$T30)+COUNTIF($D$181:$D$185,$T30) -> 0 | AD30: =SUMIF($D$157:$D$176,$T30,$H$157:$H$176)+SUMIF($D$181:$D$185,$T30,$H$181:$H$185) -> 0 | AE30: =COUNTIF($D$191:$D$210,$T30)+COUNTIF($D$215:$D$219,$T30) -> 0 | AF30: =SUMIF($D$191:$D$210,$T30,$H$191:$H$210)+SUMIF($D$215:$D$219,$T30,$H$215:$H$219) -> 0 | AG30: =SUM(U30,W30,Y30,AA30,AC30,AE30) -> 0 | AH30: =SUM(V30,X30,Z30,AB30,AD30,AF30) -> 0
I31: =IF(AND(B31<>"",C31<>"",D31<>"",E31<>"",F31<>"",G31<>"",H31<>""),VLOOKUP(G31,通所介護費!$A$20:$B$24,2,0),0) -> 0 | J31: =(I31*H31)*0.1*10 -> 0 | U31: =COUNTIF($D$21:$D$40,$T31)+COUNTIF($D$45:$D$49,$T31) -> 0 | V31: =SUMIF($D$21:$D$40,$T31,$H$21:$H$40)+SUMIF($D$45:$D$49,$T31,$H$45:$H$49) -> 0 | W31: =COUNTIF($D$55:$D$74,$T31)+COUNTIF($D$79:$D$83,$T31) -> 0 | X31: =SUMIF($D$55:$D$74,$T31,$H$55:$H$74)+SUMIF($D$79:$D$83,$T31,$H$79:$H$83) -> 0 | Y31: =COUNTIF($D$89:$D$108,$T31)+COUNTIF($D$113:$D$117,$T31) -> 0 | Z31: =SUMIF($D$89:$D$108,$T31,$H$89:$H$108)+SUMIF($D$113:$D$117,$T31,$H$113:$H$117) -> 0 | AA31: =COUNTIF($D$123:$D$142,$T31)+COUNTIF($D$147:$D$151,$T31) -> 0 | AB31: =SUMIF($D$123:$D$142,$T31,$H$123:$H$142)+SUMIF($D$147:$D$151,$T31,$H$147:$H$151) -> 0 | AC31: =COUNTIF($D$157:$D$176,$T31)+COUNTIF($D$181:$D$185,$T31) -> 0 | AD31: =SUMIF($D$157:$D$176,$T31,$H$157:$H$176)+SUMIF($D$181:$D$185,$T31,$H$181:$H$185) -> 0 | AE31: =COUNTIF($D$191:$D$210,$T31)+COUNTIF($D$215:$D$219,$T31) -> 0 | AF31: =SUMIF($D$191:$D$210,$T31,$H$191:$H$210)+SUMIF($D$215:$D$219,$T31,$H$215:$H$219) -> 0 | AG31: =SUM(U31,W31,Y31,AA31,AC31,AE31) -> 0 | AH31: =SUM(V31,X31,Z31,AB31,AD31,AF31) -> 0
I32: =IF(AND(B32<>"",C32<>"",D32<>"",E32<>"",F32<>"",G32<>"",H32<>""),VLOOKUP(G32,通所介護費!$A$20:$B$24,2,0),0) -> 0 | J32: =(I32*H32)*0.1*10 -> 0 | U32: =COUNTIF($D$21:$D$40,$T32)+COUNTIF($D$45:$D$49,$T32) -> 0 | V32: =SUMIF($D$21:$D$40,$T32,$H$21:$H$40)+SUMIF($D$45:$D$49,$T32,$H$45:$H$49) -> 0 | W32: =COUNTIF($D$55:$D$74,$T32)+COUNTIF($D$79:$D$83,$T32) -> 0 | X32: =SUMIF($D$55:$D$74,$T32,$H$55:$H$74)+SUMIF($D$79:$D$83,$T32,$H$79:$H$83) -> 0 | Y32: =COUNTIF($D$89:$D$108,$T32)+COUNTIF($D$113:$D$117,$T32) -> 0 | Z32: =SUMIF($D$89:$D$108,$T32,$H$89:$H$108)+SUMIF($D$113:$D$117,$T32,$H$113:$H$117) -> 0 | AA32: =COUNTIF($D$123:$D$142,$T32)+COUNTIF($D$147:$D$151,$T32) -> 0 | AB32: =SUMIF($D$123:$D$142,$T32,$H$123:$H$142)+SUMIF($D$147:$D$151,$T32,$H$147:$H$151) -> 0 | AC32: =COUNTIF($D$157:$D$176,$T32)+COUNTIF($D$181:$D$185,$T32) -> 0 | AD32: =SUMIF($D$157:$D$176,$T32,$H$157:$H$176)+SUMIF($D$181:$D$185,$T32,$H$181:$H$185) -> 0 | AE32: =COUNTIF($D$191:$D$210,$T32)+COUNTIF($D$215:$D$219,$T32) -> 0 | AF32: =SUMIF($D$191:$D$210,$T32,$H$191:$H$210)+SUMIF($D$215:$D$219,$T32,$H$215:$H$219) -> 0 | AG32: =SUM(U32,W32,Y32,AA32,AC32,AE32) -> 0 | AH32: =SUM(V32,X32,Z32,AB32,AD32,AF32) -> 0
I33: =IF(AND(B33<>"",C33<>"",D33<>"",E33<>"",F33<>"",G33<>"",H33<>""),VLOOKUP(G33,通所介護費!$A$20:$B$24,2,0),0) -> 0 | J33: =(I33*H33)*0.1*10 -> 0 | U33: =COUNTIF($D$21:$D$40,$T33)+COUNTIF($D$45:$D$49,$T33) -> 0 | V33: =SUMIF($D$21:$D$40,$T33,$H$21:$H$40)+SUMIF($D$45:$D$49,$T33,$H$45:$H$49) -> 0 | W33: =COUNTIF($D$55:$D$74,$T33)+COUNTIF($D$79:$D$83,$T33) -> 0 | X33: =SUMIF($D$55:$D$74,$T33,$H$55:$H$74)+SUMIF($D$79:$D$83,$T33,$H$79:$H$83) -> 0 | Y33: =COUNTIF($D$89:$D$108,$T33)+COUNTIF($D$113:$D$117,$T33) -> 0 | Z33: =SUMIF($D$89:$D$108,$T33,$H$89:$H$108)+SUMIF($D$113:$D$117,$T33,$H$113:$H$117) -> 0 | AA33: =COUNTIF($D$123:$D$142,$T33)+COUNTIF($D$147:$D$151,$T33) -> 0 | AB33: =SUMIF($D$123:$D$142,$T33,$H$123:$H$142)+SUMIF($D$147:$D$151,$T33,$H$147:$H$151) -> 0 | AC33: =COUNTIF($D$157:$D$176,$T33)+COUNTIF($D$181:$D$185,$T33) -> 0 | AD33: =SUMIF($D$157:$D$176,$T33,$H$157:$H$176)+SUMIF($D$181:$D$185,$T33,$H$181:$H$185) -> 0 | AE33: =COUNTIF($D$191:$D$210,$T33)+COUNTIF($D$215:$D$219,$T33) -> 0 | AF33: =SUMIF($D$191:$D$210,$T33,$H$191:$H$210)+SUMIF($D$215:$D$219,$T33,$H$215:$H$219) -> 0 | AG33: =SUM(U33,W33,Y33,AA33,AC33,AE33) -> 0 | AH33: =SUM(V33,X33,Z33,AB33,AD33,AF33) -> 0
I34: =IF(AND(B34<>"",C34<>"",D34<>"",E34<>"",F34<>"",G34<>"",H34<>""),VLOOKUP(G34,通所介護費!$A$20:$B$24,2,0),0) -> 0 | J34: =(I34*H34)*0.1*10 -> 0 | U34: =COUNTIF($D$21:$D$40,$T34)+COUNTIF($D$45:$D$49,$T34) -> 0 | V34: =SUMIF($D$21:$D$40,$T34,$H$21:$H$40)+SUMIF($D$45:$D$49,$T34,$H$45:$H$49) -> 0 | W34: =COUNTIF($D$55:$D$74,$T34)+COUNTIF($D$79:$D$83,$T34) -> 0 | X34: =SUMIF($D$55:$D$74,$T34,$H$55:$H$74)+SUMIF($D$79:$D$83,$T34,$H$79:$H$83) -> 0 | Y34: =COUNTIF($D$89:$D$108,$T34)+COUNTIF($D$113:$D$117,$T34) -> 0 | Z34: =SUMIF($D$89:$D$108,$T34,$H$89:$H$108)+SUMIF($D$113:$D$117,$T34,$H$113:$H$117) -> 0 | AA34: =COUNTIF($D$123:$D$142,$T34)+COUNTIF($D$147:$D$151,$T34) -> 0 | AB34: =SUMIF($D$123:$D$142,$T34,$H$123:$H$142)+SUMIF($D$147:$D$151,$T34,$H$147:$H$151) -> 0 | AC34: =COUNTIF($D$157:$D$176,$T34)+COUNTIF($D$181:$D$185,$T34) -> 0 | AD34: =SUMIF($D$157:$D$176,$T34,$H$157:$H$176)+SUMIF($D$181:$D$185,$T34,$H$181:$H$185) -> 0 | AE34: =COUNTIF($D$191:$D$210,$T34)+COUNTIF($D$215:$D$219,$T34) -> 0 | AF34: =SUMIF($D$191:$D$210,$T34,$H$191:$H$210)+SUMIF($D$215:$D$219,$T34,$H$215:$H$219) -> 0 | AG34: =SUM(U34,W34,Y34,AA34,AC34,AE34) -> 0 | AH34: =SUM(V34,X34,Z34,AB34,AD34,AF34) -> 0
I35: =IF(AND(B35<>"",C35<>"",D35<>"",E35<>"",F35<>"",G35<>"",H35<>""),VLOOKUP(G35,通所介護費!$A$20:$B$24,2,0),0) -> 0 | J35: =(I35*H35)*0.1*10 -> 0 | U35: =COUNTIF($D$21:$D$40,$T35)+COUNTIF($D$45:$D$49,$T35) -> 0 | V35: =SUMIF($D$21:$D$40,$T35,$H$21:$H$40)+SUMIF($D$45:$D$49,$T35,$H$45:$H$49) -> 0 | W35: =COUNTIF($D$55:$D$74,$T35)+COUNTIF($D$79:$D$83,$T35) -> 0 | X35: =SUMIF($D$55:$D$74,$T35,$H$55:$H$74)+SUMIF($D$79:$D$83,$T35,$H$79:$H$83) -> 0 | Y35: =COUNTIF($D$89:$D$108,$T35)+COUNTIF($D$113:$D$117,$T35) -> 0 | Z35: =SUMIF($D$89:$D$108,$T35,$H$89:$H$108)+SUMIF($D$113:$D$117,$T35,$H$113:$H$117) -> 0 | AA35: =COUNTIF($D$123:$D$142,$T35)+COUNTIF($D$147:$D$151,$T35) -> 0 | AB35: =SUMIF($D$123:$D$142,$T35,$H$123:$H$142)+SUMIF($D$147:$D$151,$T35,$H$147:$H$151) -> 0 | AC35: =COUNTIF($D$157:$D$176,$T35)+COUNTIF($D$181:$D$185,$T35) -> 0 | AD35: =SUMIF($D$157:$D$176,$T35,$H$157:$H$176)+SUMIF($D$181:$D$185,$T35,$H$181:$H$185) -> 0 | AE35: =COUNTIF($D$191:$D$210,$T35)+COUNTIF($D$215:$D$219,$T35) -> 0 | AF35: =SUMIF($D$191:$D$210,$T35,$H$191:$H$210)+SUMIF($D$215:$D$219,$T35,$H$215:$H$219) -> 0 | AG35: =SUM(U35,W35,Y35,AA35,AC35,AE35) -> 0 | AH35: =SUM(V35,X35,Z35,AB35,AD35,AF35) -> 0
I36: =IF(AND(B36<>"",C36<>"",D36<>"",E36<>"",F36<>"",G36<>"",H36<>""),VLOOKUP(G36,通所介護費!$A$20:$B$24,2,0),0) -> 0 | J36: =(I36*H36)*0.1*10 -> 0 | U36: =COUNTIF($D$21:$D$40,$T36)+COUNTIF($D$45:$D$49,$T36) -> 0 | V36: =SUMIF($D$21:$D$40,$T36,$H$21:$H$40)+SUMIF($D$45:$D$49,$T36,$H$45:$H$49) -> 0 | W36: =COUNTIF($D$55:$D$74,$T36)+COUNTIF($D$79:$D$83,$T36) -> 0 | X36: =SUMIF($D$55:$D$74,$T36,$H$55:$H$74)+SUMIF($D$79:$D$83,$T36,$H$79:$H$83) -> 0 | Y36: =COUNTIF($D$89:$D$108,$T36)+COUNTIF($D$113:$D$117,$T36) -> 0 | Z36: =SUMIF($D$89:$D$108,$T36,$H$89:$H$108)+SUMIF($D$113:$D$117,$T36,$H$113:$H$117) -> 0 | AA36: =COUNTIF($D$123:$D$142,$T36)+COUNTIF($D$147:$D$151,$T36) -> 0 | AB36: =SUMIF($D$123:$D$142,$T36,$H$123:$H$142)+SUMIF($D$147:$D$151,$T36,$H$147:$H$151) -> 0 | AC36: =COUNTIF($D$157:$D$176,$T36)+COUNTIF($D$181:$D$185,$T36) -> 0 | AD36: =SUMIF($D$157:$D$176,$T36,$H$157:$H$176)+SUMIF($D$181:$D$185,$T36,$H$181:$H$185) -> 0 | AE36: =COUNTIF($D$191:$D$210,$T36)+COUNTIF($D$215:$D$219,$T36) -> 0 | AF36: =SUMIF($D$191:$D$210,$T36,$H$191:$H$210)+SUMIF($D$215:$D$219,$T36,$H$215:$H$219) -> 0 | AG36: =SUM(U36,W36,Y36,AA36,AC36,AE36) -> 0 | AH36: =SUM(V36,X36,Z36,AB36,AD36,AF36) -> 0
I37: =IF(AND(B37<>"",C37<>"",D37<>"",E37<>"",F37<>"",G37<>"",H37<>""),VLOOKUP(G37,通所介護費!$A$20:$B$24,2,0),0) -> 0 | J37: =(I37*H37)*0.1*10 -> 0 | U37: =COUNTIF($D$21:$D$40,$T37)+COUNTIF($D$45:$D$49,$T37) -> 0 | V37: =SUMIF($D$21:$D$40,$T37,$H$21:$H$40)+SUMIF($D$45:$D$49,$T37,$H$45:$H$49) -> 0 | W37: =COUNTIF($D$55:$D$74,$T37)+COUNTIF($D$79:$D$83,$T37) -> 0 | X37: =SUMIF($D$55:$D$74,$T37,$H$55:$H$74)+SUMIF($D$79:$D$83,$T37,$H$79:$H$83) -> 0 | Y37: =COUNTIF($D$89:$D$108,$T37)+COUNTIF($D$113:$D$117,$T37) -> 0 | Z37: =SUMIF($D$89:$D$108,$T37,$H$89:$H$108)+SUMIF($D$113:$D$117,$T37,$H$113:$H$117) -> 0 | AA37: =COUNTIF($D$123:$D$142,$T37)+COUNTIF($D$147:$D$151,$T37) -> 0 | AB37: =SUMIF($D$123:$D$142,$T37,$H$123:$H$142)+SUMIF($D$147:$D$151,$T37,$H$147:$H$151) -> 0 | AC37: =COUNTIF($D$157:$D$176,$T37)+COUNTIF($D$181:$D$185,$T37) -> 0 | AD37: =SUMIF($D$157:$D$176,$T37,$H$157:$H$176)+SUMIF($D$181:$D$185,$T37,$H$181:$H$185) -> 0 | AE37: =COUNTIF($D$191:$D$210,$T37)+COUNTIF($D$215:$D$219,$T37) -> 0 | AF37: =SUMIF($D$191:$D$210,$T37,$H$191:$H$210)+SUMIF($D$215:$D$219,$T37,$H$215:$H$219) -> 0 | AG37: =SUM(U37,W37,Y37,AA37,AC37,AE37) -> 0 | AH37: =SUM(V37,X37,Z37,AB37,AD37,AF37) -> 0
I38: =IF(AND(B38<>"",C38<>"",D38<>"",E38<>"",F38<>"",G38<>"",H38<>""),VLOOKUP(G38,通所介護費!$A$20:$B$24,2,0),0) -> 0 | J38: =(I38*H38)*0.1*10 -> 0 | U38: =COUNTIF($D$21:$D$40,$T38)+COUNTIF($D$45:$D$49,$T38) -> 0 | V38: =SUMIF($D$21:$D$40,$T38,$H$21:$H$40)+SUMIF($D$45:$D$49,$T38,$H$45:$H$49) -> 0 | W38: =COUNTIF($D$55:$D$74,$T38)+COUNTIF($D$79:$D$83,$T38) -> 0 | X38: =SUMIF($D$55:$D$74,$T38,$H$55:$H$74)+SUMIF($D$79:$D$83,$T38,$H$79:$H$83) -> 0 | Y38: =COUNTIF($D$89:$D$108,$T38)+COUNTIF($D$113:$D$117,$T38) -> 0 | Z38: =SUMIF($D$89:$D$108,$T38,$H$89:$H$108)+SUMIF($D$113:$D$117,$T38,$H$113:$H$117) -> 0 | AA38: =COUNTIF($D$123:$D$142,$T38)+COUNTIF($D$147:$D$151,$T38) -> 0 | AB38: =SUMIF($D$123:$D$142,$T38,$H$123:$H$142)+SUMIF($D$147:$D$151,$T38,$H$147:$H$151) -> 0 | AC38: =COUNTIF($D$157:$D$176,$T38)+COUNTIF($D$181:$D$185,$T38) -> 0 | AD38: =SUMIF($D$157:$D$176,$T38,$H$157:$H$176)+SUMIF($D$181:$D$185,$T38,$H$181:$H$185) -> 0 | AE38: =COUNTIF($D$191:$D$210,$T38)+COUNTIF($D$215:$D$219,$T38) -> 0 | AF38: =SUMIF($D$191:$D$210,$T38,$H$191:$H$210)+SUMIF($D$215:$D$219,$T38,$H$215:$H$219) -> 0 | AG38: =SUM(U38,W38,Y38,AA38,AC38,AE38) -> 0 | AH38: =SUM(V38,X38,Z38,AB38,AD38,AF38) -> 0
I39: =IF(AND(B39<>"",C39<>"",D39<>"",E39<>"",F39<>"",G39<>"",H39<>""),VLOOKUP(G39,通所介護費!$A$20:$B$24,2,0),0) -> 0 | J39: =(I39*H39)*0.1*10 -> 0 | U39: =COUNTIF($D$21:$D$40,$T39)+COUNTIF($D$45:$D$49,$T39) -> 0 | V39: =SUMIF($D$21:$D$40,$T39,$H$21:$H$40)+SUMIF($D$45:$D$49,$T39,$H$45:$H$49) -> 0 | W39: =COUNTIF($D$55:$D$74,$T39)+COUNTIF($D$79:$D$83,$T39) -> 0 | X39: =SUMIF($D$55:$D$74,$T39,$H$55:$H$74)+SUMIF($D$79:$D$83,$T39,$H$79:$H$83) -> 0 | Y39: =COUNTIF($D$89:$D$108,$T39)+COUNTIF($D$113:$D$117,$T39) -> 0 | Z39: =SUMIF($D$89:$D$108,$T39,$H$89:$H$108)+SUMIF($D$113:$D$117,$T39,$H$113:$H$117) -> 0 | AA39: =COUNTIF($D$123:$D$142,$T39)+COUNTIF($D$147:$D$151,$T39) -> 0 | AB39: =SUMIF($D$123:$D$142,$T39,$H$123:$H$142)+SUMIF($D$147:$D$151,$T39,$H$147:$H$151) -> 0 | AC39: =COUNTIF($D$157:$D$176,$T39)+COUNTIF($D$181:$D$185,$T39) -> 0 | AD39: =SUMIF($D$157:$D$176,$T39,$H$157:$H$176)+SUMIF($D$181:$D$185,$T39,$H$181:$H$185) -> 0 | AE39: =COUNTIF($D$191:$D$210,$T39)+COUNTIF($D$215:$D$219,$T39) -> 0 | AF39: =SUMIF($D$191:$D$210,$T39,$H$191:$H$210)+SUMIF($D$215:$D$219,$T39,$H$215:$H$219) -> 0 | AG39: =SUM(U39,W39,Y39,AA39,AC39,AE39) -> 0 | AH39: =SUM(V39,X39,Z39,AB39,AD39,AF39) -> 0
I40: =IF(AND(B40<>"",C40<>"",D40<>"",E40<>"",F40<>"",G40<>"",H40<>""),VLOOKUP(G40,通所介護費!$A$20:$B$24,2,0),0) -> 0 | J40: =(I40*H40)*0.1*10 -> 0 | U40: =COUNTIF($D$21:$D$40,$T40)+COUNTIF($D$45:$D$49,$T40) -> 0 | V40: =SUMIF($D$21:$D$40,$T40,$H$21:$H$40)+SUMIF($D$45:$D$49,$T40,$H$45:$H$49) -> 0 | W40: =COUNTIF($D$55:$D$74,$T40)+COUNTIF($D$79:$D$83,$T40) -> 0 | X40: =SUMIF($D$55:$D$74,$T40,$H$55:$H$74)+SUMIF($D$79:$D$83,$T40,$H$79:$H$83) -> 0 | Y40: =COUNTIF($D$89:$D$108,$T40)+COUNTIF($D$113:$D$117,$T40) -> 0 | Z40: =SUMIF($D$89:$D$108,$T40,$H$89:$H$108)+SUMIF($D$113:$D$117,$T40,$H$113:$H$117) -> 0 | AA40: =COUNTIF($D$123:$D$142,$T40)+COUNTIF($D$147:$D$151,$T40) -> 0 | AB40: =SUMIF($D$123:$D$142,$T40,$H$123:$H$142)+SUMIF($D$147:$D$151,$T40,$H$147:$H$151) -> 0 | AC40: =COUNTIF($D$157:$D$176,$T40)+COUNTIF($D$181:$D$185,$T40) -> 0 | AD40: =SUMIF($D$157:$D$176,$T40,$H$157:$H$176)+SUMIF($D$181:$D$185,$T40,$H$181:$H$185) -> 0 | AE40: =COUNTIF($D$191:$D$210,$T40)+COUNTIF($D$215:$D$219,$T40) -> 0 | AF40: =SUMIF($D$191:$D$210,$T40,$H$191:$H$210)+SUMIF($D$215:$D$219,$T40,$H$215:$H$219) -> 0 | AG40: =SUM(U40,W40,Y40,AA40,AC40,AE40) -> 0 | AH40: =SUM(V40,X40,Z40,AB40,AD40,AF40) -> 0
A41: 合計 | H41: =SUMIF(H21:H40,"<>#N/A") -> 0 | I41: =SUMIF(I21:I40,"<>#N/A") -> 0 | J41: =SUMIF(J21:J40,"<>#N/A") -> 0 | U41: =COUNTIF($D$21:$D$40,$T41)+COUNTIF($D$45:$D$49,$T41) -> 0 | V41: =SUMIF($D$21:$D$40,$T41,$H$21:$H$40)+SUMIF($D$45:$D$49,$T41,$H$45:$H$49) -> 0 | W41: =COUNTIF($D$55:$D$74,$T41)+COUNTIF($D$79:$D$83,$T41) -> 0 | X41: =SUMIF($D$55:$D$74,$T41,$H$55:$H$74)+SUMIF($D$79:$D$83,$T41,$H$79:$H$83) -> 0 | Y41: =COUNTIF($D$89:$D$108,$T41)+COUNTIF($D$113:$D$117,$T41) -> 0 | Z41: =SUMIF($D$89:$D$108,$T41,$H$89:$H$108)+SUMIF($D$113:$D$117,$T41,$H$113:$H$117) -> 0 | AA41: =COUNTIF($D$123:$D$142,$T41)+COUNTIF($D$147:$D$151,$T41) -> 0 | AB41: =SUMIF($D$123:$D$142,$T41,$H$123:$H$142)+SUMIF($D$147:$D$151,$T41,$H$147:$H$151) -> 0 | AC41: =COUNTIF($D$157:$D$176,$T41)+COUNTIF($D$181:$D$185,$T41) -> 0 | AD41: =SUMIF($D$157:$D$176,$T41,$H$157:$H$176)+SUMIF($D$181:$D$185,$T41,$H$181:$H$185) -> 0 | AE41: =COUNTIF($D$191:$D$210,$T41)+COUNTIF($D$215:$D$219,$T41) -> 0 | AF41: =SUMIF($D$191:$D$210,$T41,$H$191:$H$210)+SUMIF($D$215:$D$219,$T41,$H$215:$H$219) -> 0 | AG41: =SUM(U41,W41,Y41,AA41,AC41,AE41) -> 0 | AH41: =SUM(V41,X41,Z41,AB41,AD41,AF41) -> 0
U42: =COUNTIF($D$21:$D$40,$T42)+COUNTIF($D$45:$D$49,$T42) -> 0 | V42: =SUMIF($D$21:$D$40,$T42,$H$21:$H$40)+SUMIF($D$45:$D$49,$T42,$H$45:$H$49) -> 0 | W42: =COUNTIF($D$55:$D$74,$T42)+COUNTIF($D$79:$D$83,$T42) -> 0 | X42: =SUMIF($D$55:$D$74,$T42,$H$55:$H$74)+SUMIF($D$79:$D$83,$T42,$H$79:$H$83) -> 0 | Y42: =COUNTIF($D$89:$D$108,$T42)+COUNTIF($D$113:$D$117,$T42) -> 0 | Z42: =SUMIF($D$89:$D$108,$T42,$H$89:$H$108)+SUMIF($D$113:$D$117,$T42,$H$113:$H$117) -> 0 | AA42: =COUNTIF($D$123:$D$142,$T42)+COUNTIF($D$147:$D$151,$T42) -> 0 | AB42: =SUMIF($D$123:$D$142,$T42,$H$123:$H$142)+SUMIF($D$147:$D$151,$T42,$H$147:$H$151) -> 0 | AC42: =COUNTIF($D$157:$D$176,$T42)+COUNTIF($D$181:$D$185,$T42) -> 0 | AD42: =SUMIF($D$157:$D$176,$T42,$H$157:$H$176)+SUMIF($D$181:$D$185,$T42,$H$181:$H$185) -> 0 | AE42: =COUNTIF($D$191:$D$210,$T42)+COUNTIF($D$215:$D$219,$T42) -> 0 | AF42: =SUMIF($D$191:$D$210,$T42,$H$191:$H$210)+SUMIF($D$215:$D$219,$T42,$H$215:$H$219) -> 0 | AG42: =SUM(U42,W42,Y42,AA42,AC42,AE42) -> 0 | AH42: =SUM(V42,X42,Z42,AB42,AD42,AF42) -> 0
A43: ※片道のみ送迎を行った場合 | U43: =COUNTIF($D$21:$D$40,$T43)+COUNTIF($D$45:$D$49,$T43) -> 0 | V43: =SUMIF($D$21:$D$40,$T43,$H$21:$H$40)+SUMIF($D$45:$D$49,$T43,$H$45:$H$49) -> 0 | W43: =COUNTIF($D$55:$D$74,$T43)+COUNTIF($D$79:$D$83,$T43) -> 0 | X43: =SUMIF($D$55:$D$74,$T43,$H$55:$H$74)+SUMIF($D$79:$D$83,$T43,$H$79:$H$83) -> 0 | Y43: =COUNTIF($D$89:$D$108,$T43)+COUNTIF($D$113:$D$117,$T43) -> 0 | Z43: =SUMIF($D$89:$D$108,$T43,$H$89:$H$108)+SUMIF($D$113:$D$117,$T43,$H$113:$H$117) -> 0 | AA43: =COUNTIF($D$123:$D$142,$T43)+COUNTIF($D$147:$D$151,$T43) -> 0 | AB43: =SUMIF($D$123:$D$142,$T43,$H$123:$H$142)+SUMIF($D$147:$D$151,$T43,$H$147:$H$151) -> 0 | AC43: =COUNTIF($D$157:$D$176,$T43)+COUNTIF($D$181:$D$185,$T43) -> 0 | AD43: =SUMIF($D$157:$D$176,$T43,$H$157:$H$176)+SUMIF($D$181:$D$185,$T43,$H$181:$H$185) -> 0 | AE43: =COUNTIF($D$191:$D$210,$T43)+COUNTIF($D$215:$D$219,$T43) -> 0 | AF43: =SUMIF($D$191:$D$210,$T43,$H$191:$H$210)+SUMIF($D$215:$D$219,$T43,$H$215:$H$219) -> 0 | AG43: =SUM(U43,W43,Y43,AA43,AC43,AE43) -> 0 | AH43: =SUM(V43,X43,Z43,AB43,AD43,AF43) -> 0
A44: 所要時間3時間以上4時間未満の場合 | B44: 被保険者番号 | C44: 被保険者氏名 | D44: 地区名 | E44: 事業所から 利用者宅までの 距離（km） | F44: 事業所から 利用者宅までの 所要時間（分） | G44: 要介護度 | H44: サービス 提供回数 ※片道のみ | I44: 基本報酬 （月単位数） | J44: 基準額(月) | U44: =COUNTIF($D$21:$D$40,$T44)+COUNTIF($D$45:$D$49,$T44) -> 0 | V44: =SUMIF($D$21:$D$40,$T44,$H$21:$H$40)+SUMIF($D$45:$D$49,$T44,$H$45:$H$49) -> 0 | W44: =COUNTIF($D$55:$D$74,$T44)+COUNTIF($D$79:$D$83,$T44) -> 0 | X44: =SUMIF($D$55:$D$74,$T44,$H$55:$H$74)+SUMIF($D$79:$D$83,$T44,$H$79:$H$83) -> 0 | Y44: =COUNTIF($D$89:$D$108,$T44)+COUNTIF($D$113:$D$117,$T44) -> 0 | Z44: =SUMIF($D$89:$D$108,$T44,$H$89:$H$108)+SUMIF($D$113:$D$117,$T44,$H$113:$H$117) -> 0 | AA44: =COUNTIF($D$123:$D$142,$T44)+COUNTIF($D$147:$D$151,$T44) -> 0 | AB44: =SUMIF($D$123:$D$142,$T44,$H$123:$H$142)+SUMIF($D$147:$D$151,$T44,$H$147:$H$151) -> 0 | AC44: =COUNTIF($D$157:$D$176,$T44)+COUNTIF($D$181:$D$185,$T44) -> 0 | AD44: =SUMIF($D$157:$D$176,$T44,$H$157:$H$176)+SUMIF($D$181:$D$185,$T44,$H$181:$H$185) -> 0 | AE44: =COUNTIF($D$191:$D$210,$T44)+COUNTIF($D$215:$D$219,$T44) -> 0 | AF44: =SUMIF($D$191:$D$210,$T44,$H$191:$H$210)+SUMIF($D$215:$D$219,$T44,$H$215:$H$219) -> 0 | AG44: =SUM(U44,W44,Y44,AA44,AC44,AE44) -> 0 | AH44: =SUM(V44,X44,Z44,AB44,AD44,AF44) -> 0
I45: =IF(AND(B45<>"",C45<>"",D45<>"",F45<>"",E45<>"",G45<>"",H45<>""),VLOOKUP(G45,通所介護費!$A$20:$B$24,2,0),0) -> 0 | J45: =((I45*H45)*0.1*10)/2 -> 0 | U45: =COUNTIF($D$21:$D$40,$T45)+COUNTIF($D$45:$D$49,$T45) -> 0 | V45: =SUMIF($D$21:$D$40,$T45,$H$21:$H$40)+SUMIF($D$45:$D$49,$T45,$H$45:$H$49) -> 0 | W45: =COUNTIF($D$55:$D$74,$T45)+COUNTIF($D$79:$D$83,$T45) -> 0 | X45: =SUMIF($D$55:$D$74,$T45,$H$55:$H$74)+SUMIF($D$79:$D$83,$T45,$H$79:$H$83) -> 0 | Y45: =COUNTIF($D$89:$D$108,$T45)+COUNTIF($D$113:$D$117,$T45) -> 0 | Z45: =SUMIF($D$89:$D$108,$T45,$H$89:$H$108)+SUMIF($D$113:$D$117,$T45,$H$113:$H$117) -> 0 | AA45: =COUNTIF($D$123:$D$142,$T45)+COUNTIF($D$147:$D$151,$T45) -> 0 | AB45: =SUMIF($D$123:$D$142,$T45,$H$123:$H$142)+SUMIF($D$147:$D$151,$T45,$H$147:$H$151) -> 0 | AC45: =COUNTIF($D$157:$D$176,$T45)+COUNTIF($D$181:$D$185,$T45) -> 0 | AD45: =SUMIF($D$157:$D$176,$T45,$H$157:$H$176)+SUMIF($D$181:$D$185,$T45,$H$181:$H$185) -> 0 | AE45: =COUNTIF($D$191:$D$210,$T45)+COUNTIF($D$215:$D$219,$T45) -> 0 | AF45: =SUMIF($D$191:$D$210,$T45,$H$191:$H$210)+SUMIF($D$215:$D$219,$T45,$H$215:$H$219) -> 0 | AG45: =SUM(U45,W45,Y45,AA45,AC45,AE45) -> 0 | AH45: =SUM(V45,X45,Z45,AB45,AD45,AF45) -> 0
I46: =IF(AND(B46<>"",C46<>"",D46<>"",F46<>"",E46<>"",G46<>"",H46<>""),VLOOKUP(G46,通所介護費!$A$20:$B$24,2,0),0) -> 0 | J46: =((I46*H46)*0.1*10)/2 -> 0 | AG46: =SUM(AG3:AG45) -> 0 | AH46: =SUM(AH3:AH45) -> 0
I47: =IF(AND(B47<>"",C47<>"",D47<>"",F47<>"",E47<>"",G47<>"",H47<>""),VLOOKUP(G47,通所介護費!$A$20:$B$24,2,0),0) -> 0 | J47: =((I47*H47)*0.1*10)/2 -> 0
I48: =IF(AND(B48<>"",C48<>"",D48<>"",F48<>"",E48<>"",G48<>"",H48<>""),VLOOKUP(G48,通所介護費!$A$20:$B$24,2,0),0) -> 0 | J48: =((I48*H48)*0.1*10)/2 -> 0
I49: =IF(AND(B49<>"",C49<>"",D49<>"",F49<>"",E49<>"",G49<>"",H49<>""),VLOOKUP(G49,通所介護費!$A$20:$B$24,2,0),0) -> 0 | J49: =((I49*H49)*0.1*10)/2 -> 0
A50: 合計 | H50: =SUMIF(H45:H49,"<>#N/A") -> 0 | I50: =SUMIF(I45:I49,"<>#N/A") -> 0 | J50: =SUMIF(J45:J49,"<>#N/A") -> 0
A52: （2）所要時間4時間以上5時間未満の場合
A53: ※往復の送迎を行った場合 （片道のみ送迎を行った場合は下記別表に入力すること）
A54: 所要時間4時間以上5時間未満の場合 | B54: 被保険者番号 | C54: 被保険者氏名 | D54: 地区名 | E54: 事業所から 利用者宅までの 距離（km） | F54: 事業所から 利用者宅までの 所要時間（分） | G54: 要介護度 | H54: サービス 提供回数 | I54: 基本報酬 （月単位数） | J54: 基準額(月)
I55: =IF(AND(B55<>"",C55<>"",D55<>"",E55<>"",F55<>"",G55<>"",H55<>""),VLOOKUP(G55,通所介護費!$A$27:$B$31,2,0),0) -> 0 | J55: =(I55*H55)*0.1*10 -> 0
I56: =IF(AND(B56<>"",C56<>"",D56<>"",E56<>"",F56<>"",G56<>"",H56<>""),VLOOKUP(G56,通所介護費!$A$27:$B$31,2,0),0) -> 0 | J56: =(I56*H56)*0.1*10 -> 0
I57: =IF(AND(B57<>"",C57<>"",D57<>"",E57<>"",F57<>"",G57<>"",H57<>""),VLOOKUP(G57,通所介護費!$A$27:$B$31,2,0),0) -> 0 | J57: =(I57*H57)*0.1*10 -> 0
I58: =IF(AND(B58<>"",C58<>"",D58<>"",E58<>"",F58<>"",G58<>"",H58<>""),VLOOKUP(G58,通所介護費!$A$27:$B$31,2,0),0) -> 0 | J58: =(I58*H58)*0.1*10 -> 0
I59: =IF(AND(B59<>"",C59<>"",D59<>"",E59<>"",F59<>"",G59<>"",H59<>""),VLOOKUP(G59,通所介護費!$A$27:$B$31,2,0),0) -> 0 | J59: =(I59*H59)*0.1*10 -> 0
I60: =IF(AND(B60<>"",C60<>"",D60<>"",E60<>"",F60<>"",G60<>"",H60<>""),VLOOKUP(G60,通所介護費!$A$27:$B$31,2,0),0) -> 0 | J60: =(I60*H60)*0.1*10 -> 0
I61: =IF(AND(B61<>"",C61<>"",D61<>"",E61<>"",F61<>"",G61<>"",H61<>""),VLOOKUP(G61,通所介護費!$A$27:$B$31,2,0),0) -> 0 | J61: =(I61*H61)*0.1*10 -> 0
I62: =IF(AND(B62<>"",C62<>"",D62<>"",E62<>"",F62<>"",G62<>"",H62<>""),VLOOKUP(G62,通所介護費!$A$27:$B$31,2,0),0) -> 0 | J62: =(I62*H62)*0.1*10 -> 0
I63: =IF(AND(B63<>"",C63<>"",D63<>"",E63<>"",F63<>"",G63<>"",H63<>""),VLOOKUP(G63,通所介護費!$A$27:$B$31,2,0),0) -> 0 | J63: =(I63*H63)*0.1*10 -> 0
I64: =IF(AND(B64<>"",C64<>"",D64<>"",E64<>"",F64<>"",G64<>"",H64<>""),VLOOKUP(G64,通所介護費!$A$27:$B$31,2,0),0) -> 0 | J64: =(I64*H64)*0.1*10 -> 0
I65: =IF(AND(B65<>"",C65<>"",D65<>"",E65<>"",F65<>"",G65<>"",H65<>""),VLOOKUP(G65,通所介護費!$A$27:$B$31,2,0),0) -> 0 | J65: =(I65*H65)*0.1*10 -> 0
I66: =IF(AND(B66<>"",C66<>"",D66<>"",E66<>"",F66<>"",G66<>"",H66<>""),VLOOKUP(G66,通所介護費!$A$27:$B$31,2,0),0) -> 0 | J66: =(I66*H66)*0.1*10 -> 0
... I74: =IF(AND(B74<>"",C74<>"",D74<>"",E74<>"",F74<>"",G74<>"",H74<>""),VLOOKUP(G74,通所介護費!$A$27:$B$31,2,0),0) -> 0 | J74: =(I74*H74)*0.1*10 -> 0
A75: 合計 | H75: =SUMIF(H55:H74,"<>#N/A") -> 0 | I75: =SUMIF(I55:I74,"<>#N/A") -> 0 | J75: =SUMIF(J55:J74,"<>#N/A") -> 0
A77: ※片道のみ送迎を行った場合
A78: 所要時間4時間以上5時間未満の場合 | B78: 被保険者番号 | C78: 被保険者氏名 | D78: 地区名 | E78: 事業所から 利用者宅までの 距離（km） | F78: 事業所から 利用者宅までの 所要時間（分） | G78: 要介護度 | H78: サービス 提供回数 ※片道のみ | I78: 基本報酬 （月単位数） | J78: 基準額(月)
I79: =IF(AND(B79<>"",C79<>"",D79<>"",E79<>"",F79<>"",G79<>"",H79<>""),VLOOKUP(G79,通所介護費!$A$27:$B$31,2,0),0) -> 0 | J79: =((I79*H79)*0.1*10)/2 -> 0
I80: =IF(AND(B80<>"",C80<>"",D80<>"",E80<>"",F80<>"",G80<>"",H80<>""),VLOOKUP(G80,通所介護費!$A$27:$B$31,2,0),0) -> 0 | J80: =((I80*H80)*0.1*10)/2 -> 0
I81: =IF(AND(B81<>"",C81<>"",D81<>"",E81<>"",F81<>"",G81<>"",H81<>""),VLOOKUP(G81,通所介護費!$A$27:$B$31,2,0),0) -> 0 | J81: =((I81*H81)*0.1*10)/2 -> 0
I82: =IF(AND(B82<>"",C82<>"",D82<>"",E82<>"",F82<>"",G82<>"",H82<>""),VLOOKUP(G82,通所介護費!$A$27:$B$31,2,0),0) -> 0 | J82: =((I82*H82)*0.1*10)/2 -> 0
I83: =IF(AND(B83<>"",C83<>"",D83<>"",E83<>"",F83<>"",G83<>"",H83<>""),VLOOKUP(G83,通所介護費!$A$27:$B$31,2,0),0) -> 0 | J83: =((I83*H83)*0.1*10)/2 -> 0
A84: 合計 | H84: =SUMIF(H79:H83,"<>#N/A") -> 0 | I84: =SUMIF(I79:I83,"<>#N/A") -> 0 | J84: =SUMIF(J79:J83,"<>#N/A") -> 0
A86: （3）所要時間5時間以上6時間未満の場合
A87: ※往復の送迎を行った場合 （片道のみ送迎を行った場合は下記別表に入力すること）
A88: 所要時間5時間以上6時間未満の場合 | B88: 被保険者番号 | C88: 被保険者氏名 | D88: 地区名 | E88: 事業所から 利用者宅までの 距離（km） | F88: 事業所から 利用者宅までの 所要時間（分） | G88: 要介護度 | H88: サービス 提供回数 | I88: 基本報酬 （月単位数） | J88: 基準額(月)
I89: =IF(AND(B89<>"",C89<>"",D89<>"",E89<>"",F89<>"",G89<>"",H89<>""),VLOOKUP(G89,通所介護費!$A$34:$B$38,2,0),0) -> 0 | J89: =(I89*H89)*0.1*10 -> 0
I90: =IF(AND(B90<>"",C90<>"",D90<>"",E90<>"",F90<>"",G90<>"",H90<>""),VLOOKUP(G90,通所介護費!$A$34:$B$38,2,0),0) -> 0 | J90: =(I90*H90)*0.1*10 -> 0
I91: =IF(AND(B91<>"",C91<>"",D91<>"",E91<>"",F91<>"",G91<>"",H91<>""),VLOOKUP(G91,通所介護費!$A$34:$B$38,2,0),0) -> 0 | J91: =(I91*H91)*0.1*10 -> 0
I92: =IF(AND(B92<>"",C92<>"",D92<>"",E92<>"",F92<>"",G92<>"",H92<>""),VLOOKUP(G92,通所介護費!$A$34:$B$38,2,0),0) -> 0 | J92: =(I92*H92)*0.1*10 -> 0
I93: =IF(AND(B93<>"",C93<>"",D93<>"",E93<>"",F93<>"",G93<>"",H93<>""),VLOOKUP(G93,通所介護費!$A$34:$B$38,2,0),0) -> 0 | J93: =(I93*H93)*0.1*10 -> 0
I94: =IF(AND(B94<>"",C94<>"",D94<>"",E94<>"",F94<>"",G94<>"",H94<>""),VLOOKUP(G94,通所介護費!$A$34:$B$38,2,0),0) -> 0 | J94: =(I94*H94)*0.1*10 -> 0
I95: =IF(AND(B95<>"",C95<>"",D95<>"",E95<>"",F95<>"",G95<>"",H95<>""),VLOOKUP(G95,通所介護費!$A$34:$B$38,2,0),0) -> 0 | J95: =(I95*H95)*0.1*10 -> 0
I96: =IF(AND(B96<>"",C96<>"",D96<>"",E96<>"",F96<>"",G96<>"",H96<>""),VLOOKUP(G96,通所介護費!$A$34:$B$38,2,0),0) -> 0 | J96: =(I96*H96)*0.1*10 -> 0
I97: =IF(AND(B97<>"",C97<>"",D97<>"",E97<>"",F97<>"",G97<>"",H97<>""),VLOOKUP(G97,通所介護費!$A$34:$B$38,2,0),0) -> 0 | J97: =(I97*H97)*0.1*10 -> 0
I98: =IF(AND(B98<>"",C98<>"",D98<>"",E98<>"",F98<>"",G98<>"",H98<>""),VLOOKUP(G98,通所介護費!$A$34:$B$38,2,0),0) -> 0 | J98: =(I98*H98)*0.1*10 -> 0
I99: =IF(AND(B99<>"",C99<>"",D99<>"",E99<>"",F99<>"",G99<>"",H99<>""),VLOOKUP(G99,通所介護費!$A$34:$B$38,2,0),0) -> 0 | J99: =(I99*H99)*0.1*10 -> 0
I100: =IF(AND(B100<>"",C100<>"",D100<>"",E100<>"",F100<>"",G100<>"",H100<>""),VLOOKUP(G100,通所介護費!$A$34:$B$38,2,0),0) -> 0 | J100: =(I100*H100)*0.1*10 -> 0
... I108: =IF(AND(B108<>"",C108<>"",D108<>"",E108<>"",F108<>"",G108<>"",H108<>""),VLOOKUP(G108,通所介護費!$A$34:$B$38,2,0),0) -> 0 | J108: =(I108*H108)*0.1*10 -> 0
A109: 合計 | H109: =SUMIF(H89:H108,"<>#N/A") -> 0 | I109: =SUMIF(I89:I108,"<>#N/A") -> 0 | J109: =SUMIF(J89:J108,"<>#N/A") -> 0
A111: ※片道のみ送迎を行った場合
A112: 所要時間5時間以上6時間未満の場合 | B112: 被保険者番号 | C112: 被保険者氏名 | D112: 地区名 | E112: 事業所から 利用者宅までの 距離（km） | F112: 事業所から 利用者宅までの 所要時間（分） | G112: 要介護度 | H112: サービス 提供回数 ※片道のみ | I112: 基本報酬 （月単位数） | J112: 基準額(月)
I113: =IF(AND(B113<>"",C113<>"",D113<>"",E113<>22,F113<>"",G113<>"",H113<>""),VLOOKUP(G113,通所介護費!$A$34:$B$38,2,0),0) -> 0 | J113: =((I113*H113)*0.1*10)/2 -> 0
I114: =IF(AND(B114<>"",C114<>"",D114<>"",E114<>22,F114<>"",G114<>"",H114<>""),VLOOKUP(G114,通所介護費!$A$34:$B$38,2,0),0) -> 0 | J114: =((I114*H114)*0.1*10)/2 -> 0
I115: =IF(AND(B115<>"",C115<>"",D115<>"",E115<>22,F115<>"",G115<>"",H115<>""),VLOOKUP(G115,通所介護費!$A$34:$B$38,2,0),0) -> 0 | J115: =((I115*H115)*0.1*10)/2 -> 0
I116: =IF(AND(B116<>"",C116<>"",D116<>"",E116<>22,F116<>"",G116<>"",H116<>""),VLOOKUP(G116,通所介護費!$A$34:$B$38,2,0),0) -> 0 | J116: =((I116*H116)*0.1*10)/2 -> 0
I117: =IF(AND(B117<>"",C117<>"",D117<>"",E117<>22,F117<>"",G117<>"",H117<>""),VLOOKUP(G117,通所介護費!$A$34:$B$38,2,0),0) -> 0 | J117: =((I117*H117)*0.1*10)/2 -> 0
A118: 合計 | H118: =SUMIF(H113:H117,"<>#N/A") -> 0 | I118: =SUMIF(I113:I117,"<>#N/A") -> 0 | J118: =SUMIF(J113:J117,"<>#N/A") -> 0
...

Sheet (附表2)実施状況報告（５月）
A1: 附表2 | H1: 令和 年 月 日 | U1: ① | W1: ② | Y1: ③ | AA1: ④ | AC1: ⑤ | AE1: ⑥ | AG1: 合計
A2: 吉備中央町長 様 | U2: 対象者人数 | V2: サービス 提供回数 | W2: 対象者人数 | X2: サービス 提供回数 | Y2: 対象者人数 | Z2: サービス 提供回数 | AA2: 対象者人数 | AB2: サービス 提供回数 | AC2: 対象者人数 | AD2: サービス 提供回数 | AE2: 対象者人数 | AF2: サービス 提供回数 | AG2: 対象者人数 | AH2: サービス 提供回数
T3: =対象地域一覧!A3 -> 広面 | U3: =COUNTIF($D$21:$D$40,$T3)+COUNTIF($D$45:$D$49,$T3) -> 0 | V3: =SUMIF($D$21:$D$40,$T3,$H$21:$H$40)+SUMIF($D$45:$D$49,$T3,$H$45:$H$49) -> 0 | W3: =COUNTIF($D$55:$D$74,$T3)+COUNTIF($D$79:$D$83,$T3) -> 0 | X3: =SUMIF($D$55:$D$74,$T3,$H$55:$H$74)+SUMIF($D$79:$D$83,$T3,$H$79:$H$83) -> 0 | Y3: =COUNTIF($D$89:$D$108,$T3)+COUNTIF($D$113:$D$117,$T3) -> 0 | Z3: =SUMIF($D$89:$D$108,$T3,$H$89:$H$108)+SUMIF($D$113:$D$117,$T3,$H$113:$H$117) -> 0 | AA3: =COUNTIF($D$123:$D$142,$T3)+COUNTIF($D$147:$D$151,$T3) -> 0 | AB3: =SUMIF($D$123:$D$142,$T3,$H$123:$H$142)+SUMIF($D$147:$D$151,$T3,$H$147:$H$151) -> 0 | AC3: =COUNTIF($D$157:$D$176,$T3)+COUNTIF($D$181:$D$185,$T3) -> 0 | AD3: =SUMIF($D$157:$D$176,$T3,$H$157:$H$176)+SUMIF($D$181:$D$185,$T3,$H$181:$H$185) -> 0 | AE3: =COUNTIF($D$191:$D$210,$T3)+COUNTIF($D$215:$D$219,$T3) -> 0 | AF3: =SUMIF($D$191:$D$210,$T3,$H$191:$H$210)+SUMIF($D$215:$D$219,$T3,$H$215:$H$219) -> 0 | AG3: =SUM(U3,W3,Y3,AA3,AC3,AE3) -> 0 | AH3: =SUM(V3,X3,Z3,AB3,AD3,AF3) -> 0
A4: 実 施 状 況 報 告 明 細 書 （通所介護事業所用、通常規模型通所介護費） 令和８年５月分 | T4: =対象地域一覧!A4 -> 上加茂 | U4: =COUNTIF($D$21:$D$40,$T4)+COUNTIF($D$45:$D$49,$T4) -> 0 | V4: =SUMIF($D$21:$D$40,$T4,$H$21:$H$40)+SUMIF($D$45:$D$49,$T4,$H$45:$H$49) -> 0 | W4: =COUNTIF($D$55:$D$74,$T4)+COUNTIF($D$79:$D$83,$T4) -> 0 | X4: =SUMIF($D$55:$D$74,$T4,$H$55:$H$74)+SUMIF($D$79:$D$83,$T4,$H$79:$H$83) -> 0 | Y4: =COUNTIF($D$89:$D$108,$T4)+COUNTIF($D$113:$D$117,$T4) -> 0 | Z4: =SUMIF($D$89:$D$108,$T4,$H$89:$H$108)+SUMIF($D$113:$D$117,$T4,$H$113:$H$117) -> 0 | AA4: =COUNTIF($D$123:$D$142,$T4)+COUNTIF($D$147:$D$151,$T4) -> 0 | AB4: =SUMIF($D$123:$D$142,$T4,$H$123:$H$142)+SUMIF($D$147:$D$151,$T4,$H$147:$H$151) -> 0 | AC4: =COUNTIF($D$157:$D$176,$T4)+COUNTIF($D$181:$D$185,$T4) -> 0 | AD4: =SUMIF($D$157:$D$176,$T4,$H$157:$H$176)+SUMIF($D$181:$D$185,$T4,$H$181:$H$185) -> 0 | AE4: =COUNTIF($D$191:$D$210,$T4)+COUNTIF($D$215:$D$219,$T4) -> 0 | AF4: =SUMIF($D$191:$D$210,$T4,$H$191:$H$210)+SUMIF($D$215:$D$219,$T4,$H$215:$H$219) -> 0 | AG4: =SUM(U4,W4,Y4,AA4,AC4,AE4) -> 0 | AH4: =SUM(V4,X4,Z4,AB4,AD4,AF4) -> 0
T5: =対象地域一覧!A5 -> 下加茂 | U5: =COUNTIF($D$21:$D$40,$T5)+COUNTIF($D$45:$D$49,$T5) -> 0 | V5: =SUMIF($D$21:$D$40,$T5,$H$21:$H$40)+SUMIF($D$45:$D$49,$T5,$H$45:$H$49) -> 0 | W5: =COUNTIF($D$55:$D$74,$T5)+COUNTIF($D$79:$D$83,$T5) -> 0 | X5: =SUMIF($D$55:$D$74,$T5,$H$55:$H$74)+SUMIF($D$79:$D$83,$T5,$H$79:$H$83) -> 0 | Y5: =COUNTIF($D$89:$D$108,$T5)+COUNTIF($D$113:$D$117,$T5) -> 0 | Z5: =SUMIF($D$89:$D$108,$T5,$H$89:$H$108)+SUMIF($D$113:$D$117,$T5,$H$113:$H$117) -> 0 | AA5: =COUNTIF($D$123:$D$142,$T5)+COUNTIF($D$147:$D$151,$T5) -> 0 | AB5: =SUMIF($D$123:$D$142,$T5,$H$123:$H$142)+SUMIF($D$147:$D$151,$T5,$H$147:$H$151) -> 0 | AC5: =COUNTIF($D$157:$D$176,$T5)+COUNTIF($D$181:$D$185,$T5) -> 0 | AD5: =SUMIF($D$157:$D$176,$T5,$H$157:$H$176)+SUMIF($D$181:$D$185,$T5,$H$181:$H$185) -> 0 | AE5: =COUNTIF($D$191:$D$210,$T5)+COUNTIF($D$215:$D$219,$T5) -> 0 | AF5: =SUMIF($D$191:$D$210,$T5,$H$191:$H$210)+SUMIF($D$215:$D$219,$T5,$H$215:$H$219) -> 0 | AG5: =SUM(U5,W5,Y5,AA5,AC5,AE5) -> 0 | AH5: =SUM(V5,X5,Z5,AB5,AD5,AF5) -> 0
A6: 1.事業所情報 | T6: =対象地域一覧!A6 -> 美原 | U6: =COUNTIF($D$21:$D$40,$T6)+COUNTIF($D$45:$D$49,$T6) -> 0 | V6: =SUMIF($D$21:$D$40,$T6,$H$21:$H$40)+SUMIF($D$45:$D$49,$T6,$H$45:$H$49) -> 0 | W6: =COUNTIF($D$55:$D$74,$T6)+COUNTIF($D$79:$D$83,$T6) -> 0 | X6: =SUMIF($D$55:$D$74,$T6,$H$55:$H$74)+SUMIF($D$79:$D$83,$T6,$H$79:$H$83) -> 0 | Y6: =COUNTIF($D$89:$D$108,$T6)+COUNTIF($D$113:$D$117,$T6) -> 0 | Z6: =SUMIF($D$89:$D$108,$T6,$H$89:$H$108)+SUMIF($D$113:$D$117,$T6,$H$113:$H$117) -> 0 | AA6: =COUNTIF($D$123:$D$142,$T6)+COUNTIF($D$147:$D$151,$T6) -> 0 | AB6: =SUMIF($D$123:$D$142,$T6,$H$123:$H$142)+SUMIF($D$147:$D$151,$T6,$H$147:$H$151) -> 0 | AC6: =COUNTIF($D$157:$D$176,$T6)+COUNTIF($D$181:$D$185,$T6) -> 0 | AD6: =SUMIF($D$157:$D$176,$T6,$H$157:$H$176)+SUMIF($D$181:$D$185,$T6,$H$181:$H$185) -> 0 | AE6: =COUNTIF($D$191:$D$210,$T6)+COUNTIF($D$215:$D$219,$T6) -> 0 | AF6: =SUMIF($D$191:$D$210,$T6,$H$191:$H$210)+SUMIF($D$215:$D$219,$T6,$H$215:$H$219) -> 0 | AG6: =SUM(U6,W6,Y6,AA6,AC6,AE6) -> 0 | AH6: =SUM(V6,X6,Z6,AB6,AD6,AF6) -> 0
A7: 事業所名 | C7: =IF(基本情報入力シート!V8="","",基本情報入力シート!V8) | T7: =対象地域一覧!A7 -> 加茂市場 | U7: =COUNTIF($D$21:$D$40,$T7)+COUNTIF($D$45:$D$49,$T7) -> 0 | V7: =SUMIF($D$21:$D$40,$T7,$H$21:$H$40)+SUMIF($D$45:$D$49,$T7,$H$45:$H$49) -> 0 | W7: =COUNTIF($D$55:$D$74,$T7)+COUNTIF($D$79:$D$83,$T7) -> 0 | X7: =SUMIF($D$55:$D$74,$T7,$H$55:$H$74)+SUMIF($D$79:$D$83,$T7,$H$79:$H$83) -> 0 | Y7: =COUNTIF($D$89:$D$108,$T7)+COUNTIF($D$113:$D$117,$T7) -> 0 | Z7: =SUMIF($D$89:$D$108,$T7,$H$89:$H$108)+SUMIF($D$113:$D$117,$T7,$H$113:$H$117) -> 0 | AA7: =COUNTIF($D$123:$D$142,$T7)+COUNTIF($D$147:$D$151,$T7) -> 0 | AB7: =SUMIF($D$123:$D$142,$T7,$H$123:$H$142)+SUMIF($D$147:$D$151,$T7,$H$147:$H$151) -> 0 | AC7: =COUNTIF($D$157:$D$176,$T7)+COUNTIF($D$181:$D$185,$T7) -> 0 | AD7: =SUMIF($D$157:$D$176,$T7,$H$157:$H$176)+SUMIF($D$181:$D$185,$T7,$H$181:$H$185) -> 0 | AE7: =COUNTIF($D$191:$D$210,$T7)+COUNTIF($D$215:$D$219,$T7) -> 0 | AF7: =SUMIF($D$191:$D$210,$T7,$H$191:$H$210)+SUMIF($D$215:$D$219,$T7,$H$215:$H$219) -> 0 | AG7: =SUM(U7,W7,Y7,AA7,AC7,AE7) -> 0 | AH7: =SUM(V7,X7,Z7,AB7,AD7,AF7) -> 0
A8: 事業所名 | C8: =IF(基本情報入力シート!V19="","",基本情報入力シート!V19) | T8: =対象地域一覧!A8 -> 高谷 | U8: =COUNTIF($D$21:$D$40,$T8)+COUNTIF($D$45:$D$49,$T8) -> 0 | V8: =SUMIF($D$21:$D$40,$T8,$H$21:$H$40)+SUMIF($D$45:$D$49,$T8,$H$45:$H$49) -> 0 | W8: =COUNTIF($D$55:$D$74,$T8)+COUNTIF($D$79:$D$83,$T8) -> 0 | X8: =SUMIF($D$55:$D$74,$T8,$H$55:$H$74)+SUMIF($D$79:$D$83,$T8,$H$79:$H$83) -> 0 | Y8: =COUNTIF($D$89:$D$108,$T8)+COUNTIF($D$113:$D$117,$T8) -> 0 | Z8: =SUMIF($D$89:$D$108,$T8,$H$89:$H$108)+SUMIF($D$113:$D$117,$T8,$H$113:$H$117) -> 0 | AA8: =COUNTIF($D$123:$D$142,$T8)+COUNTIF($D$147:$D$151,$T8) -> 0 | AB8: =SUMIF($D$123:$D$142,$T8,$H$123:$H$142)+SUMIF($D$147:$D$151,$T8,$H$147:$H$151) -> 0 | AC8: =COUNTIF($D$157:$D$176,$T8)+COUNTIF($D$181:$D$185,$T8) -> 0 | AD8: =SUMIF($D$157:$D$176,$T8,$H$157:$H$176)+SUMIF($D$181:$D$185,$T8,$H$181:$H$185) -> 0 | AE8: =COUNTIF($D$191:$D$210,$T8)+COUNTIF($D$215:$D$219,$T8) -> 0 | AF8: =SUMIF($D$191:$D$210,$T8,$H$191:$H$210)+SUMIF($D$215:$D$219,$T8,$H$215:$H$219) -> 0 | AG8: =SUM(U8,W8,Y8,AA8,AC8,AE8) -> 0 | AH8: =SUM(V8,X8,Z8,AB8,AD8,AF8) -> 0
A9: 事業所所在地 | C9: =IF(基本情報入力シート!V20="","",基本情報入力シート!V20) | T9: =対象地域一覧!A9 -> 平岡 | U9: =COUNTIF($D$21:$D$40,$T9)+COUNTIF($D$45:$D$49,$T9) -> 0 | V9: =SUMIF($D$21:$D$40,$T9,$H$21:$H$40)+SUMIF($D$45:$D$49,$T9,$H$45:$H$49) -> 0 | W9: =COUNTIF($D$55:$D$74,$T9)+COUNTIF($D$79:$D$83,$T9) -> 0 | X9: =SUMIF($D$55:$D$74,$T9,$H$55:$H$74)+SUMIF($D$79:$D$83,$T9,$H$79:$H$83) -> 0 | Y9: =COUNTIF($D$89:$D$108,$T9)+COUNTIF($D$113:$D$117,$T9) -> 0 | Z9: =SUMIF($D$89:$D$108,$T9,$H$89:$H$108)+SUMIF($D$113:$D$117,$T9,$H$113:$H$117) -> 0 | AA9: =COUNTIF($D$123:$D$142,$T9)+COUNTIF($D$147:$D$151,$T9) -> 0 | AB9: =SUMIF($D$123:$D$142,$T9,$H$123:$H$142)+SUMIF($D$147:$D$151,$T9,$H$147:$H$151) -> 0 | AC9: =COUNTIF($D$157:$D$176,$T9)+COUNTIF($D$181:$D$185,$T9) -> 0 | AD9: =SUMIF($D$157:$D$176,$T9,$H$157:$H$176)+SUMIF($D$181:$D$185,$T9,$H$181:$H$185) -> 0 | AE9: =COUNTIF($D$191:$D$210,$T9)+COUNTIF($D$215:$D$219,$T9) -> 0 | AF9: =SUMIF($D$191:$D$210,$T9,$H$191:$H$210)+SUMIF($D$215:$D$219,$T9,$H$215:$H$219) -> 0 | AG9: =SUM(U9,W9,Y9,AA9,AC9,AE9) -> 0 | AH9: =SUM(V9,X9,Z9,AB9,AD9,AF9) -> 0
A10: サービス種別 | C10: =IF(基本情報入力シート!V21="","",基本情報入力シート!V21) -> 通所介護 | T10: =対象地域一覧!A10 -> 上野 | U10: =COUNTIF($D$21:$D$40,$T10)+COUNTIF($D$45:$D$49,$T10) -> 0 | V10: =SUMIF($D$21:$D$40,$T10,$H$21:$H$40)+SUMIF($D$45:$D$49,$T10,$H$45:$H$49) -> 0 | W10: =COUNTIF($D$55:$D$74,$T10)+COUNTIF($D$79:$D$83,$T10) -> 0 | X10: =SUMIF($D$55:$D$74,$T10,$H$55:$H$74)+SUMIF($D$79:$D$83,$T10,$H$79:$H$83) -> 0 | Y10: =COUNTIF($D$89:$D$108,$T10)+COUNTIF($D$113:$D$117,$T10) -> 0 | Z10: =SUMIF($D$89:$D$108,$T10,$H$89:$H$108)+SUMIF($D$113:$D$117,$T10,$H$113:$H$117) -> 0 | AA10: =COUNTIF($D$123:$D$142,$T10)+COUNTIF($D$147:$D$151,$T10) -> 0 | AB10: =SUMIF($D$123:$D$142,$T10,$H$123:$H$142)+SUMIF($D$147:$D$151,$T10,$H$147:$H$151) -> 0 | AC10: =COUNTIF($D$157:$D$176,$T10)+COUNTIF($D$181:$D$185,$T10) -> 0 | AD10: =SUMIF($D$157:$D$176,$T10,$H$157:$H$176)+SUMIF($D$181:$D$185,$T10,$H$181:$H$185) -> 0 | AE10: =COUNTIF($D$191:$D$210,$T10)+COUNTIF($D$215:$D$219,$T10) -> 0 | AF10: =SUMIF($D$191:$D$210,$T10,$H$191:$H$210)+SUMIF($D$215:$D$219,$T10,$H$215:$H$219) -> 0 | AG10: =SUM(U10,W10,Y10,AA10,AC10,AE10) -> 0 | AH10: =SUM(V10,X10,Z10,AB10,AD10,AF10) -> 0
A11: 補助対象事業区分 | C11: =IF(基本情報入力シート!V22="","",基本情報入力シート!V22) -> 別表第1の1 区分1 移動に片道20分以上の時間を要するサービス（特別地域加算対象地域内に居住する利用者を対象に行う場合） | T11: =対象地域一覧!A11 -> 竹部 | U11: =COUNTIF($D$21:$D$40,$T11)+COUNTIF($D$45:$D$49,$T11) -> 0 | V11: =SUMIF($D$21:$D$40,$T11,$H$21:$H$40)+SUMIF($D$45:$D$49,$T11,$H$45:$H$49) -> 0 | W11: =COUNTIF($D$55:$D$74,$T11)+COUNTIF($D$79:$D$83,$T11) -> 0 | X11: =SUMIF($D$55:$D$74,$T11,$H$55:$H$74)+SUMIF($D$79:$D$83,$T11,$H$79:$H$83) -> 0 | Y11: =COUNTIF($D$89:$D$108,$T11)+COUNTIF($D$113:$D$117,$T11) -> 0 | Z11: =SUMIF($D$89:$D$108,$T11,$H$89:$H$108)+SUMIF($D$113:$D$117,$T11,$H$113:$H$117) -> 0 | AA11: =COUNTIF($D$123:$D$142,$T11)+COUNTIF($D$147:$D$151,$T11) -> 0 | AB11: =SUMIF($D$123:$D$142,$T11,$H$123:$H$142)+SUMIF($D$147:$D$151,$T11,$H$147:$H$151) -> 0 | AC11: =COUNTIF($D$157:$D$176,$T11)+COUNTIF($D$181:$D$185,$T11) -> 0 | AD11: =SUMIF($D$157:$D$176,$T11,$H$157:$H$176)+SUMIF($D$181:$D$185,$T11,$H$181:$H$185) -> 0 | AE11: =COUNTIF($D$191:$D$210,$T11)+COUNTIF($D$215:$D$219,$T11) -> 0 | AF11: =SUMIF($D$191:$D$210,$T11,$H$191:$H$210)+SUMIF($D$215:$D$219,$T11,$H$215:$H$219) -> 0 | AG11: =SUM(U11,W11,Y11,AA11,AC11,AE11) -> 0 | AH11: =SUM(V11,X11,Z11,AB11,AD11,AF11) -> 0
A12: 加算区分 | C12: 通常規模型通所介護費 | T12: =対象地域一覧!A12 -> 上田東 | U12: =COUNTIF($D$21:$D$40,$T12)+COUNTIF($D$45:$D$49,$T12) -> 0 | V12: =SUMIF($D$21:$D$40,$T12,$H$21:$H$40)+SUMIF($D$45:$D$49,$T12,$H$45:$H$49) -> 0 | W12: =COUNTIF($D$55:$D$74,$T12)+COUNTIF($D$79:$D$83,$T12) -> 0 | X12: =SUMIF($D$55:$D$74,$T12,$H$55:$H$74)+SUMIF($D$79:$D$83,$T12,$H$79:$H$83) -> 0 | Y12: =COUNTIF($D$89:$D$108,$T12)+COUNTIF($D$113:$D$117,$T12) -> 0 | Z12: =SUMIF($D$89:$D$108,$T12,$H$89:$H$108)+SUMIF($D$113:$D$117,$T12,$H$113:$H$117) -> 0 | AA12: =COUNTIF($D$123:$D$142,$T12)+COUNTIF($D$147:$D$151,$T12) -> 0 | AB12: =SUMIF($D$123:$D$142,$T12,$H$123:$H$142)+SUMIF($D$147:$D$151,$T12,$H$147:$H$151) -> 0 | AC12: =COUNTIF($D$157:$D$176,$T12)+COUNTIF($D$181:$D$185,$T12) -> 0 | AD12: =SUMIF($D$157:$D$176,$T12,$H$157:$H$176)+SUMIF($D$181:$D$185,$T12,$H$181:$H$185) -> 0 | AE12: =COUNTIF($D$191:$D$210,$T12)+COUNTIF($D$215:$D$219,$T12) -> 0 | AF12: =SUMIF($D$191:$D$210,$T12,$H$191:$H$210)+SUMIF($D$215:$D$219,$T12,$H$215:$H$219) -> 0 | AG12: =SUM(U12,W12,Y12,AA12,AC12,AE12) -> 0 | AH12: =SUM(V12,X12,Z12,AB12,AD12,AF12) -> 0
T13: =対象地域一覧!A13 -> 細田 | U13: =COUNTIF($D$21:$D$40,$T13)+COUNTIF($D$45:$D$49,$T13) -> 0 | V13: =SUMIF($D$21:$D$40,$T13,$H$21:$H$40)+SUMIF($D$45:$D$49,$T13,$H$45:$H$49) -> 0 | W13: =COUNTIF($D$55:$D$74,$T13)+COUNTIF($D$79:$D$83,$T13) -> 0 | X13: =SUMIF($D$55:$D$74,$T13,$H$55:$H$74)+SUMIF($D$79:$D$83,$T13,$H$79:$H$83) -> 0 | Y13: =COUNTIF($D$89:$D$108,$T13)+COUNTIF($D$113:$D$117,$T13) -> 0 | Z13: =SUMIF($D$89:$D$108,$T13,$H$89:$H$108)+SUMIF($D$113:$D$117,$T13,$H$113:$H$117) -> 0 | AA13: =COUNTIF($D$123:$D$142,$T13)+COUNTIF($D$147:$D$151,$T13) -> 0 | AB13: =SUMIF($D$123:$D$142,$T13,$H$123:$H$142)+SUMIF($D$147:$D$151,$T13,$H$147:$H$151) -> 0 | AC13: =COUNTIF($D$157:$D$176,$T13)+COUNTIF($D$181:$D$185,$T13) -> 0 | AD13: =SUMIF($D$157:$D$176,$T13,$H$157:$H$176)+SUMIF($D$181:$D$185,$T13,$H$181:$H$185) -> 0 | AE13: =COUNTIF($D$191:$D$210,$T13)+COUNTIF($D$215:$D$219,$T13) -> 0 | AF13: =SUMIF($D$191:$D$210,$T13,$H$191:$H$210)+SUMIF($D$215:$D$219,$T13,$H$215:$H$219) -> 0 | AG13: =SUM(U13,W13,Y13,AA13,AC13,AE13) -> 0 | AH13: =SUM(V13,X13,Z13,AB13,AD13,AF13) -> 0
T14: =対象地域一覧!A14 -> 三納谷 | U14: =COUNTIF($D$21:$D$40,$T14)+COUNTIF($D$45:$D$49,$T14) -> 0 | V14: =SUMIF($D$21:$D$40,$T14,$H$21:$H$40)+SUMIF($D$45:$D$49,$T14,$H$45:$H$49) -> 0 | W14: =COUNTIF($D$55:$D$74,$T14)+COUNTIF($D$79:$D$83,$T14) -> 0 | X14: =SUMIF($D$55:$D$74,$T14,$H$55:$H$74)+SUMIF($D$79:$D$83,$T14,$H$79:$H$83) -> 0 | Y14: =COUNTIF($D$89:$D$108,$T14)+COUNTIF($D$113:$D$117,$T14) -> 0 | Z14: =SUMIF($D$89:$D$108,$T14,$H$89:$H$108)+SUMIF($D$113:$D$117,$T14,$H$113:$H$117) -> 0 | AA14: =COUNTIF($D$123:$D$142,$T14)+COUNTIF($D$147:$D$151,$T14) -> 0 | AB14: =SUMIF($D$123:$D$142,$T14,$H$123:$H$142)+SUMIF($D$147:$D$151,$T14,$H$147:$H$151) -> 0 | AC14: =COUNTIF($D$157:$D$176,$T14)+COUNTIF($D$181:$D$185,$T14) -> 0 | AD14: =SUMIF($D$157:$D$176,$T14,$H$157:$H$176)+SUMIF($D$181:$D$185,$T14,$H$181:$H$185) -> 0 | AE14: =COUNTIF($D$191:$D$210,$T14)+COUNTIF($D$215:$D$219,$T14) -> 0 | AF14: =SUMIF($D$191:$D$210,$T14,$H$191:$H$210)+SUMIF($D$215:$D$219,$T14,$H$215:$H$219) -> 0 | AG14: =SUM(U14,W14,Y14,AA14,AC14,AE14) -> 0 | AH14: =SUM(V14,X14,Z14,AB14,AD14,AF14) -> 0
T15: =対象地域一覧!A15 -> 上田西 | U15: =COUNTIF($D$21:$D$40,$T15)+COUNTIF($D$45:$D$49,$T15) -> 0 | V15: =SUMIF($D$21:$D$40,$T15,$H$21:$H$40)+SUMIF($D$45:$D$49,$T15,$H$45:$H$49) -> 0 | W15: =COUNTIF($D$55:$D$74,$T15)+COUNTIF($D$79:$D$83,$T15) -> 0 | X15: =SUMIF($D$55:$D$74,$T15,$H$55:$H$74)+SUMIF($D$79:$D$83,$T15,$H$79:$H$83) -> 0 | Y15: =COUNTIF($D$89:$D$108,$T15)+COUNTIF($D$113:$D$117,$T15) -> 0 | Z15: =SUMIF($D$89:$D$108,$T15,$H$89:$H$108)+SUMIF($D$113:$D$117,$T15,$H$113:$H$117) -> 0 | AA15: =COUNTIF($D$123:$D$142,$T15)+COUNTIF($D$147:$D$151,$T15) -> 0 | AB15: =SUMIF($D$123:$D$142,$T15,$H$123:$H$142)+SUMIF($D$147:$D$151,$T15,$H$147:$H$151) -> 0 | AC15: =COUNTIF($D$157:$D$176,$T15)+COUNTIF($D$181:$D$185,$T15) -> 0 | AD15: =SUMIF($D$157:$D$176,$T15,$H$157:$H$176)+SUMIF($D$181:$D$185,$T15,$H$181:$H$185) -> 0 | AE15: =COUNTIF($D$191:$D$210,$T15)+COUNTIF($D$215:$D$219,$T15) -> 0 | AF15: =SUMIF($D$191:$D$210,$T15,$H$191:$H$210)+SUMIF($D$215:$D$219,$T15,$H$215:$H$219) -> 0 | AG15: =SUM(U15,W15,Y15,AA15,AC15,AE15) -> 0 | AH15: =SUM(V15,X15,Z15,AB15,AD15,AF15) -> 0
T16: =対象地域一覧!A16 -> 円城 | U16: =COUNTIF($D$21:$D$40,$T16)+COUNTIF($D$45:$D$49,$T16) -> 0 | V16: =SUMIF($D$21:$D$40,$T16,$H$21:$H$40)+SUMIF($D$45:$D$49,$T16,$H$45:$H$49) -> 0 | W16: =COUNTIF($D$55:$D$74,$T16)+COUNTIF($D$79:$D$83,$T16) -> 0 | X16: =SUMIF($D$55:$D$74,$T16,$H$55:$H$74)+SUMIF($D$79:$D$83,$T16,$H$79:$H$83) -> 0 | Y16: =COUNTIF($D$89:$D$108,$T16)+COUNTIF($D$113:$D$117,$T16) -> 0 | Z16: =SUMIF($D$89:$D$108,$T16,$H$89:$H$108)+SUMIF($D$113:$D$117,$T16,$H$113:$H$117) -> 0 | AA16: =COUNTIF($D$123:$D$142,$T16)+COUNTIF($D$147:$D$151,$T16) -> 0 | AB16: =SUMIF($D$123:$D$142,$T16,$H$123:$H$142)+SUMIF($D$147:$D$151,$T16,$H$147:$H$151) -> 0 | AC16: =COUNTIF($D$157:$D$176,$T16)+COUNTIF($D$181:$D$185,$T16) -> 0 | AD16: =SUMIF($D$157:$D$176,$T16,$H$157:$H$176)+SUMIF($D$181:$D$185,$T16,$H$181:$H$185) -> 0 | AE16: =COUNTIF($D$191:$D$210,$T16)+COUNTIF($D$215:$D$219,$T16) -> 0 | AF16: =SUMIF($D$191:$D$210,$T16,$H$191:$H$210)+SUMIF($D$215:$D$219,$T16,$H$215:$H$219) -> 0 | AG16: =SUM(U16,W16,Y16,AA16,AC16,AE16) -> 0 | AH16: =SUM(V16,X16,Z16,AB16,AD16,AF16) -> 0
A17: 2. 実績内訳 | T17: =対象地域一覧!A17 -> 案田 | U17: =COUNTIF($D$21:$D$40,$T17)+COUNTIF($D$45:$D$49,$T17) -> 0 | V17: =SUMIF($D$21:$D$40,$T17,$H$21:$H$40)+SUMIF($D$45:$D$49,$T17,$H$45:$H$49) -> 0 | W17: =COUNTIF($D$55:$D$74,$T17)+COUNTIF($D$79:$D$83,$T17) -> 0 | X17: =SUMIF($D$55:$D$74,$T17,$H$55:$H$74)+SUMIF($D$79:$D$83,$T17,$H$79:$H$83) -> 0 | Y17: =COUNTIF($D$89:$D$108,$T17)+COUNTIF($D$113:$D$117,$T17) -> 0 | Z17: =SUMIF($D$89:$D$108,$T17,$H$89:$H$108)+SUMIF($D$113:$D$117,$T17,$H$113:$H$117) -> 0 | AA17: =COUNTIF($D$123:$D$142,$T17)+COUNTIF($D$147:$D$151,$T17) -> 0 | AB17: =SUMIF($D$123:$D$142,$T17,$H$123:$H$142)+SUMIF($D$147:$D$151,$T17,$H$147:$H$151) -> 0 | AC17: =COUNTIF($D$157:$D$176,$T17)+COUNTIF($D$181:$D$185,$T17) -> 0 | AD17: =SUMIF($D$157:$D$176,$T17,$H$157:$H$176)+SUMIF($D$181:$D$185,$T17,$H$181:$H$185) -> 0 | AE17: =COUNTIF($D$191:$D$210,$T17)+COUNTIF($D$215:$D$219,$T17) -> 0 | AF17: =SUMIF($D$191:$D$210,$T17,$H$191:$H$210)+SUMIF($D$215:$D$219,$T17,$H$215:$H$219) -> 0 | AG17: =SUM(U17,W17,Y17,AA17,AC17,AE17) -> 0 | AH17: =SUM(V17,X17,Z17,AB17,AD17,AF17) -> 0
A18: （1）所要時間3時間以上4時間未満の場合 | T18: =対象地域一覧!A18 -> 高富 | U18: =COUNTIF($D$21:$D$40,$T18)+COUNTIF($D$45:$D$49,$T18) -> 0 | V18: =SUMIF($D$21:$D$40,$T18,$H$21:$H$40)+SUMIF($D$45:$D$49,$T18,$H$45:$H$49) -> 0 | W18: =COUNTIF($D$55:$D$74,$T18)+COUNTIF($D$79:$D$83,$T18) -> 0 | X18: =SUMIF($D$55:$D$74,$T18,$H$55:$H$74)+SUMIF($D$79:$D$83,$T18,$H$79:$H$83) -> 0 | Y18: =COUNTIF($D$89:$D$108,$T18)+COUNTIF($D$113:$D$117,$T18) -> 0 | Z18: =SUMIF($D$89:$D$108,$T18,$H$89:$H$108)+SUMIF($D$113:$D$117,$T18,$H$113:$H$117) -> 0 | AA18: =COUNTIF($D$123:$D$142,$T18)+COUNTIF($D$147:$D$151,$T18) -> 0 | AB18: =SUMIF($D$123:$D$142,$T18,$H$123:$H$142)+SUMIF($D$147:$D$151,$T18,$H$147:$H$151) -> 0 | AC18: =COUNTIF($D$157:$D$176,$T18)+COUNTIF($D$181:$D$185,$T18) -> 0 | AD18: =SUMIF($D$157:$D$176,$T18,$H$157:$H$176)+SUMIF($D$181:$D$185,$T18,$H$181:$H$185) -> 0 | AE18: =COUNTIF($D$191:$D$210,$T18)+COUNTIF($D$215:$D$219,$T18) -> 0 | AF18: =SUMIF($D$191:$D$210,$T18,$H$191:$H$210)+SUMIF($D$215:$D$219,$T18,$H$215:$H$219) -> 0 | AG18: =SUM(U18,W18,Y18,AA18,AC18,AE18) -> 0 | AH18: =SUM(V18,X18,Z18,AB18,AD18,AF18) -> 0
A19: ※往復の送迎を行った場合 （片道のみ送迎を行った場合は下記別表に入力すること） | T19: =対象地域一覧!A19 -> 神瀬 | U19: =COUNTIF($D$21:$D$40,$T19)+COUNTIF($D$45:$D$49,$T19) -> 0 | V19: =SUMIF($D$21:$D$40,$T19,$H$21:$H$40)+SUMIF($D$45:$D$49,$T19,$H$45:$H$49) -> 0 | W19: =COUNTIF($D$55:$D$74,$T19)+COUNTIF($D$79:$D$83,$T19) -> 0 | X19: =SUMIF($D$55:$D$74,$T19,$H$55:$H$74)+SUMIF($D$79:$D$83,$T19,$H$79:$H$83) -> 0 | Y19: =COUNTIF($D$89:$D$108,$T19)+COUNTIF($D$113:$D$117,$T19) -> 0 | Z19: =SUMIF($D$89:$D$108,$T19,$H$89:$H$108)+SUMIF($D$113:$D$117,$T19,$H$113:$H$117) -> 0 | AA19: =COUNTIF($D$123:$D$142,$T19)+COUNTIF($D$147:$D$151,$T19) -> 0 | AB19: =SUMIF($D$123:$D$142,$T19,$H$123:$H$142)+SUMIF($D$147:$D$151,$T19,$H$147:$H$151) -> 0 | AC19: =COUNTIF($D$157:$D$176,$T19)+COUNTIF($D$181:$D$185,$T19) -> 0 | AD19: =SUMIF($D$157:$D$176,$T19,$H$157:$H$176)+SUMIF($D$181:$D$185,$T19,$H$181:$H$185) -> 0 | AE19: =COUNTIF($D$191:$D$210,$T19)+COUNTIF($D$215:$D$219,$T19) -> 0 | AF19: =SUMIF($D$191:$D$210,$T19,$H$191:$H$210)+SUMIF($D$215:$D$219,$T19,$H$215:$H$219) -> 0 | AG19: =SUM(U19,W19,Y19,AA19,AC19,AE19) -> 0 | AH19: =SUM(V19,X19,Z19,AB19,AD19,AF19) -> 0
A20: 所要時間3時間以上4時間未満の場合 | B20: 被保険者番号 | C20: 被保険者氏名 | D20: 地区名 | E20: 事業所から 利用者宅までの 距離（km） | F20: 事業所から 利用者宅までの 所要時間（分） | G20: 要介護度 | H20: サービス 提供回数 | I20: 基本報酬 （月単位数） | J20: 基準額(月) | T20: =対象地域一覧!A20 -> 小森 | U20: =COUNTIF($D$21:$D$40,$T20)+COUNTIF($D$45:$D$49,$T20) -> 0 | V20: =SUMIF($D$21:$D$40,$T20,$H$21:$H$40)+SUMIF($D$45:$D$49,$T20,$H$45:$H$49) -> 0 | W20: =COUNTIF($D$55:$D$74,$T20)+COUNTIF($D$79:$D$83,$T20) -> 0 | X20: =SUMIF($D$55:$D$74,$T20,$H$55:$H$74)+SUMIF($D$79:$D$83,$T20,$H$79:$H$83) -> 0 | Y20: =COUNTIF($D$89:$D$108,$T20)+COUNTIF($D$113:$D$117,$T20) -> 0 | Z20: =SUMIF($D$89:$D$108,$T20,$H$89:$H$108)+SUMIF($D$113:$D$117,$T20,$H$113:$H$117) -> 0 | AA20: =COUNTIF($D$123:$D$142,$T20)+COUNTIF($D$147:$D$151,$T20) -> 0 | AB20: =SUMIF($D$123:$D$142,$T20,$H$123:$H$142)+SUMIF($D$147:$D$151,$T20,$H$147:$H$151) -> 0 | AC20: =COUNTIF($D$157:$D$176,$T20)+COUNTIF($D$181:$D$185,$T20) -> 0 | AD20: =SUMIF($D$157:$D$176,$T20,$H$157:$H$176)+SUMIF($D$181:$D$185,$T20,$H$181:$H$185) -> 0 | AE20: =COUNTIF($D$191:$D$210,$T20)+COUNTIF($D$215:$D$219,$T20) -> 0 | AF20: =SUMIF($D$191:$D$210,$T20,$H$191:$H$210)+SUMIF($D$215:$D$219,$T20,$H$215:$H$219) -> 0 | AG20: =SUM(U20,W20,Y20,AA20,AC20,AE20) -> 0 | AH20: =SUM(V20,X20,Z20,AB20,AD20,AF20) -> 0
I21: =IF(AND(B21<>"",C21<>"",D21<>"",E21<>"",F21<>"",G21<>"",H21<>""),VLOOKUP(G21,通所介護費!$A$20:$B$24,2,0),0) -> 0 | J21: =(I21*H21)*0.1*10 -> 0 | T21: =対象地域一覧!A21 -> 尾原 | U21: =COUNTIF($D$21:$D$40,$T21)+COUNTIF($D$45:$D$49,$T21) -> 0 | V21: =SUMIF($D$21:$D$40,$T21,$H$21:$H$40)+SUMIF($D$45:$D$49,$T21,$H$45:$H$49) -> 0 | W21: =COUNTIF($D$55:$D$74,$T21)+COUNTIF($D$79:$D$83,$T21) -> 0 | X21: =SUMIF($D$55:$D$74,$T21,$H$55:$H$74)+SUMIF($D$79:$D$83,$T21,$H$79:$H$83) -> 0 | Y21: =COUNTIF($D$89:$D$108,$T21)+COUNTIF($D$113:$D$117,$T21) -> 0 | Z21: =SUMIF($D$89:$D$108,$T21,$H$89:$H$108)+SUMIF($D$113:$D$117,$T21,$H$113:$H$117) -> 0 | AA21: =COUNTIF($D$123:$D$142,$T21)+COUNTIF($D$147:$D$151,$T21) -> 0 | AB21: =SUMIF($D$123:$D$142,$T21,$H$123:$H$142)+SUMIF($D$147:$D$151,$T21,$H$147:$H$151) -> 0 | AC21: =COUNTIF($D$157:$D$176,$T21)+COUNTIF($D$181:$D$185,$T21) -> 0 | AD21: =SUMIF($D$157:$D$176,$T21,$H$157:$H$176)+SUMIF($D$181:$D$185,$T21,$H$181:$H$185) -> 0 | AE21: =COUNTIF($D$191:$D$210,$T21)+COUNTIF($D$215:$D$219,$T21) -> 0 | AF21: =SUMIF($D$191:$D$210,$T21,$H$191:$H$210)+SUMIF($D$215:$D$219,$T21,$H$215:$H$219) -> 0 | AG21: =SUM(U21,W21,Y21,AA21,AC21,AE21) -> 0 | AH21: =SUM(V21,X21,Z21,AB21,AD21,AF21) -> 0
I22: =IF(AND(B22<>"",C22<>"",D22<>"",E22<>"",F22<>"",G22<>"",H22<>""),VLOOKUP(G22,通所介護費!$A$20:$B$24,2,0),0) -> 0 | J22: =(I22*H22)*0.1*10 -> 0 | T22: =対象地域一覧!A22 -> 笹目 | U22: =COUNTIF($D$21:$D$40,$T22)+COUNTIF($D$45:$D$49,$T22) -> 0 | V22: =SUMIF($D$21:$D$40,$T22,$H$21:$H$40)+SUMIF($D$45:$D$49,$T22,$H$45:$H$49) -> 0 | W22: =COUNTIF($D$55:$D$74,$T22)+COUNTIF($D$79:$D$83,$T22) -> 0 | X22: =SUMIF($D$55:$D$74,$T22,$H$55:$H$74)+SUMIF($D$79:$D$83,$T22,$H$79:$H$83) -> 0 | Y22: =COUNTIF($D$89:$D$108,$T22)+COUNTIF($D$113:$D$117,$T22) -> 0 | Z22: =SUMIF($D$89:$D$108,$T22,$H$89:$H$108)+SUMIF($D$113:$D$117,$T22,$H$113:$H$117) -> 0 | AA22: =COUNTIF($D$123:$D$142,$T22)+COUNTIF($D$147:$D$151,$T22) -> 0 | AB22: =SUMIF($D$123:$D$142,$T22,$H$123:$H$142)+SUMIF($D$147:$D$151,$T22,$H$147:$H$151) -> 0 | AC22: =COUNTIF($D$157:$D$176,$T22)+COUNTIF($D$181:$D$185,$T22) -> 0 | AD22: =SUMIF($D$157:$D$176,$T22,$H$157:$H$176)+SUMIF($D$181:$D$185,$T22,$H$181:$H$185) -> 0 | AE22: =COUNTIF($D$191:$D$210,$T22)+COUNTIF($D$215:$D$219,$T22) -> 0 | AF22: =SUMIF($D$191:$D$210,$T22,$H$191:$H$210)+SUMIF($D$215:$D$219,$T22,$H$215:$H$219) -> 0 | AG22: =SUM(U22,W22,Y22,AA22,AC22,AE22) -> 0 | AH22: =SUM(V22,X22,Z22,AB22,AD22,AF22) -> 0
I23: =IF(AND(B23<>"",C23<>"",D23<>"",E23<>"",F23<>"",G23<>"",H23<>""),VLOOKUP(G23,通所介護費!$A$20:$B$24,2,0),0) -> 0 | J23: =(I23*H23)*0.1*10 -> 0 | T23: =対象地域一覧!A23 -> 福沢 | U23: =COUNTIF($D$21:$D$40,$T23)+COUNTIF($D$45:$D$49,$T23) -> 0 | V23: =SUMIF($D$21:$D$40,$T23,$H$21:$H$40)+SUMIF($D$45:$D$49,$T23,$H$45:$H$49) -> 0 | W23: =COUNTIF($D$55:$D$74,$T23)+COUNTIF($D$79:$D$83,$T23) -> 0 | X23: =SUMIF($D$55:$D$74,$T23,$H$55:$H$74)+SUMIF($D$79:$D$83,$T23,$H$79:$H$83) -> 0 | Y23: =COUNTIF($D$89:$D$108,$T23)+COUNTIF($D$113:$D$117,$T23) -> 0 | Z23: =SUMIF($D$89:$D$108,$T23,$H$89:$H$108)+SUMIF($D$113:$D$117,$T23,$H$113:$H$117) -> 0 | AA23: =COUNTIF($D$123:$D$142,$T23)+COUNTIF($D$147:$D$151,$T23) -> 0 | AB23: =SUMIF($D$123:$D$142,$T23,$H$123:$H$142)+SUMIF($D$147:$D$151,$T23,$H$147:$H$151) -> 0 | AC23: =COUNTIF($D$157:$D$176,$T23)+COUNTIF($D$181:$D$185,$T23) -> 0 | AD23: =SUMIF($D$157:$D$176,$T23,$H$157:$H$176)+SUMIF($D$181:$D$185,$T23,$H$181:$H$185) -> 0 | AE23: =COUNTIF($D$191:$D$210,$T23)+COUNTIF($D$215:$D$219,$T23) -> 0 | AF23: =SUMIF($D$191:$D$210,$T23,$H$191:$H$210)+SUMIF($D$215:$D$219,$T23,$H$215:$H$219) -> 0 | AG23: =SUM(U23,W23,Y23,AA23,AC23,AE23) -> 0 | AH23: =SUM(V23,X23,Z23,AB23,AD23,AF23) -> 0
I24: =IF(AND(B24<>"",C24<>"",D24<>"",E24<>"",F24<>"",G24<>"",H24<>""),VLOOKUP(G24,通所介護費!$A$20:$B$24,2,0),0) -> 0 | J24: =(I24*H24)*0.1*10 -> 0 | T24: =対象地域一覧!A24 -> 溝部 | U24: =COUNTIF($D$21:$D$40,$T24)+COUNTIF($D$45:$D$49,$T24) -> 0 | V24: =SUMIF($D$21:$D$40,$T24,$H$21:$H$40)+SUMIF($D$45:$D$49,$T24,$H$45:$H$49) -> 0 | W24: =COUNTIF($D$55:$D$74,$T24)+COUNTIF($D$79:$D$83,$T24) -> 0 | X24: =SUMIF($D$55:$D$74,$T24,$H$55:$H$74)+SUMIF($D$79:$D$83,$T24,$H$79:$H$83) -> 0 | Y24: =COUNTIF($D$89:$D$108,$T24)+COUNTIF($D$113:$D$117,$T24) -> 0 | Z24: =SUMIF($D$89:$D$108,$T24,$H$89:$H$108)+SUMIF($D$113:$D$117,$T24,$H$113:$H$117) -> 0 | AA24: =COUNTIF($D$123:$D$142,$T24)+COUNTIF($D$147:$D$151,$T24) -> 0 | AB24: =SUMIF($D$123:$D$142,$T24,$H$123:$H$142)+SUMIF($D$147:$D$151,$T24,$H$147:$H$151) -> 0 | AC24: =COUNTIF($D$157:$D$176,$T24)+COUNTIF($D$181:$D$185,$T24) -> 0 | AD24: =SUMIF($D$157:$D$176,$T24,$H$157:$H$176)+SUMIF($D$181:$D$185,$T24,$H$181:$H$185) -> 0 | AE24: =COUNTIF($D$191:$D$210,$T24)+COUNTIF($D$215:$D$219,$T24) -> 0 | AF24: =SUMIF($D$191:$D$210,$T24,$H$191:$H$210)+SUMIF($D$215:$D$219,$T24,$H$215:$H$219) -> 0 | AG24: =SUM(U24,W24,Y24,AA24,AC24,AE24) -> 0 | AH24: =SUM(V24,X24,Z24,AB24,AD24,AF24) -> 0
I25: =IF(AND(B25<>"",C25<>"",D25<>"",E25<>"",F25<>"",G25<>"",H25<>""),VLOOKUP(G25,通所介護費!$A$20:$B$24,2,0),0) -> 0 | J25: =(I25*H25)*0.1*10 -> 0 | T25: =対象地域一覧!A25 -> 0 | U25: =COUNTIF($D$21:$D$40,$T25)+COUNTIF($D$45:$D$49,$T25) -> 0 | V25: =SUMIF($D$21:$D$40,$T25,$H$21:$H$40)+SUMIF($D$45:$D$49,$T25,$H$45:$H$49) -> 0 | W25: =COUNTIF($D$55:$D$74,$T25)+COUNTIF($D$79:$D$83,$T25) -> 0 | X25: =SUMIF($D$55:$D$74,$T25,$H$55:$H$74)+SUMIF($D$79:$D$83,$T25,$H$79:$H$83) -> 0 | Y25: =COUNTIF($D$89:$D$108,$T25)+COUNTIF($D$113:$D$117,$T25) -> 0 | Z25: =SUMIF($D$89:$D$108,$T25,$H$89:$H$108)+SUMIF($D$113:$D$117,$T25,$H$113:$H$117) -> 0 | AA25: =COUNTIF($D$123:$D$142,$T25)+COUNTIF($D$147:$D$151,$T25) -> 0 | AB25: =SUMIF($D$123:$D$142,$T25,$H$123:$H$142)+SUMIF($D$147:$D$151,$T25,$H$147:$H$151) -> 0 | AC25: =COUNTIF($D$157:$D$176,$T25)+COUNTIF($D$181:$D$185,$T25) -> 0 | AD25: =SUMIF($D$157:$D$176,$T25,$H$157:$H$176)+SUMIF($D$181:$D$185,$T25,$H$181:$H$185) -> 0 | AE25: =COUNTIF($D$191:$D$210,$T25)+COUNTIF($D$215:$D$219,$T25) -> 0 | AF25: =SUMIF($D$191:$D$210,$T25,$H$191:$H$210)+SUMIF($D$215:$D$219,$T25,$H$215:$H$219) -> 0 | AG25: =SUM(U25,W25,Y25,AA25,AC25,AE25) -> 0 | AH25: =SUM(V25,X25,Z25,AB25,AD25,AF25) -> 0
I26: =IF(AND(B26<>"",C26<>"",D26<>"",E26<>"",F26<>"",G26<>"",H26<>""),VLOOKUP(G26,通所介護費!$A$20:$B$24,2,0),0) -> 0 | J26: =(I26*H26)*0.1*10 -> 0 | T26: =対象地域一覧!A26 -> 0 | U26: =COUNTIF($D$21:$D$40,$T26)+COUNTIF($D$45:$D$49,$T26) -> 0 | V26: =SUMIF($D$21:$D$40,$T26,$H$21:$H$40)+SUMIF($D$45:$D$49,$T26,$H$45:$H$49) -> 0 | W26: =COUNTIF($D$55:$D$74,$T26)+COUNTIF($D$79:$D$83,$T26) -> 0 | X26: =SUMIF($D$55:$D$74,$T26,$H$55:$H$74)+SUMIF($D$79:$D$83,$T26,$H$79:$H$83) -> 0 | Y26: =COUNTIF($D$89:$D$108,$T26)+COUNTIF($D$113:$D$117,$T26) -> 0 | Z26: =SUMIF($D$89:$D$108,$T26,$H$89:$H$108)+SUMIF($D$113:$D$117,$T26,$H$113:$H$117) -> 0 | AA26: =COUNTIF($D$123:$D$142,$T26)+COUNTIF($D$147:$D$151,$T26) -> 0 | AB26: =SUMIF($D$123:$D$142,$T26,$H$123:$H$142)+SUMIF($D$147:$D$151,$T26,$H$147:$H$151) -> 0 | AC26: =COUNTIF($D$157:$D$176,$T26)+COUNTIF($D$181:$D$185,$T26) -> 0 | AD26: =SUMIF($D$157:$D$176,$T26,$H$157:$H$176)+SUMIF($D$181:$D$185,$T26,$H$181:$H$185) -> 0 | AE26: =COUNTIF($D$191:$D$210,$T26)+COUNTIF($D$215:$D$219,$T26) -> 0 | AF26: =SUMIF($D$191:$D$210,$T26,$H$191:$H$210)+SUMIF($D$215:$D$219,$T26,$H$215:$H$219) -> 0 | AG26: =SUM(U26,W26,Y26,AA26,AC26,AE26) -> 0 | AH26: =SUM(V26,X26,Z26,AB26,AD26,AF26) -> 0
I27: =IF(AND(B27<>"",C27<>"",D27<>"",E27<>"",F27<>"",G27<>"",H27<>""),VLOOKUP(G27,通所介護費!$A$20:$B$24,2,0),0) -> 0 | J27: =(I27*H27)*0.1*10 -> 0 | T27: =対象地域一覧!A27 -> 0 | U27: =COUNTIF($D$21:$D$40,$T27)+COUNTIF($D$45:$D$49,$T27) -> 0 | V27: =SUMIF($D$21:$D$40,$T27,$H$21:$H$40)+SUMIF($D$45:$D$49,$T27,$H$45:$H$49) -> 0 | W27: =COUNTIF($D$55:$D$74,$T27)+COUNTIF($D$79:$D$83,$T27) -> 0 | X27: =SUMIF($D$55:$D$74,$T27,$H$55:$H$74)+SUMIF($D$79:$D$83,$T27,$H$79:$H$83) -> 0 | Y27: =COUNTIF($D$89:$D$108,$T27)+COUNTIF($D$113:$D$117,$T27) -> 0 | Z27: =SUMIF($D$89:$D$108,$T27,$H$89:$H$108)+SUMIF($D$113:$D$117,$T27,$H$113:$H$117) -> 0 | AA27: =COUNTIF($D$123:$D$142,$T27)+COUNTIF($D$147:$D$151,$T27) -> 0 | AB27: =SUMIF($D$123:$D$142,$T27,$H$123:$H$142)+SUMIF($D$147:$D$151,$T27,$H$147:$H$151) -> 0 | AC27: =COUNTIF($D$157:$D$176,$T27)+COUNTIF($D$181:$D$185,$T27) -> 0 | AD27: =SUMIF($D$157:$D$176,$T27,$H$157:$H$176)+SUMIF($D$181:$D$185,$T27,$H$181:$H$185) -> 0 | AE27: =COUNTIF($D$191:$D$210,$T27)+COUNTIF($D$215:$D$219,$T27) -> 0 | AF27: =SUMIF($D$191:$D$210,$T27,$H$191:$H$210)+SUMIF($D$215:$D$219,$T27,$H$215:$H$219) -> 0 | AG27: =SUM(U27,W27,Y27,AA27,AC27,AE27) -> 0 | AH27: =SUM(V27,X27,Z27,AB27,AD27,AF27) -> 0
I28: =IF(AND(B28<>"",C28<>"",D28<>"",E28<>"",F28<>"",G28<>"",H28<>""),VLOOKUP(G28,通所介護費!$A$20:$B$24,2,0),0) -> 0 | J28: =(I28*H28)*0.1*10 -> 0 | T28: =対象地域一覧!A28 -> 0 | U28: =COUNTIF($D$21:$D$40,$T28)+COUNTIF($D$45:$D$49,$T28) -> 0 | V28: =SUMIF($D$21:$D$40,$T28,$H$21:$H$40)+SUMIF($D$45:$D$49,$T28,$H$45:$H$49) -> 0 | W28: =COUNTIF($D$55:$D$74,$T28)+COUNTIF($D$79:$D$83,$T28) -> 0 | X28: =SUMIF($D$55:$D$74,$T28,$H$55:$H$74)+SUMIF($D$79:$D$83,$T28,$H$79:$H$83) -> 0 | Y28: =COUNTIF($D$89:$D$108,$T28)+COUNTIF($D$113:$D$117,$T28) -> 0 | Z28: =SUMIF($D$89:$D$108,$T28,$H$89:$H$108)+SUMIF($D$113:$D$117,$T28,$H$113:$H$117) -> 0 | AA28: =COUNTIF($D$123:$D$142,$T28)+COUNTIF($D$147:$D$151,$T28) -> 0 | AB28: =SUMIF($D$123:$D$142,$T28,$H$123:$H$142)+SUMIF($D$147:$D$151,$T28,$H$147:$H$151) -> 0 | AC28: =COUNTIF($D$157:$D$176,$T28)+COUNTIF($D$181:$D$185,$T28) -> 0 | AD28: =SUMIF($D$157:$D$176,$T28,$H$157:$H$176)+SUMIF($D$181:$D$185,$T28,$H$181:$H$185) -> 0 | AE28: =COUNTIF($D$191:$D$210,$T28)+COUNTIF($D$215:$D$219,$T28) -> 0 | AF28: =SUMIF($D$191:$D$210,$T28,$H$191:$H$210)+SUMIF($D$215:$D$219,$T28,$H$215:$H$219) -> 0 | AG28: =SUM(U28,W28,Y28,AA28,AC28,AE28) -> 0 | AH28: =SUM(V28,X28,Z28,AB28,AD28,AF28) -> 0
I29: =IF(AND(B29<>"",C29<>"",D29<>"",E29<>"",F29<>"",G29<>"",H29<>""),VLOOKUP(G29,通所介護費!$A$20:$B$24,2,0),0) -> 0 | J29: =(I29*H29)*0.1*10 -> 0 | T29: =対象地域一覧!A29 -> 0 | U29: =COUNTIF($D$21:$D$40,$T29)+COUNTIF($D$45:$D$49,$T29) -> 0 | V29: =SUMIF($D$21:$D$40,$T29,$H$21:$H$40)+SUMIF($D$45:$D$49,$T29,$H$45:$H$49) -> 0 | W29: =COUNTIF($D$55:$D$74,$T29)+COUNTIF($D$79:$D$83,$T29) -> 0 | X29: =SUMIF($D$55:$D$74,$T29,$H$55:$H$74)+SUMIF($D$79:$D$83,$T29,$H$79:$H$83) -> 0 | Y29: =COUNTIF($D$89:$D$108,$T29)+COUNTIF($D$113:$D$117,$T29) -> 0 | Z29: =SUMIF($D$89:$D$108,$T29,$H$89:$H$108)+SUMIF($D$113:$D$117,$T29,$H$113:$H$117) -> 0 | AA29: =COUNTIF($D$123:$D$142,$T29)+COUNTIF($D$147:$D$151,$T29) -> 0 | AB29: =SUMIF($D$123:$D$142,$T29,$H$123:$H$142)+SUMIF($D$147:$D$151,$T29,$H$147:$H$151) -> 0 | AC29: =COUNTIF($D$157:$D$176,$T29)+COUNTIF($D$181:$D$185,$T29) -> 0 | AD29: =SUMIF($D$157:$D$176,$T29,$H$157:$H$176)+SUMIF($D$181:$D$185,$T29,$H$181:$H$185) -> 0 | AE29: =COUNTIF($D$191:$D$210,$T29)+COUNTIF($D$215:$D$219,$T29) -> 0 | AF29: =SUMIF($D$191:$D$210,$T29,$H$191:$H$210)+SUMIF($D$215:$D$219,$T29,$H$215:$H$219) -> 0 | AG29: =SUM(U29,W29,Y29,AA29,AC29,AE29) -> 0 | AH29: =SUM(V29,X29,Z29,AB29,AD29,AF29) -> 0
I30: =IF(AND(B30<>"",C30<>"",D30<>"",E30<>"",F30<>"",G30<>"",H30<>""),VLOOKUP(G30,通所介護費!$A$20:$B$24,2,0),0) -> 0 | J30: =(I30*H30)*0.1*10 -> 0 | T30: =対象地域一覧!A30 -> 0 | U30: =COUNTIF($D$21:$D$40,$T30)+COUNTIF($D$45:$D$49,$T30) -> 0 | V30: =SUMIF($D$21:$D$40,$T30,$H$21:$H$40)+SUMIF($D$45:$D$49,$T30,$H$45:$H$49) -> 0 | W30: =COUNTIF($D$55:$D$74,$T30)+COUNTIF($D$79:$D$83,$T30) -> 0 | X30: =SUMIF($D$55:$D$74,$T30,$H$55:$H$74)+SUMIF($D$79:$D$83,$T30,$H$79:$H$83) -> 0 | Y30: =COUNTIF($D$89:$D$108,$T30)+COUNTIF($D$113:$D$117,$T30) -> 0 | Z30: =SUMIF($D$89:$D$108,$T30,$H$89:$H$108)+SUMIF($D$113:$D$117,$T30,$H$113:$H$117) -> 0 | AA30: =COUNTIF($D$123:$D$142,$T30)+COUNTIF($D$147:$D$151,$T30) -> 0 | AB30: =SUMIF($D$123:$D$142,$T30,$H$123:$H$142)+SUMIF($D$147:$D$151,$T30,$H$147:$H$151) -> 0 | AC30: =COUNTIF($D$157:$D$176,$T30)+COUNTIF($D$181:$D$185,$T30) -> 0 | AD30: =SUMIF($D$157:$D$176,$T30,$H$157:$H$176)+SUMIF($D$181:$D$185,$T30,$H$181:$H$185) -> 0 | AE30: =COUNTIF($D$191:$D$210,$T30)+COUNTIF($D$215:$D$219,$T30) -> 0 | AF30: =SUMIF($D$191:$D$210,$T30,$H$191:$H$210)+SUMIF($D$215:$D$219,$T30,$H$215:$H$219) -> 0 | AG30: =SUM(U30,W30,Y30,AA30,AC30,AE30) -> 0 | AH30: =SUM(V30,X30,Z30,AB30,AD30,AF30) -> 0
I31: =IF(AND(B31<>"",C31<>"",D31<>"",E31<>"",F31<>"",G31<>"",H31<>""),VLOOKUP(G31,通所介護費!$A$20:$B$24,2,0),0) -> 0 | J31: =(I31*H31)*0.1*10 -> 0 | T31: =対象地域一覧!A31 -> 0 | U31: =COUNTIF($D$21:$D$40,$T31)+COUNTIF($D$45:$D$49,$T31) -> 0 | V31: =SUMIF($D$21:$D$40,$T31,$H$21:$H$40)+SUMIF($D$45:$D$49,$T31,$H$45:$H$49) -> 0 | W31: =COUNTIF($D$55:$D$74,$T31)+COUNTIF($D$79:$D$83,$T31) -> 0 | X31: =SUMIF($D$55:$D$74,$T31,$H$55:$H$74)+SUMIF($D$79:$D$83,$T31,$H$79:$H$83) -> 0 | Y31: =COUNTIF($D$89:$D$108,$T31)+COUNTIF($D$113:$D$117,$T31) -> 0 | Z31: =SUMIF($D$89:$D$108,$T31,$H$89:$H$108)+SUMIF($D$113:$D$117,$T31,$H$113:$H$117) -> 0 | AA31: =COUNTIF($D$123:$D$142,$T31)+COUNTIF($D$147:$D$151,$T31) -> 0 | AB31: =SUMIF($D$123:$D$142,$T31,$H$123:$H$142)+SUMIF($D$147:$D$151,$T31,$H$147:$H$151) -> 0 | AC31: =COUNTIF($D$157:$D$176,$T31)+COUNTIF($D$181:$D$185,$T31) -> 0 | AD31: =SUMIF($D$157:$D$176,$T31,$H$157:$H$176)+SUMIF($D$181:$D$185,$T31,$H$181:$H$185) -> 0 | AE31: =COUNTIF($D$191:$D$210,$T31)+COUNTIF($D$215:$D$219,$T31) -> 0 | AF31: =SUMIF($D$191:$D$210,$T31,$H$191:$H$210)+SUMIF($D$215:$D$219,$T31,$H$215:$H$219) -> 0 | AG31: =SUM(U31,W31,Y31,AA31,AC31,AE31) -> 0 | AH31: =SUM(V31,X31,Z31,AB31,AD31,AF31) -> 0
I32: =IF(AND(B32<>"",C32<>"",D32<>"",E32<>"",F32<>"",G32<>"",H32<>""),VLOOKUP(G32,通所介護費!$A$20:$B$24,2,0),0) -> 0 | J32: =(I32*H32)*0.1*10 -> 0 | T32: =対象地域一覧!A32 -> 0 | U32: =COUNTIF($D$21:$D$40,$T32)+COUNTIF($D$45:$D$49,$T32) -> 0 | V32: =SUMIF($D$21:$D$40,$T32,$H$21:$H$40)+SUMIF($D$45:$D$49,$T32,$H$45:$H$49) -> 0 | W32: =COUNTIF($D$55:$D$74,$T32)+COUNTIF($D$79:$D$83,$T32) -> 0 | X32: =SUMIF($D$55:$D$74,$T32,$H$55:$H$74)+SUMIF($D$79:$D$83,$T32,$H$79:$H$83) -> 0 | Y32: =COUNTIF($D$89:$D$108,$T32)+COUNTIF($D$113:$D$117,$T32) -> 0 | Z32: =SUMIF($D$89:$D$108,$T32,$H$89:$H$108)+SUMIF($D$113:$D$117,$T32,$H$113:$H$117) -> 0 | AA32: =COUNTIF($D$123:$D$142,$T32)+COUNTIF($D$147:$D$151,$T32) -> 0 | AB32: =SUMIF($D$123:$D$142,$T32,$H$123:$H$142)+SUMIF($D$147:$D$151,$T32,$H$147:$H$151) -> 0 | AC32: =COUNTIF($D$157:$D$176,$T32)+COUNTIF($D$181:$D$185,$T32) -> 0 | AD32: =SUMIF($D$157:$D$176,$T32,$H$157:$H$176)+SUMIF($D$181:$D$185,$T32,$H$181:$H$185) -> 0 | AE32: =COUNTIF($D$191:$D$210,$T32)+COUNTIF($D$215:$D$219,$T32) -> 0 | AF32: =SUMIF($D$191:$D$210,$T32,$H$191:$H$210)+SUMIF($D$215:$D$219,$T32,$H$215:$H$219) -> 0 | AG32: =SUM(U32,W32,Y32,AA32,AC32,AE32) -> 0 | AH32: =SUM(V32,X32,Z32,AB32,AD32,AF32) -> 0
I33: =IF(AND(B33<>"",C33<>"",D33<>"",E33<>"",F33<>"",G33<>"",H33<>""),VLOOKUP(G33,通所介護費!$A$20:$B$24,2,0),0) -> 0 | J33: =(I33*H33)*0.1*10 -> 0 | T33: =対象地域一覧!A33 -> 0 | U33: =COUNTIF($D$21:$D$40,$T33)+COUNTIF($D$45:$D$49,$T33) -> 0 | V33: =SUMIF($D$21:$D$40,$T33,$H$21:$H$40)+SUMIF($D$45:$D$49,$T33,$H$45:$H$49) -> 0 | W33: =COUNTIF($D$55:$D$74,$T33)+COUNTIF($D$79:$D$83,$T33) -> 0 | X33: =SUMIF($D$55:$D$74,$T33,$H$55:$H$74)+SUMIF($D$79:$D$83,$T33,$H$79:$H$83) -> 0 | Y33: =COUNTIF($D$89:$D$108,$T33)+COUNTIF($D$113:$D$117,$T33) -> 0 | Z33: =SUMIF($D$89:$D$108,$T33,$H$89:$H$108)+SUMIF($D$113:$D$117,$T33,$H$113:$H$117) -> 0 | AA33: =COUNTIF($D$123:$D$142,$T33)+COUNTIF($D$147:$D$151,$T33) -> 0 | AB33: =SUMIF($D$123:$D$142,$T33,$H$123:$H$142)+SUMIF($D$147:$D$151,$T33,$H$147:$H$151) -> 0 | AC33: =COUNTIF($D$157:$D$176,$T33)+COUNTIF($D$181:$D$185,$T33) -> 0 | AD33: =SUMIF($D$157:$D$176,$T33,$H$157:$H$176)+SUMIF($D$181:$D$185,$T33,$H$181:$H$185) -> 0 | AE33: =COUNTIF($D$191:$D$210,$T33)+COUNTIF($D$215:$D$219,$T33) -> 0 | AF33: =SUMIF($D$191:$D$210,$T33,$H$191:$H$210)+SUMIF($D$215:$D$219,$T33,$H$215:$H$219) -> 0 | AG33: =SUM(U33,W33,Y33,AA33,AC33,AE33) -> 0 | AH33: =SUM(V33,X33,Z33,AB33,AD33,AF33) -> 0
I34: =IF(AND(B34<>"",C34<>"",D34<>"",E34<>"",F34<>"",G34<>"",H34<>""),VLOOKUP(G34,通所介護費!$A$20:$B$24,2,0),0) -> 0 | J34: =(I34*H34)*0.1*10 -> 0 | U34: =COUNTIF($D$21:$D$40,$T34)+COUNTIF($D$45:$D$49,$T34) -> 0 | V34: =SUMIF($D$21:$D$40,$T34,$H$21:$H$40)+SUMIF($D$45:$D$49,$T34,$H$45:$H$49) -> 0 | W34: =COUNTIF($D$55:$D$74,$T34)+COUNTIF($D$79:$D$83,$T34) -> 0 | X34: =SUMIF($D$55:$D$74,$T34,$H$55:$H$74)+SUMIF($D$79:$D$83,$T34,$H$79:$H$83) -> 0 | Y34: =COUNTIF($D$89:$D$108,$T34)+COUNTIF($D$113:$D$117,$T34) -> 0 | Z34: =SUMIF($D$89:$D$108,$T34,$H$89:$H$108)+SUMIF($D$113:$D$117,$T34,$H$113:$H$117) -> 0 | AA34: =COUNTIF($D$123:$D$142,$T34)+COUNTIF($D$147:$D$151,$T34) -> 0 | AB34: =SUMIF($D$123:$D$142,$T34,$H$123:$H$142)+SUMIF($D$147:$D$151,$T34,$H$147:$H$151) -> 0 | AC34: =COUNTIF($D$157:$D$176,$T34)+COUNTIF($D$181:$D$185,$T34) -> 0 | AD34: =SUMIF($D$157:$D$176,$T34,$H$157:$H$176)+SUMIF($D$181:$D$185,$T34,$H$181:$H$185) -> 0 | AE34: =COUNTIF($D$191:$D$210,$T34)+COUNTIF($D$215:$D$219,$T34) -> 0 | AF34: =SUMIF($D$191:$D$210,$T34,$H$191:$H$210)+SUMIF($D$215:$D$219,$T34,$H$215:$H$219) -> 0 | AG34: =SUM(U34,W34,Y34,AA34,AC34,AE34) -> 0 | AH34: =SUM(V34,X34,Z34,AB34,AD34,AF34) -> 0
I35: =IF(AND(B35<>"",C35<>"",D35<>"",E35<>"",F35<>"",G35<>"",H35<>""),VLOOKUP(G35,通所介護費!$A$20:$B$24,2,0),0) -> 0 | J35: =(I35*H35)*0.1*10 -> 0 | U35: =COUNTIF($D$21:$D$40,$T35)+COUNTIF($D$45:$D$49,$T35) -> 0 | V35: =SUMIF($D$21:$D$40,$T35,$H$21:$H$40)+SUMIF($D$45:$D$49,$T35,$H$45:$H$49) -> 0 | W35: =COUNTIF($D$55:$D$74,$T35)+COUNTIF($D$79:$D$83,$T35) -> 0 | X35: =SUMIF($D$55:$D$74,$T35,$H$55:$H$74)+SUMIF($D$79:$D$83,$T35,$H$79:$H$83) -> 0 | Y35: =COUNTIF($D$89:$D$108,$T35)+COUNTIF($D$113:$D$117,$T35) -> 0 | Z35: =SUMIF($D$89:$D$108,$T35,$H$89:$H$108)+SUMIF($D$113:$D$117,$T35,$H$113:$H$117) -> 0 | AA35: =COUNTIF($D$123:$D$142,$T35)+COUNTIF($D$147:$D$151,$T35) -> 0 | AB35: =SUMIF($D$123:$D$142,$T35,$H$123:$H$142)+SUMIF($D$147:$D$151,$T35,$H$147:$H$151) -> 0 | AC35: =COUNTIF($D$157:$D$176,$T35)+COUNTIF($D$181:$D$185,$T35) -> 0 | AD35: =SUMIF($D$157:$D$176,$T35,$H$157:$H$176)+SUMIF($D$181:$D$185,$T35,$H$181:$H$185) -> 0 | AE35: =COUNTIF($D$191:$D$210,$T35)+COUNTIF($D$215:$D$219,$T35) -> 0 | AF35: =SUMIF($D$191:$D$210,$T35,$H$191:$H$210)+SUMIF($D$215:$D$219,$T35,$H$215:$H$219) -> 0 | AG35: =SUM(U35,W35,Y35,AA35,AC35,AE35) -> 0 | AH35: =SUM(V35,X35,Z35,AB35,AD35,AF35) -> 0
I36: =IF(AND(B36<>"",C36<>"",D36<>"",E36<>"",F36<>"",G36<>"",H36<>""),VLOOKUP(G36,通所介護費!$A$20:$B$24,2,0),0) -> 0 | J36: =(I36*H36)*0.1*10 -> 0 | U36: =COUNTIF($D$21:$D$40,$T36)+COUNTIF($D$45:$D$49,$T36) -> 0 | V36: =SUMIF($D$21:$D$40,$T36,$H$21:$H$40)+SUMIF($D$45:$D$49,$T36,$H$45:$H$49) -> 0 | W36: =COUNTIF($D$55:$D$74,$T36)+COUNTIF($D$79:$D$83,$T36) -> 0 | X36: =SUMIF($D$55:$D$74,$T36,$H$55:$H$74)+SUMIF($D$79:$D$83,$T36,$H$79:$H$83) -> 0 | Y36: =COUNTIF($D$89:$D$108,$T36)+COUNTIF($D$113:$D$117,$T36) -> 0 | Z36: =SUMIF($D$89:$D$108,$T36,$H$89:$H$108)+SUMIF($D$113:$D$117,$T36,$H$113:$H$117) -> 0 | AA36: =COUNTIF($D$123:$D$142,$T36)+COUNTIF($D$147:$D$151,$T36) -> 0 | AB36: =SUMIF($D$123:$D$142,$T36,$H$123:$H$142)+SUMIF($D$147:$D$151,$T36,$H$147:$H$151) -> 0 | AC36: =COUNTIF($D$157:$D$176,$T36)+COUNTIF($D$181:$D$185,$T36) -> 0 | AD36: =SUMIF($D$157:$D$176,$T36,$H$157:$H$176)+SUMIF($D$181:$D$185,$T36,$H$181:$H$185) -> 0 | AE36: =COUNTIF($D$191:$D$210,$T36)+COUNTIF($D$215:$D$219,$T36) -> 0 | AF36: =SUMIF($D$191:$D$210,$T36,$H$191:$H$210)+SUMIF($D$215:$D$219,$T36,$H$215:$H$219) -> 0 | AG36: =SUM(U36,W36,Y36,AA36,AC36,AE36) -> 0 | AH36: =SUM(V36,X36,Z36,AB36,AD36,AF36) -> 0
I37: =IF(AND(B37<>"",C37<>"",D37<>"",E37<>"",F37<>"",G37<>"",H37<>""),VLOOKUP(G37,通所介護費!$A$20:$B$24,2,0),0) -> 0 | J37: =(I37*H37)*0.1*10 -> 0 | U37: =COUNTIF($D$21:$D$40,$T37)+COUNTIF($D$45:$D$49,$T37) -> 0 | V37: =SUMIF($D$21:$D$40,$T37,$H$21:$H$40)+SUMIF($D$45:$D$49,$T37,$H$45:$H$49) -> 0 | W37: =COUNTIF($D$55:$D$74,$T37)+COUNTIF($D$79:$D$83,$T37) -> 0 | X37: =SUMIF($D$55:$D$74,$T37,$H$55:$H$74)+SUMIF($D$79:$D$83,$T37,$H$79:$H$83) -> 0 | Y37: =COUNTIF($D$89:$D$108,$T37)+COUNTIF($D$113:$D$117,$T37) -> 0 | Z37: =SUMIF($D$89:$D$108,$T37,$H$89:$H$108)+SUMIF($D$113:$D$117,$T37,$H$113:$H$117) -> 0 | AA37: =COUNTIF($D$123:$D$142,$T37)+COUNTIF($D$147:$D$151,$T37) -> 0 | AB37: =SUMIF($D$123:$D$142,$T37,$H$123:$H$142)+SUMIF($D$147:$D$151,$T37,$H$147:$H$151) -> 0 | AC37: =COUNTIF($D$157:$D$176,$T37)+COUNTIF($D$181:$D$185,$T37) -> 0 | AD37: =SUMIF($D$157:$D$176,$T37,$H$157:$H$176)+SUMIF($D$181:$D$185,$T37,$H$181:$H$185) -> 0 | AE37: =COUNTIF($D$191:$D$210,$T37)+COUNTIF($D$215:$D$219,$T37) -> 0 | AF37: =SUMIF($D$191:$D$210,$T37,$H$191:$H$210)+SUMIF($D$215:$D$219,$T37,$H$215:$H$219) -> 0 | AG37: =SUM(U37,W37,Y37,AA37,AC37,AE37) -> 0 | AH37: =SUM(V37,X37,Z37,AB37,AD37,AF37) -> 0
I38: =IF(AND(B38<>"",C38<>"",D38<>"",E38<>"",F38<>"",G38<>"",H38<>""),VLOOKUP(G38,通所介護費!$A$20:$B$24,2,0),0) -> 0 | J38: =(I38*H38)*0.1*10 -> 0 | U38: =COUNTIF($D$21:$D$40,$T38)+COUNTIF($D$45:$D$49,$T38) -> 0 | V38: =SUMIF($D$21:$D$40,$T38,$H$21:$H$40)+SUMIF($D$45:$D$49,$T38,$H$45:$H$49) -> 0 | W38: =COUNTIF($D$55:$D$74,$T38)+COUNTIF($D$79:$D$83,$T38) -> 0 | X38: =SUMIF($D$55:$D$74,$T38,$H$55:$H$74)+SUMIF($D$79:$D$83,$T38,$H$79:$H$83) -> 0 | Y38: =COUNTIF($D$89:$D$108,$T38)+COUNTIF($D$113:$D$117,$T38) -> 0 | Z38: =SUMIF($D$89:$D$108,$T38,$H$89:$H$108)+SUMIF($D$113:$D$117,$T38,$H$113:$H$117) -> 0 | AA38: =COUNTIF($D$123:$D$142,$T38)+COUNTIF($D$147:$D$151,$T38) -> 0 | AB38: =SUMIF($D$123:$D$142,$T38,$H$123:$H$142)+SUMIF($D$147:$D$151,$T38,$H$147:$H$151) -> 0 | AC38: =COUNTIF($D$157:$D$176,$T38)+COUNTIF($D$181:$D$185,$T38) -> 0 | AD38: =SUMIF($D$157:$D$176,$T38,$H$157:$H$176)+SUMIF($D$181:$D$185,$T38,$H$181:$H$185) -> 0 | AE38: =COUNTIF($D$191:$D$210,$T38)+COUNTIF($D$215:$D$219,$T38) -> 0 | AF38: =SUMIF($D$191:$D$210,$T38,$H$191:$H$210)+SUMIF($D$215:$D$219,$T38,$H$215:$H$219) -> 0 | AG38: =SUM(U38,W38,Y38,AA38,AC38,AE38) -> 0 | AH38: =SUM(V38,X38,Z38,AB38,AD38,AF38) -> 0
I39: =IF(AND(B39<>"",C39<>"",D39<>"",E39<>"",F39<>"",G39<>"",H39<>""),VLOOKUP(G39,通所介護費!$A$20:$B$24,2,0),0) -> 0 | J39: =(I39*H39)*0.1*10 -> 0 | U39: =COUNTIF($D$21:$D$40,$T39)+COUNTIF($D$45:$D$49,$T39) -> 0 | V39: =SUMIF($D$21:$D$40,$T39,$H$21:$H$40)+SUMIF($D$45:$D$49,$T39,$H$45:$H$49) -> 0 | W39: =COUNTIF($D$55:$D$74,$T39)+COUNTIF($D$79:$D$83,$T39) -> 0 | X39: =SUMIF($D$55:$D$74,$T39,$H$55:$H$74)+SUMIF($D$79:$D$83,$T39,$H$79:$H$83) -> 0 | Y39: =COUNTIF($D$89:$D$108,$T39)+COUNTIF($D$113:$D$117,$T39) -> 0 | Z39: =SUMIF($D$89:$D$108,$T39,$H$89:$H$108)+SUMIF($D$113:$D$117,$T39,$H$113:$H$117) -> 0 | AA39: =COUNTIF($D$123:$D$142,$T39)+COUNTIF($D$147:$D$151,$T39) -> 0 | AB39: =SUMIF($D$123:$D$142,$T39,$H$123:$H$142)+SUMIF($D$147:$D$151,$T39,$H$147:$H$151) -> 0 | AC39: =COUNTIF($D$157:$D$176,$T39)+COUNTIF($D$181:$D$185,$T39) -> 0 | AD39: =SUMIF($D$157:$D$176,$T39,$H$157:$H$176)+SUMIF($D$181:$D$185,$T39,$H$181:$H$185) -> 0 | AE39: =COUNTIF($D$191:$D$210,$T39)+COUNTIF($D$215:$D$219,$T39) -> 0 | AF39: =SUMIF($D$191:$D$210,$T39,$H$191:$H$210)+SUMIF($D$215:$D$219,$T39,$H$215:$H$219) -> 0 | AG39: =SUM(U39,W39,Y39,AA39,AC39,AE39) -> 0 | AH39: =SUM(V39,X39,Z39,AB39,AD39,AF39) -> 0
I40: =IF(AND(B40<>"",C40<>"",D40<>"",E40<>"",F40<>"",G40<>"",H40<>""),VLOOKUP(G40,通所介護費!$A$20:$B$24,2,0),0) -> 0 | J40: =(I40*H40)*0.1*10 -> 0 | U40: =COUNTIF($D$21:$D$40,$T40)+COUNTIF($D$45:$D$49,$T40) -> 0 | V40: =SUMIF($D$21:$D$40,$T40,$H$21:$H$40)+SUMIF($D$45:$D$49,$T40,$H$45:$H$49) -> 0 | W40: =COUNTIF($D$55:$D$74,$T40)+COUNTIF($D$79:$D$83,$T40) -> 0 | X40: =SUMIF($D$55:$D$74,$T40,$H$55:$H$74)+SUMIF($D$79:$D$83,$T40,$H$79:$H$83) -> 0 | Y40: =COUNTIF($D$89:$D$108,$T40)+COUNTIF($D$113:$D$117,$T40) -> 0 | Z40: =SUMIF($D$89:$D$108,$T40,$H$89:$H$108)+SUMIF($D$113:$D$117,$T40,$H$113:$H$117) -> 0 | AA40: =COUNTIF($D$123:$D$142,$T40)+COUNTIF($D$147:$D$151,$T40) -> 0 | AB40: =SUMIF($D$123:$D$142,$T40,$H$123:$H$142)+SUMIF($D$147:$D$151,$T40,$H$147:$H$151) -> 0 | AC40: =COUNTIF($D$157:$D$176,$T40)+COUNTIF($D$181:$D$185,$T40) -> 0 | AD40: =SUMIF($D$157:$D$176,$T40,$H$157:$H$176)+SUMIF($D$181:$D$185,$T40,$H$181:$H$185) -> 0 | AE40: =COUNTIF($D$191:$D$210,$T40)+COUNTIF($D$215:$D$219,$T40) -> 0 | AF40: =SUMIF($D$191:$D$210,$T40,$H$191:$H$210)+SUMIF($D$215:$D$219,$T40,$H$215:$H$219) -> 0 | AG40: =SUM(U40,W40,Y40,AA40,AC40,AE40) -> 0 | AH40: =SUM(V40,X40,Z40,AB40,AD40,AF40) -> 0
A41: 合計 | H41: =SUMIF(H21:H40,"<>#N/A") -> 0 | I41: =SUMIF(I21:I40,"<>#N/A") -> 0 | J41: =SUMIF(J21:J40,"<>#N/A") -> 0 | U41: =COUNTIF($D$21:$D$40,$T41)+COUNTIF($D$45:$D$49,$T41) -> 0 | V41: =SUMIF($D$21:$D$40,$T41,$H$21:$H$40)+SUMIF($D$45:$D$49,$T41,$H$45:$H$49) -> 0 | W41: =COUNTIF($D$55:$D$74,$T41)+COUNTIF($D$79:$D$83,$T41) -> 0 | X41: =SUMIF($D$55:$D$74,$T41,$H$55:$H$74)+SUMIF($D$79:$D$83,$T41,$H$79:$H$83) -> 0 | Y41: =COUNTIF($D$89:$D$108,$T41)+COUNTIF($D$113:$D$117,$T41) -> 0 | Z41: =SUMIF($D$89:$D$108,$T41,$H$89:$H$108)+SUMIF($D$113:$D$117,$T41,$H$113:$H$117) -> 0 | AA41: =COUNTIF($D$123:$D$142,$T41)+COUNTIF($D$147:$D$151,$T41) -> 0 | AB41: =SUMIF($D$123:$D$142,$T41,$H$123:$H$142)+SUMIF($D$147:$D$151,$T41,$H$147:$H$151) -> 0 | AC41: =COUNTIF($D$157:$D$176,$T41)+COUNTIF($D$181:$D$185,$T41) -> 0 | AD41: =SUMIF($D$157:$D$176,$T41,$H$157:$H$176)+SUMIF($D$181:$D$185,$T41,$H$181:$H$185) -> 0 | AE41: =COUNTIF($D$191:$D$210,$T41)+COUNTIF($D$215:$D$219,$T41) -> 0 | AF41: =SUMIF($D$191:$D$210,$T41,$H$191:$H$210)+SUMIF($D$215:$D$219,$T41,$H$215:$H$219) -> 0 | AG41: =SUM(U41,W41,Y41,AA41,AC41,AE41) -> 0 | AH41: =SUM(V41,X41,Z41,AB41,AD41,AF41) -> 0
U42: =COUNTIF($D$21:$D$40,$T42)+COUNTIF($D$45:$D$49,$T42) -> 0 | V42: =SUMIF($D$21:$D$40,$T42,$H$21:$H$40)+SUMIF($D$45:$D$49,$T42,$H$45:$H$49) -> 0 | W42: =COUNTIF($D$55:$D$74,$T42)+COUNTIF($D$79:$D$83,$T42) -> 0 | X42: =SUMIF($D$55:$D$74,$T42,$H$55:$H$74)+SUMIF($D$79:$D$83,$T42,$H$79:$H$83) -> 0 | Y42: =COUNTIF($D$89:$D$108,$T42)+COUNTIF($D$113:$D$117,$T42) -> 0 | Z42: =SUMIF($D$89:$D$108,$T42,$H$89:$H$108)+SUMIF($D$113:$D$117,$T42,$H$113:$H$117) -> 0 | AA42: =COUNTIF($D$123:$D$142,$T42)+COUNTIF($D$147:$D$151,$T42) -> 0 | AB42: =SUMIF($D$123:$D$142,$T42,$H$123:$H$142)+SUMIF($D$147:$D$151,$T42,$H$147:$H$151) -> 0 | AC42: =COUNTIF($D$157:$D$176,$T42)+COUNTIF($D$181:$D$185,$T42) -> 0 | AD42: =SUMIF($D$157:$D$176,$T42,$H$157:$H$176)+SUMIF($D$181:$D$185,$T42,$H$181:$H$185) -> 0 | AE42: =COUNTIF($D$191:$D$210,$T42)+COUNTIF($D$215:$D$219,$T42) -> 0 | AF42: =SUMIF($D$191:$D$210,$T42,$H$191:$H$210)+SUMIF($D$215:$D$219,$T42,$H$215:$H$219) -> 0 | AG42: =SUM(U42,W42,Y42,AA42,AC42,AE42) -> 0 | AH42: =SUM(V42,X42,Z42,AB42,AD42,AF42) -> 0
A43: ※片道のみ送迎を行った場合 | U43: =COUNTIF($D$21:$D$40,$T43)+COUNTIF($D$45:$D$49,$T43) -> 0 | V43: =SUMIF($D$21:$D$40,$T43,$H$21:$H$40)+SUMIF($D$45:$D$49,$T43,$H$45:$H$49) -> 0 | W43: =COUNTIF($D$55:$D$74,$T43)+COUNTIF($D$79:$D$83,$T43) -> 0 | X43: =SUMIF($D$55:$D$74,$T43,$H$55:$H$74)+SUMIF($D$79:$D$83,$T43,$H$79:$H$83) -> 0 | Y43: =COUNTIF($D$89:$D$108,$T43)+COUNTIF($D$113:$D$117,$T43) -> 0 | Z43: =SUMIF($D$89:$D$108,$T43,$H$89:$H$108)+SUMIF($D$113:$D$117,$T43,$H$113:$H$117) -> 0 | AA43: =COUNTIF($D$123:$D$142,$T43)+COUNTIF($D$147:$D$151,$T43) -> 0 | AB43: =SUMIF($D$123:$D$142,$T43,$H$123:$H$142)+SUMIF($D$147:$D$151,$T43,$H$147:$H$151) -> 0 | AC43: =COUNTIF($D$157:$D$176,$T43)+COUNTIF($D$181:$D$185,$T43) -> 0 | AD43: =SUMIF($D$157:$D$176,$T43,$H$157:$H$176)+SUMIF($D$181:$D$185,$T43,$H$181:$H$185) -> 0 | AE43: =COUNTIF($D$191:$D$210,$T43)+COUNTIF($D$215:$D$219,$T43) -> 0 | AF43: =SUMIF($D$191:$D$210,$T43,$H$191:$H$210)+SUMIF($D$215:$D$219,$T43,$H$215:$H$219) -> 0 | AG43: =SUM(U43,W43,Y43,AA43,AC43,AE43) -> 0 | AH43: =SUM(V43,X43,Z43,AB43,AD43,AF43) -> 0
A44: 所要時間3時間以上4時間未満の場合 | B44: 被保険者番号 | C44: 被保険者氏名 | D44: 地区名 | E44: 事業所から 利用者宅までの 距離（km） | F44: 事業所から 利用者宅までの 所要時間（分） | G44: 要介護度 | H44: サービス 提供回数 ※片道のみ | I44: 基本報酬 （月単位数） | J44: 基準額(月) | U44: =COUNTIF($D$21:$D$40,$T44)+COUNTIF($D$45:$D$49,$T44) -> 0 | V44: =SUMIF($D$21:$D$40,$T44,$H$21:$H$40)+SUMIF($D$45:$D$49,$T44,$H$45:$H$49) -> 0 | W44: =COUNTIF($D$55:$D$74,$T44)+COUNTIF($D$79:$D$83,$T44) -> 0 | X44: =SUMIF($D$55:$D$74,$T44,$H$55:$H$74)+SUMIF($D$79:$D$83,$T44,$H$79:$H$83) -> 0 | Y44: =COUNTIF($D$89:$D$108,$T44)+COUNTIF($D$113:$D$117,$T44) -> 0 | Z44: =SUMIF($D$89:$D$108,$T44,$H$89:$H$108)+SUMIF($D$113:$D$117,$T44,$H$113:$H$117) -> 0 | AA44: =COUNTIF($D$123:$D$142,$T44)+COUNTIF($D$147:$D$151,$T44) -> 0 | AB44: =SUMIF($D$123:$D$142,$T44,$H$123:$H$142)+SUMIF($D$147:$D$151,$T44,$H$147:$H$151) -> 0 | AC44: =COUNTIF($D$157:$D$176,$T44)+COUNTIF($D$181:$D$185,$T44) -> 0 | AD44: =SUMIF($D$157:$D$176,$T44,$H$157:$H$176)+SUMIF($D$181:$D$185,$T44,$H$181:$H$185) -> 0 | AE44: =COUNTIF($D$191:$D$210,$T44)+COUNTIF($D$215:$D$219,$T44) -> 0 | AF44: =SUMIF($D$191:$D$210,$T44,$H$191:$H$210)+SUMIF($D$215:$D$219,$T44,$H$215:$H$219) -> 0 | AG44: =SUM(U44,W44,Y44,AA44,AC44,AE44) -> 0 | AH44: =SUM(V44,X44,Z44,AB44,AD44,AF44) -> 0
I45: =IF(AND(B45<>"",C45<>"",D45<>"",F45<>"",E45<>"",G45<>"",H45<>""),VLOOKUP(G45,通所介護費!$A$20:$B$24,2,0),0) -> 0 | J45: =((I45*H45)*0.1*10)/2 -> 0 | U45: =COUNTIF($D$21:$D$40,$T45)+COUNTIF($D$45:$D$49,$T45) -> 0 | V45: =SUMIF($D$21:$D$40,$T45,$H$21:$H$40)+SUMIF($D$45:$D$49,$T45,$H$45:$H$49) -> 0 | W45: =COUNTIF($D$55:$D$74,$T45)+COUNTIF($D$79:$D$83,$T45) -> 0 | X45: =SUMIF($D$55:$D$74,$T45,$H$55:$H$74)+SUMIF($D$79:$D$83,$T45,$H$79:$H$83) -> 0 | Y45: =COUNTIF($D$89:$D$108,$T45)+COUNTIF($D$113:$D$117,$T45) -> 0 | Z45: =SUMIF($D$89:$D$108,$T45,$H$89:$H$108)+SUMIF($D$113:$D$117,$T45,$H$113:$H$117) -> 0 | AA45: =COUNTIF($D$123:$D$142,$T45)+COUNTIF($D$147:$D$151,$T45) -> 0 | AB45: =SUMIF($D$123:$D$142,$T45,$H$123:$H$142)+SUMIF($D$147:$D$151,$T45,$H$147:$H$151) -> 0 | AC45: =COUNTIF($D$157:$D$176,$T45)+COUNTIF($D$181:$D$185,$T45) -> 0 | AD45: =SUMIF($D$157:$D$176,$T45,$H$157:$H$176)+SUMIF($D$181:$D$185,$T45,$H$181:$H$185) -> 0 | AE45: =COUNTIF($D$191:$D$210,$T45)+COUNTIF($D$215:$D$219,$T45) -> 0 | AF45: =SUMIF($D$191:$D$210,$T45,$H$191:$H$210)+SUMIF($D$215:$D$219,$T45,$H$215:$H$219) -> 0 | AG45: =SUM(U45,W45,Y45,AA45,AC45,AE45) -> 0 | AH45: =SUM(V45,X45,Z45,AB45,AD45,AF45) -> 0
I46: =IF(AND(B46<>"",C46<>"",D46<>"",F46<>"",E46<>"",G46<>"",H46<>""),VLOOKUP(G46,通所介護費!$A$20:$B$24,2,0),0) -> 0 | J46: =((I46*H46)*0.1*10)/2 -> 0 | AG46: =SUM(AG3:AG45) -> 0 | AH46: =SUM(AH3:AH45) -> 0
I47: =IF(AND(B47<>"",C47<>"",D47<>"",F47<>"",E47<>"",G47<>"",H47<>""),VLOOKUP(G47,通所介護費!$A$20:$B$24,2,0),0) -> 0 | J47: =((I47*H47)*0.1*10)/2 -> 0
I48: =IF(AND(B48<>"",C48<>"",D48<>"",F48<>"",E48<>"",G48<>"",H48<>""),VLOOKUP(G48,通所介護費!$A$20:$B$24,2,0),0) -> 0 | J48: =((I48*H48)*0.1*10)/2 -> 0
I49: =IF(AND(B49<>"",C49<>"",D49<>"",F49<>"",E49<>"",G49<>"",H49<>""),VLOOKUP(G49,通所介護費!$A$20:$B$24,2,0),0) -> 0 | J49: =((I49*H49)*0.1*10)/2 -> 0
A50: 合計 | H50: =SUMIF(H45:H49,"<>#N/A") -> 0 | I50: =SUMIF(I45:I49,"<>#N/A") -> 0 | J50: =SUMIF(J45:J49,"<>#N/A") -> 0
A52: （2）所要時間4時間以上5時間未満の場合
A53: ※往復の送迎を行った場合 （片道のみ送迎を行った場合は下記別表に入力すること）
A54: 所要時間4時間以上5時間未満の場合 | B54: 被保険者番号 | C54: 被保険者氏名 | D54: 地区名 | E54: 事業所から 利用者宅までの 距離（km） | F54: 事業所から 利用者宅までの 所要時間（分） | G54: 要介護度 | H54: サービス 提供回数 | I54: 基本報酬 （月単位数） | J54: 基準額(月)
I55: =IF(AND(B55<>"",C55<>"",D55<>"",E55<>"",F55<>"",G55<>"",H55<>""),VLOOKUP(G55,通所介護費!$A$27:$B$31,2,0),0) -> 0 | J55: =(I55*H55)*0.1*10 -> 0
I56: =IF(AND(B56<>"",C56<>"",D56<>"",E56<>"",F56<>"",G56<>"",H56<>""),VLOOKUP(G56,通所介護費!$A$27:$B$31,2,0),0) -> 0 | J56: =(I56*H56)*0.1*10 -> 0
I57: =IF(AND(B57<>"",C57<>"",D57<>"",E57<>"",F57<>"",G57<>"",H57<>""),VLOOKUP(G57,通所介護費!$A$27:$B$31,2,0),0) -> 0 | J57: =(I57*H57)*0.1*10 -> 0
I58: =IF(AND(B58<>"",C58<>"",D58<>"",E58<>"",F58<>"",G58<>"",H58<>""),VLOOKUP(G58,通所介護費!$A$27:$B$31,2,0),0) -> 0 | J58: =(I58*H58)*0.1*10 -> 0
I59: =IF(AND(B59<>"",C59<>"",D59<>"",E59<>"",F59<>"",G59<>"",H59<>""),VLOOKUP(G59,通所介護費!$A$27:$B$31,2,0),0) -> 0 | J59: =(I59*H59)*0.1*10 -> 0
I60: =IF(AND(B60<>"",C60<>"",D60<>"",E60<>"",F60<>"",G60<>"",H60<>""),VLOOKUP(G60,通所介護費!$A$27:$B$31,2,0),0) -> 0 | J60: =(I60*H60)*0.1*10 -> 0
I61: =IF(AND(B61<>"",C61<>"",D61<>"",E61<>"",F61<>"",G61<>"",H61<>""),VLOOKUP(G61,通所介護費!$A$27:$B$31,2,0),0) -> 0 | J61: =(I61*H61)*0.1*10 -> 0
I62: =IF(AND(B62<>"",C62<>"",D62<>"",E62<>"",F62<>"",G62<>"",H62<>""),VLOOKUP(G62,通所介護費!$A$27:$B$31,2,0),0) -> 0 | J62: =(I62*H62)*0.1*10 -> 0
I63: =IF(AND(B63<>"",C63<>"",D63<>"",E63<>"",F63<>"",G63<>"",H63<>""),VLOOKUP(G63,通所介護費!$A$27:$B$31,2,0),0) -> 0 | J63: =(I63*H63)*0.1*10 -> 0
I64: =IF(AND(B64<>"",C64<>"",D64<>"",E64<>"",F64<>"",G64<>"",H64<>""),VLOOKUP(G64,通所介護費!$A$27:$B$31,2,0),0) -> 0 | J64: =(I64*H64)*0.1*10 -> 0
I65: =IF(AND(B65<>"",C65<>"",D65<>"",E65<>"",F65<>"",G65<>"",H65<>""),VLOOKUP(G65,通所介護費!$A$27:$B$31,2,0),0) -> 0 | J65: =(I65*H65)*0.1*10 -> 0
I66: =IF(AND(B66<>"",C66<>"",D66<>"",E66<>"",F66<>"",G66<>"",H66<>""),VLOOKUP(G66,通所介護費!$A$27:$B$31,2,0),0) -> 0 | J66: =(I66*H66)*0.1*10 -> 0
... I74: =IF(AND(B74<>"",C74<>"",D74<>"",E74<>"",F74<>"",G74<>"",H74<>""),VLOOKUP(G74,通所介護費!$A$27:$B$31,2,0),0) -> 0 | J74: =(I74*H74)*0.1*10 -> 0
A75: 合計 | H75: =SUMIF(H55:H74,"<>#N/A") -> 0 | I75: =SUMIF(I55:I74,"<>#N/A") -> 0 | J75: =SUMIF(J55:J74,"<>#N/A") -> 0
A77: ※片道のみ送迎を行った場合
A78: 所要時間4時間以上5時間未満の場合 | B78: 被保険者番号 | C78: 被保険者氏名 | D78: 地区名 | E78: 事業所から 利用者宅までの 距離（km） | F78: 事業所から 利用者宅までの 所要時間（分） | G78: 要介護度 | H78: サービス 提供回数 ※片道のみ | I78: 基本報酬 （月単位数） | J78: 基準額(月)
I79: =IF(AND(B79<>"",C79<>"",D79<>"",E79<>"",F79<>"",G79<>"",H79<>""),VLOOKUP(G79,通所介護費!$A$27:$B$31,2,0),0) -> 0 | J79: =((I79*H79)*0.1*10)/2 -> 0
I80: =IF(AND(B80<>"",C80<>"",D80<>"",E80<>"",F80<>"",G80<>"",H80<>""),VLOOKUP(G80,通所介護費!$A$27:$B$31,2,0),0) -> 0 | J80: =((I80*H80)*0.1*10)/2 -> 0
I81: =IF(AND(B81<>"",C81<>"",D81<>"",E81<>"",F81<>"",G81<>"",H81<>""),VLOOKUP(G81,通所介護費!$A$27:$B$31,2,0),0) -> 0 | J81: =((I81*H81)*0.1*10)/2 -> 0
I82: =IF(AND(B82<>"",C82<>"",D82<>"",E82<>"",F82<>"",G82<>"",H82<>""),VLOOKUP(G82,通所介護費!$A$27:$B$31,2,0),0) -> 0 | J82: =((I82*H82)*0.1*10)/2 -> 0
I83: =IF(AND(B83<>"",C83<>"",D83<>"",E83<>"",F83<>"",G83<>"",H83<>""),VLOOKUP(G83,通所介護費!$A$27:$B$31,2,0),0) -> 0 | J83: =((I83*H83)*0.1*10)/2 -> 0
A84: 合計 | H84: =SUMIF(H79:H83,"<>#N/A") -> 0 | I84: =SUMIF(I79:I83,"<>#N/A") -> 0 | J84: =SUMIF(J79:J83,"<>#N/A") -> 0
A86: （3）所要時間5時間以上6時間未満の場合
A87: ※往復の送迎を行った場合 （片道のみ送迎を行った場合は下記別表に入力すること）
A88: 所要時間5時間以上6時間未満の場合 | B88: 被保険者番号 | C88: 被保険者氏名 | D88: 地区名 | E88: 事業所から 利用者宅までの 距離（km） | F88: 事業所から 利用者宅までの 所要時間（分） | G88: 要介護度 | H88: サービス 提供回数 | I88: 基本報酬 （月単位数） | J88: 基準額(月)
I89: =IF(AND(B89<>"",C89<>"",D89<>"",E89<>"",F89<>"",G89<>"",H89<>""),VLOOKUP(G89,通所介護費!$A$34:$B$38,2,0),0) -> 0 | J89: =(I89*H89)*0.1*10 -> 0
I90: =IF(AND(B90<>"",C90<>"",D90<>"",E90<>"",F90<>"",G90<>"",H90<>""),VLOOKUP(G90,通所介護費!$A$34:$B$38,2,0),0) -> 0 | J90: =(I90*H90)*0.1*10 -> 0
I91: =IF(AND(B91<>"",C91<>"",D91<>"",E91<>"",F91<>"",G91<>"",H91<>""),VLOOKUP(G91,通所介護費!$A$34:$B$38,2,0),0) -> 0 | J91: =(I91*H91)*0.1*10 -> 0
I92: =IF(AND(B92<>"",C92<>"",D92<>"",E92<>"",F92<>"",G92<>"",H92<>""),VLOOKUP(G92,通所介護費!$A$34:$B$38,2,0),0) -> 0 | J92: =(I92*H92)*0.1*10 -> 0
I93: =IF(AND(B93<>"",C93<>"",D93<>"",E93<>"",F93<>"",G93<>"",H93<>""),VLOOKUP(G93,通所介護費!$A$34:$B$38,2,0),0) -> 0 | J93: =(I93*H93)*0.1*10 -> 0
I94: =IF(AND(B94<>"",C94<>"",D94<>"",E94<>"",F94<>"",G94<>"",H94<>""),VLOOKUP(G94,通所介護費!$A$34:$B$38,2,0),0) -> 0 | J94: =(I94*H94)*0.1*10 -> 0
I95: =IF(AND(B95<>"",C95<>"",D95<>"",E95<>"",F95<>"",G95<>"",H95<>""),VLOOKUP(G95,通所介護費!$A$34:$B$38,2,0),0) -> 0 | J95: =(I95*H95)*0.1*10 -> 0
I96: =IF(AND(B96<>"",C96<>"",D96<>"",E96<>"",F96<>"",G96<>"",H96<>""),VLOOKUP(G96,通所介護費!$A$34:$B$38,2,0),0) -> 0 | J96: =(I96*H96)*0.1*10 -> 0
I97: =IF(AND(B97<>"",C97<>"",D97<>"",E97<>"",F97<>"",G97<>"",H97<>""),VLOOKUP(G97,通所介護費!$A$34:$B$38,2,0),0) -> 0 | J97: =(I97*H97)*0.1*10 -> 0
I98: =IF(AND(B98<>"",C98<>"",D98<>"",E98<>"",F98<>"",G98<>"",H98<>""),VLOOKUP(G98,通所介護費!$A$34:$B$38,2,0),0) -> 0 | J98: =(I98*H98)*0.1*10 -> 0
I99: =IF(AND(B99<>"",C99<>"",D99<>"",E99<>"",F99<>"",G99<>"",H99<>""),VLOOKUP(G99,通所介護費!$A$34:$B$38,2,0),0) -> 0 | J99: =(I99*H99)*0.1*10 -> 0
I100: =IF(AND(B100<>"",C100<>"",D100<>"",E100<>"",F100<>"",G100<>"",H100<>""),VLOOKUP(G100,通所介護費!$A$34:$B$38,2,0),0) -> 0 | J100: =(I100*H100)*0.1*10 -> 0
... I108: =IF(AND(B108<>"",C108<>"",D108<>"",E108<>"",F108<>"",G108<>"",H108<>""),VLOOKUP(G108,通所介護費!$A$34:$B$38,2,0),0) -> 0 | J108: =(I108*H108)*0.1*10 -> 0
A109: 合計 | H109: =SUMIF(H89:H108,"<>#N/A") -> 0 | I109: =SUMIF(I89:I108,"<>#N/A") -> 0 | J109: =SUMIF(J89:J108,"<>#N/A") -> 0
A111: ※片道のみ送迎を行った場合
A112: 所要時間5時間以上6時間未満の場合 | B112: 被保険者番号 | C112: 被保険者氏名 | D112: 地区名 | E112: 事業所から 利用者宅までの 距離（km） | F112: 事業所から 利用者宅までの 所要時間（分） | G112: 要介護度 | H112: サービス 提供回数 ※片道のみ | I112: 基本報酬 （月単位数） | J112: 基準額(月)
I113: =IF(AND(B113<>"",C113<>"",D113<>"",E113<>22,F113<>"",G113<>"",H113<>""),VLOOKUP(G113,通所介護費!$A$34:$B$38,2,0),0) -> 0 | J113: =((I113*H113)*0.1*10)/2 -> 0
I114: =IF(AND(B114<>"",C114<>"",D114<>"",E114<>22,F114<>"",G114<>"",H114<>""),VLOOKUP(G114,通所介護費!$A$34:$B$38,2,0),0) -> 0 | J114: =((I114*H114)*0.1*10)/2 -> 0
I115: =IF(AND(B115<>"",C115<>"",D115<>"",E115<>22,F115<>"",G115<>"",H115<>""),VLOOKUP(G115,通所介護費!$A$34:$B$38,2,0),0) -> 0 | J115: =((I115*H115)*0.1*10)/2 -> 0
I116: =IF(AND(B116<>"",C116<>"",D116<>"",E116<>22,F116<>"",G116<>"",H116<>""),VLOOKUP(G116,通所介護費!$A$34:$B$38,2,0),0) -> 0 | J116: =((I116*H116)*0.1*10)/2 -> 0
I117: =IF(AND(B117<>"",C117<>"",D117<>"",E117<>22,F117<>"",G117<>"",H117<>""),VLOOKUP(G117,通所介護費!$A$34:$B$38,2,0),0) -> 0 | J117: =((I117*H117)*0.1*10)/2 -> 0
A118: 合計 | H118: =SUMIF(H113:H117,"<>#N/A") -> 0 | I118: =SUMIF(I113:I117,"<>#N/A") -> 0 | J118: =SUMIF(J113:J117,"<>#N/A") -> 0
...

Sheet (附表2)実施状況報告（６月）
A1: 附表2 | H1: 令和 年 月 日 | U1: ① | W1: ② | Y1: ③ | AA1: ④ | AC1: ⑤ | AE1: ⑥ | AG1: 合計
A2: 吉備中央町長 様 | U2: 対象者人数 | V2: サービス 提供回数 | W2: 対象者人数 | X2: サービス 提供回数 | Y2: 対象者人数 | Z2: サービス 提供回数 | AA2: 対象者人数 | AB2: サービス 提供回数 | AC2: 対象者人数 | AD2: サービス 提供回数 | AE2: 対象者人数 | AF2: サービス 提供回数 | AG2: 対象者人数 | AH2: サービス 提供回数
T3: =対象地域一覧!A3 -> 広面 | U3: =COUNTIF($D$21:$D$40,$T3)+COUNTIF($D$45:$D$49,$T3) -> 0 | V3: =SUMIF($D$21:$D$40,$T3,$H$21:$H$40)+SUMIF($D$45:$D$49,$T3,$H$45:$H$49) -> 0 | W3: =COUNTIF($D$55:$D$74,$T3)+COUNTIF($D$79:$D$83,$T3) -> 0 | X3: =SUMIF($D$55:$D$74,$T3,$H$55:$H$74)+SUMIF($D$79:$D$83,$T3,$H$79:$H$83) -> 0 | Y3: =COUNTIF($D$89:$D$108,$T3)+COUNTIF($D$113:$D$117,$T3) -> 0 | Z3: =SUMIF($D$89:$D$108,$T3,$H$89:$H$108)+SUMIF($D$113:$D$117,$T3,$H$113:$H$117) -> 0 | AA3: =COUNTIF($D$123:$D$142,$T3)+COUNTIF($D$147:$D$151,$T3) -> 0 | AB3: =SUMIF($D$123:$D$142,$T3,$H$123:$H$142)+SUMIF($D$147:$D$151,$T3,$H$147:$H$151) -> 0 | AC3: =COUNTIF($D$157:$D$176,$T3)+COUNTIF($D$181:$D$185,$T3) -> 0 | AD3: =SUMIF($D$157:$D$176,$T3,$H$157:$H$176)+SUMIF($D$181:$D$185,$T3,$H$181:$H$185) -> 0 | AE3: =COUNTIF($D$191:$D$210,$T3)+COUNTIF($D$215:$D$219,$T3) -> 0 | AF3: =SUMIF($D$191:$D$210,$T3,$H$191:$H$210)+SUMIF($D$215:$D$219,$T3,$H$215:$H$219) -> 0 | AG3: =SUM(U3,W3,Y3,AA3,AC3,AE3) -> 0 | AH3: =SUM(V3,X3,Z3,AB3,AD3,AF3) -> 0
A4: 実 施 状 況 報 告 明 細 書 （通所介護事業所用、通常規模型通所介護費） 令和８年６月分 | T4: =対象地域一覧!A4 -> 上加茂 | U4: =COUNTIF($D$21:$D$40,$T4)+COUNTIF($D$45:$D$49,$T4) -> 0 | V4: =SUMIF($D$21:$D$40,$T4,$H$21:$H$40)+SUMIF($D$45:$D$49,$T4,$H$45:$H$49) -> 0 | W4: =COUNTIF($D$55:$D$74,$T4)+COUNTIF($D$79:$D$83,$T4) -> 0 | X4: =SUMIF($D$55:$D$74,$T4,$H$55:$H$74)+SUMIF($D$79:$D$83,$T4,$H$79:$H$83) -> 0 | Y4: =COUNTIF($D$89:$D$108,$T4)+COUNTIF($D$113:$D$117,$T4) -> 0 | Z4: =SUMIF($D$89:$D$108,$T4,$H$89:$H$108)+SUMIF($D$113:$D$117,$T4,$H$113:$H$117) -> 0 | AA4: =COUNTIF($D$123:$D$142,$T4)+COUNTIF($D$147:$D$151,$T4) -> 0 | AB4: =SUMIF($D$123:$D$142,$T4,$H$123:$H$142)+SUMIF($D$147:$D$151,$T4,$H$147:$H$151) -> 0 | AC4: =COUNTIF($D$157:$D$176,$T4)+COUNTIF($D$181:$D$185,$T4) -> 0 | AD4: =SUMIF($D$157:$D$176,$T4,$H$157:$H$176)+SUMIF($D$181:$D$185,$T4,$H$181:$H$185) -> 0 | AE4: =COUNTIF($D$191:$D$210,$T4)+COUNTIF($D$215:$D$219,$T4) -> 0 | AF4: =SUMIF($D$191:$D$210,$T4,$H$191:$H$210)+SUMIF($D$215:$D$219,$T4,$H$215:$H$219) -> 0 | AG4: =SUM(U4,W4,Y4,AA4,AC4,AE4) -> 0 | AH4: =SUM(V4,X4,Z4,AB4,AD4,AF4) -> 0
T5: =対象地域一覧!A5 -> 下加茂 | U5: =COUNTIF($D$21:$D$40,$T5)+COUNTIF($D$45:$D$49,$T5) -> 0 | V5: =SUMIF($D$21:$D$40,$T5,$H$21:$H$40)+SUMIF($D$45:$D$49,$T5,$H$45:$H$49) -> 0 | W5: =COUNTIF($D$55:$D$74,$T5)+COUNTIF($D$79:$D$83,$T5) -> 0 | X5: =SUMIF($D$55:$D$74,$T5,$H$55:$H$74)+SUMIF($D$79:$D$83,$T5,$H$79:$H$83) -> 0 | Y5: =COUNTIF($D$89:$D$108,$T5)+COUNTIF($D$113:$D$117,$T5) -> 0 | Z5: =SUMIF($D$89:$D$108,$T5,$H$89:$H$108)+SUMIF($D$113:$D$117,$T5,$H$113:$H$117) -> 0 | AA5: =COUNTIF($D$123:$D$142,$T5)+COUNTIF($D$147:$D$151,$T5) -> 0 | AB5: =SUMIF($D$123:$D$142,$T5,$H$123:$H$142)+SUMIF($D$147:$D$151,$T5,$H$147:$H$151) -> 0 | AC5: =COUNTIF($D$157:$D$176,$T5)+COUNTIF($D$181:$D$185,$T5) -> 0 | AD5: =SUMIF($D$157:$D$176,$T5,$H$157:$H$176)+SUMIF($D$181:$D$185,$T5,$H$181:$H$185) -> 0 | AE5: =COUNTIF($D$191:$D$210,$T5)+COUNTIF($D$215:$D$219,$T5) -> 0 | AF5: =SUMIF($D$191:$D$210,$T5,$H$191:$H$210)+SUMIF($D$215:$D$219,$T5,$H$215:$H$219) -> 0 | AG5: =SUM(U5,W5,Y5,AA5,AC5,AE5) -> 0 | AH5: =SUM(V5,X5,Z5,AB5,AD5,AF5) -> 0
A6: 1.事業所情報 | T6: =対象地域一覧!A6 -> 美原 | U6: =COUNTIF($D$21:$D$40,$T6)+COUNTIF($D$45:$D$49,$T6) -> 0 | V6: =SUMIF($D$21:$D$40,$T6,$H$21:$H$40)+SUMIF($D$45:$D$49,$T6,$H$45:$H$49) -> 0 | W6: =COUNTIF($D$55:$D$74,$T6)+COUNTIF($D$79:$D$83,$T6) -> 0 | X6: =SUMIF($D$55:$D$74,$T6,$H$55:$H$74)+SUMIF($D$79:$D$83,$T6,$H$79:$H$83) -> 0 | Y6: =COUNTIF($D$89:$D$108,$T6)+COUNTIF($D$113:$D$117,$T6) -> 0 | Z6: =SUMIF($D$89:$D$108,$T6,$H$89:$H$108)+SUMIF($D$113:$D$117,$T6,$H$113:$H$117) -> 0 | AA6: =COUNTIF($D$123:$D$142,$T6)+COUNTIF($D$147:$D$151,$T6) -> 0 | AB6: =SUMIF($D$123:$D$142,$T6,$H$123:$H$142)+SUMIF($D$147:$D$151,$T6,$H$147:$H$151) -> 0 | AC6: =COUNTIF($D$157:$D$176,$T6)+COUNTIF($D$181:$D$185,$T6) -> 0 | AD6: =SUMIF($D$157:$D$176,$T6,$H$157:$H$176)+SUMIF($D$181:$D$185,$T6,$H$181:$H$185) -> 0 | AE6: =COUNTIF($D$191:$D$210,$T6)+COUNTIF($D$215:$D$219,$T6) -> 0 | AF6: =SUMIF($D$191:$D$210,$T6,$H$191:$H$210)+SUMIF($D$215:$D$219,$T6,$H$215:$H$219) -> 0 | AG6: =SUM(U6,W6,Y6,AA6,AC6,AE6) -> 0 | AH6: =SUM(V6,X6,Z6,AB6,AD6,AF6) -> 0
A7: 事業所名 | C7: =IF(基本情報入力シート!V8="","",基本情報入力シート!V8) | T7: =対象地域一覧!A7 -> 加茂市場 | U7: =COUNTIF($D$21:$D$40,$T7)+COUNTIF($D$45:$D$49,$T7) -> 0 | V7: =SUMIF($D$21:$D$40,$T7,$H$21:$H$40)+SUMIF($D$45:$D$49,$T7,$H$45:$H$49) -> 0 | W7: =COUNTIF($D$55:$D$74,$T7)+COUNTIF($D$79:$D$83,$T7) -> 0 | X7: =SUMIF($D$55:$D$74,$T7,$H$55:$H$74)+SUMIF($D$79:$D$83,$T7,$H$79:$H$83) -> 0 | Y7: =COUNTIF($D$89:$D$108,$T7)+COUNTIF($D$113:$D$117,$T7) -> 0 | Z7: =SUMIF($D$89:$D$108,$T7,$H$89:$H$108)+SUMIF($D$113:$D$117,$T7,$H$113:$H$117) -> 0 | AA7: =COUNTIF($D$123:$D$142,$T7)+COUNTIF($D$147:$D$151,$T7) -> 0 | AB7: =SUMIF($D$123:$D$142,$T7,$H$123:$H$142)+SUMIF($D$147:$D$151,$T7,$H$147:$H$151) -> 0 | AC7: =COUNTIF($D$157:$D$176,$T7)+COUNTIF($D$181:$D$185,$T7) -> 0 | AD7: =SUMIF($D$157:$D$176,$T7,$H$157:$H$176)+SUMIF($D$181:$D$185,$T7,$H$181:$H$185) -> 0 | AE7: =COUNTIF($D$191:$D$210,$T7)+COUNTIF($D$215:$D$219,$T7) -> 0 | AF7: =SUMIF($D$191:$D$210,$T7,$H$191:$H$210)+SUMIF($D$215:$D$219,$T7,$H$215:$H$219) -> 0 | AG7: =SUM(U7,W7,Y7,AA7,AC7,AE7) -> 0 | AH7: =SUM(V7,X7,Z7,AB7,AD7,AF7) -> 0
A8: 事業所名 | C8: =IF(基本情報入力シート!V19="","",基本情報入力シート!V19) | T8: =対象地域一覧!A8 -> 高谷 | U8: =COUNTIF($D$21:$D$40,$T8)+COUNTIF($D$45:$D$49,$T8) -> 0 | V8: =SUMIF($D$21:$D$40,$T8,$H$21:$H$40)+SUMIF($D$45:$D$49,$T8,$H$45:$H$49) -> 0 | W8: =COUNTIF($D$55:$D$74,$T8)+COUNTIF($D$79:$D$83,$T8) -> 0 | X8: =SUMIF($D$55:$D$74,$T8,$H$55:$H$74)+SUMIF($D$79:$D$83,$T8,$H$79:$H$83) -> 0 | Y8: =COUNTIF($D$89:$D$108,$T8)+COUNTIF($D$113:$D$117,$T8) -> 0 | Z8: =SUMIF($D$89:$D$108,$T8,$H$89:$H$108)+SUMIF($D$113:$D$117,$T8,$H$113:$H$117) -> 0 | AA8: =COUNTIF($D$123:$D$142,$T8)+COUNTIF($D$147:$D$151,$T8) -> 0 | AB8: =SUMIF($D$123:$D$142,$T8,$H$123:$H$142)+SUMIF($D$147:$D$151,$T8,$H$147:$H$151) -> 0 | AC8: =COUNTIF($D$157:$D$176,$T8)+COUNTIF($D$181:$D$185,$T8) -> 0 | AD8: =SUMIF($D$157:$D$176,$T8,$H$157:$H$176)+SUMIF($D$181:$D$185,$T8,$H$181:$H$185) -> 0 | AE8: =COUNTIF($D$191:$D$210,$T8)+COUNTIF($D$215:$D$219,$T8) -> 0 | AF8: =SUMIF($D$191:$D$210,$T8,$H$191:$H$210)+SUMIF($D$215:$D$219,$T8,$H$215:$H$219) -> 0 | AG8: =SUM(U8,W8,Y8,AA8,AC8,AE8) -> 0 | AH8: =SUM(V8,X8,Z8,AB8,AD8,AF8) -> 0
A9: 事業所所在地 | C9: =IF(基本情報入力シート!V20="","",基本情報入力シート!V20) | T9: =対象地域一覧!A9 -> 平岡 | U9: =COUNTIF($D$21:$D$40,$T9)+COUNTIF($D$45:$D$49,$T9) -> 0 | V9: =SUMIF($D$21:$D$40,$T9,$H$21:$H$40)+SUMIF($D$45:$D$49,$T9,$H$45:$H$49) -> 0 | W9: =COUNTIF($D$55:$D$74,$T9)+COUNTIF($D$79:$D$83,$T9) -> 0 | X9: =SUMIF($D$55:$D$74,$T9,$H$55:$H$74)+SUMIF($D$79:$D$83,$T9,$H$79:$H$83) -> 0 | Y9: =COUNTIF($D$89:$D$108,$T9)+COUNTIF($D$113:$D$117,$T9) -> 0 | Z9: =SUMIF($D$89:$D$108,$T9,$H$89:$H$108)+SUMIF($D$113:$D$117,$T9,$H$113:$H$117) -> 0 | AA9: =COUNTIF($D$123:$D$142,$T9)+COUNTIF($D$147:$D$151,$T9) -> 0 | AB9: =SUMIF($D$123:$D$142,$T9,$H$123:$H$142)+SUMIF($D$147:$D$151,$T9,$H$147:$H$151) -> 0 | AC9: =COUNTIF($D$157:$D$176,$T9)+COUNTIF($D$181:$D$185,$T9) -> 0 | AD9: =SUMIF($D$157:$D$176,$T9,$H$157:$H$176)+SUMIF($D$181:$D$185,$T9,$H$181:$H$185) -> 0 | AE9: =COUNTIF($D$191:$D$210,$T9)+COUNTIF($D$215:$D$219,$T9) -> 0 | AF9: =SUMIF($D$191:$D$210,$T9,$H$191:$H$210)+SUMIF($D$215:$D$219,$T9,$H$215:$H$219) -> 0 | AG9: =SUM(U9,W9,Y9,AA9,AC9,AE9) -> 0 | AH9: =SUM(V9,X9,Z9,AB9,AD9,AF9) -> 0
A10: サービス種別 | C10: =IF(基本情報入力シート!V21="","",基本情報入力シート!V21) -> 通所介護 | T10: =対象地域一覧!A10 -> 上野 | U10: =COUNTIF($D$21:$D$40,$T10)+COUNTIF($D$45:$D$49,$T10) -> 0 | V10: =SUMIF($D$21:$D$40,$T10,$H$21:$H$40)+SUMIF($D$45:$D$49,$T10,$H$45:$H$49) -> 0 | W10: =COUNTIF($D$55:$D$74,$T10)+COUNTIF($D$79:$D$83,$T10) -> 0 | X10: =SUMIF($D$55:$D$74,$T10,$H$55:$H$74)+SUMIF($D$79:$D$83,$T10,$H$79:$H$83) -> 0 | Y10: =COUNTIF($D$89:$D$108,$T10)+COUNTIF($D$113:$D$117,$T10) -> 0 | Z10: =SUMIF($D$89:$D$108,$T10,$H$89:$H$108)+SUMIF($D$113:$D$117,$T10,$H$113:$H$117) -> 0 | AA10: =COUNTIF($D$123:$D$142,$T10)+COUNTIF($D$147:$D$151,$T10) -> 0 | AB10: =SUMIF($D$123:$D$142,$T10,$H$123:$H$142)+SUMIF($D$147:$D$151,$T10,$H$147:$H$151) -> 0 | AC10: =COUNTIF($D$157:$D$176,$T10)+COUNTIF($D$181:$D$185,$T10) -> 0 | AD10: =SUMIF($D$157:$D$176,$T10,$H$157:$H$176)+SUMIF($D$181:$D$185,$T10,$H$181:$H$185) -> 0 | AE10: =COUNTIF($D$191:$D$210,$T10)+COUNTIF($D$215:$D$219,$T10) -> 0 | AF10: =SUMIF($D$191:$D$210,$T10,$H$191:$H$210)+SUMIF($D$215:$D$219,$T10,$H$215:$H$219) -> 0 | AG10: =SUM(U10,W10,Y10,AA10,AC10,AE10) -> 0 | AH10: =SUM(V10,X10,Z10,AB10,AD10,AF10) -> 0
A11: 補助対象事業区分 | C11: =IF(基本情報入力シート!V22="","",基本情報入力シート!V22) -> 別表第1の1 区分1 移動に片道20分以上の時間を要するサービス（特別地域加算対象地域内に居住する利用者を対象に行う場合） | T11: =対象地域一覧!A11 -> 竹部 | U11: =COUNTIF($D$21:$D$40,$T11)+COUNTIF($D$45:$D$49,$T11) -> 0 | V11: =SUMIF($D$21:$D$40,$T11,$H$21:$H$40)+SUMIF($D$45:$D$49,$T11,$H$45:$H$49) -> 0 | W11: =COUNTIF($D$55:$D$74,$T11)+COUNTIF($D$79:$D$83,$T11) -> 0 | X11: =SUMIF($D$55:$D$74,$T11,$H$55:$H$74)+SUMIF($D$79:$D$83,$T11,$H$79:$H$83) -> 0 | Y11: =COUNTIF($D$89:$D$108,$T11)+COUNTIF($D$113:$D$117,$T11) -> 0 | Z11: =SUMIF($D$89:$D$108,$T11,$H$89:$H$108)+SUMIF($D$113:$D$117,$T11,$H$113:$H$117) -> 0 | AA11: =COUNTIF($D$123:$D$142,$T11)+COUNTIF($D$147:$D$151,$T11) -> 0 | AB11: =SUMIF($D$123:$D$142,$T11,$H$123:$H$142)+SUMIF($D$147:$D$151,$T11,$H$147:$H$151) -> 0 | AC11: =COUNTIF($D$157:$D$176,$T11)+COUNTIF($D$181:$D$185,$T11) -> 0 | AD11: =SUMIF($D$157:$D$176,$T11,$H$157:$H$176)+SUMIF($D$181:$D$185,$T11,$H$181:$H$185) -> 0 | AE11: =COUNTIF($D$191:$D$210,$T11)+COUNTIF($D$215:$D$219,$T11) -> 0 | AF11: =SUMIF($D$191:$D$210,$T11,$H$191:$H$210)+SUMIF($D$215:$D$219,$T11,$H$215:$H$219) -> 0 | AG11: =SUM(U11,W11,Y11,AA11,AC11,AE11) -> 0 | AH11: =SUM(V11,X11,Z11,AB11,AD11,AF11) -> 0
A12: 加算区分 | C12: 通常規模型通所介護費 | T12: =対象地域一覧!A12 -> 上田東 | U12: =COUNTIF($D$21:$D$40,$T12)+COUNTIF($D$45:$D$49,$T12) -> 0 | V12: =SUMIF($D$21:$D$40,$T12,$H$21:$H$40)+SUMIF($D$45:$D$49,$T12,$H$45:$H$49) -> 0 | W12: =COUNTIF($D$55:$D$74,$T12)+COUNTIF($D$79:$D$83,$T12) -> 0 | X12: =SUMIF($D$55:$D$74,$T12,$H$55:$H$74)+SUMIF($D$79:$D$83,$T12,$H$79:$H$83) -> 0 | Y12: =COUNTIF($D$89:$D$108,$T12)+COUNTIF($D$113:$D$117,$T12) -> 0 | Z12: =SUMIF($D$89:$D$108,$T12,$H$89:$H$108)+SUMIF($D$113:$D$117,$T12,$H$113:$H$117) -> 0 | AA12: =COUNTIF($D$123:$D$142,$T12)+COUNTIF($D$147:$D$151,$T12) -> 0 | AB12: =SUMIF($D$123:$D$142,$T12,$H$123:$H$142)+SUMIF($D$147:$D$151,$T12,$H$147:$H$151) -> 0 | AC12: =COUNTIF($D$157:$D$176,$T12)+COUNTIF($D$181:$D$185,$T12) -> 0 | AD12: =SUMIF($D$157:$D$176,$T12,$H$157:$H$176)+SUMIF($D$181:$D$185,$T12,$H$181:$H$185) -> 0 | AE12: =COUNTIF($D$191:$D$210,$T12)+COUNTIF($D$215:$D$219,$T12) -> 0 | AF12: =SUMIF($D$191:$D$210,$T12,$H$191:$H$210)+SUMIF($D$215:$D$219,$T12,$H$215:$H$219) -> 0 | AG12: =SUM(U12,W12,Y12,AA12,AC12,AE12) -> 0 | AH12: =SUM(V12,X12,Z12,AB12,AD12,AF12) -> 0
T13: =対象地域一覧!A13 -> 細田 | U13: =COUNTIF($D$21:$D$40,$T13)+COUNTIF($D$45:$D$49,$T13) -> 0 | V13: =SUMIF($D$21:$D$40,$T13,$H$21:$H$40)+SUMIF($D$45:$D$49,$T13,$H$45:$H$49) -> 0 | W13: =COUNTIF($D$55:$D$74,$T13)+COUNTIF($D$79:$D$83,$T13) -> 0 | X13: =SUMIF($D$55:$D$74,$T13,$H$55:$H$74)+SUMIF($D$79:$D$83,$T13,$H$79:$H$83) -> 0 | Y13: =COUNTIF($D$89:$D$108,$T13)+COUNTIF($D$113:$D$117,$T13) -> 0 | Z13: =SUMIF($D$89:$D$108,$T13,$H$89:$H$108)+SUMIF($D$113:$D$117,$T13,$H$113:$H$117) -> 0 | AA13: =COUNTIF($D$123:$D$142,$T13)+COUNTIF($D$147:$D$151,$T13) -> 0 | AB13: =SUMIF($D$123:$D$142,$T13,$H$123:$H$142)+SUMIF($D$147:$D$151,$T13,$H$147:$H$151) -> 0 | AC13: =COUNTIF($D$157:$D$176,$T13)+COUNTIF($D$181:$D$185,$T13) -> 0 | AD13: =SUMIF($D$157:$D$176,$T13,$H$157:$H$176)+SUMIF($D$181:$D$185,$T13,$H$181:$H$185) -> 0 | AE13: =COUNTIF($D$191:$D$210,$T13)+COUNTIF($D$215:$D$219,$T13) -> 0 | AF13: =SUMIF($D$191:$D$210,$T13,$H$191:$H$210)+SUMIF($D$215:$D$219,$T13,$H$215:$H$219) -> 0 | AG13: =SUM(U13,W13,Y13,AA13,AC13,AE13) -> 0 | AH13: =SUM(V13,X13,Z13,AB13,AD13,AF13) -> 0
T14: =対象地域一覧!A14 -> 三納谷 | U14: =COUNTIF($D$21:$D$40,$T14)+COUNTIF($D$45:$D$49,$T14) -> 0 | V14: =SUMIF($D$21:$D$40,$T14,$H$21:$H$40)+SUMIF($D$45:$D$49,$T14,$H$45:$H$49) -> 0 | W14: =COUNTIF($D$55:$D$74,$T14)+COUNTIF($D$79:$D$83,$T14) -> 0 | X14: =SUMIF($D$55:$D$74,$T14,$H$55:$H$74)+SUMIF($D$79:$D$83,$T14,$H$79:$H$83) -> 0 | Y14: =COUNTIF($D$89:$D$108,$T14)+COUNTIF($D$113:$D$117,$T14) -> 0 | Z14: =SUMIF($D$89:$D$108,$T14,$H$89:$H$108)+SUMIF($D$113:$D$117,$T14,$H$113:$H$117) -> 0 | AA14: =COUNTIF($D$123:$D$142,$T14)+COUNTIF($D$147:$D$151,$T14) -> 0 | AB14: =SUMIF($D$123:$D$142,$T14,$H$123:$H$142)+SUMIF($D$147:$D$151,$T14,$H$147:$H$151) -> 0 | AC14: =COUNTIF($D$157:$D$176,$T14)+COUNTIF($D$181:$D$185,$T14) -> 0 | AD14: =SUMIF($D$157:$D$176,$T14,$H$157:$H$176)+SUMIF($D$181:$D$185,$T14,$H$181:$H$185) -> 0 | AE14: =COUNTIF($D$191:$D$210,$T14)+COUNTIF($D$215:$D$219,$T14) -> 0 | AF14: =SUMIF($D$191:$D$210,$T14,$H$191:$H$210)+SUMIF($D$215:$D$219,$T14,$H$215:$H$219) -> 0 | AG14: =SUM(U14,W14,Y14,AA14,AC14,AE14) -> 0 | AH14: =SUM(V14,X14,Z14,AB14,AD14,AF14) -> 0
T15: =対象地域一覧!A15 -> 上田西 | U15: =COUNTIF($D$21:$D$40,$T15)+COUNTIF($D$45:$D$49,$T15) -> 0 | V15: =SUMIF($D$21:$D$40,$T15,$H$21:$H$40)+SUMIF($D$45:$D$49,$T15,$H$45:$H$49) -> 0 | W15: =COUNTIF($D$55:$D$74,$T15)+COUNTIF($D$79:$D$83,$T15) -> 0 | X15: =SUMIF($D$55:$D$74,$T15,$H$55:$H$74)+SUMIF($D$79:$D$83,$T15,$H$79:$H$83) -> 0 | Y15: =COUNTIF($D$89:$D$108,$T15)+COUNTIF($D$113:$D$117,$T15) -> 0 | Z15: =SUMIF($D$89:$D$108,$T15,$H$89:$H$108)+SUMIF($D$113:$D$117,$T15,$H$113:$H$117) -> 0 | AA15: =COUNTIF($D$123:$D$142,$T15)+COUNTIF($D$147:$D$151,$T15) -> 0 | AB15: =SUMIF($D$123:$D$142,$T15,$H$123:$H$142)+SUMIF($D$147:$D$151,$T15,$H$147:$H$151) -> 0 | AC15: =COUNTIF($D$157:$D$176,$T15)+COUNTIF($D$181:$D$185,$T15) -> 0 | AD15: =SUMIF($D$157:$D$176,$T15,$H$157:$H$176)+SUMIF($D$181:$D$185,$T15,$H$181:$H$185) -> 0 | AE15: =COUNTIF($D$191:$D$210,$T15)+COUNTIF($D$215:$D$219,$T15) -> 0 | AF15: =SUMIF($D$191:$D$210,$T15,$H$191:$H$210)+SUMIF($D$215:$D$219,$T15,$H$215:$H$219) -> 0 | AG15: =SUM(U15,W15,Y15,AA15,AC15,AE15) -> 0 | AH15: =SUM(V15,X15,Z15,AB15,AD15,AF15) -> 0
T16: =対象地域一覧!A16 -> 円城 | U16: =COUNTIF($D$21:$D$40,$T16)+COUNTIF($D$45:$D$49,$T16) -> 0 | V16: =SUMIF($D$21:$D$40,$T16,$H$21:$H$40)+SUMIF($D$45:$D$49,$T16,$H$45:$H$49) -> 0 | W16: =COUNTIF($D$55:$D$74,$T16)+COUNTIF($D$79:$D$83,$T16) -> 0 | X16: =SUMIF($D$55:$D$74,$T16,$H$55:$H$74)+SUMIF($D$79:$D$83,$T16,$H$79:$H$83) -> 0 | Y16: =COUNTIF($D$89:$D$108,$T16)+COUNTIF($D$113:$D$117,$T16) -> 0 | Z16: =SUMIF($D$89:$D$108,$T16,$H$89:$H$108)+SUMIF($D$113:$D$117,$T16,$H$113:$H$117) -> 0 | AA16: =COUNTIF($D$123:$D$142,$T16)+COUNTIF($D$147:$D$151,$T16) -> 0 | AB16: =SUMIF($D$123:$D$142,$T16,$H$123:$H$142)+SUMIF($D$147:$D$151,$T16,$H$147:$H$151) -> 0 | AC16: =COUNTIF($D$157:$D$176,$T16)+COUNTIF($D$181:$D$185,$T16) -> 0 | AD16: =SUMIF($D$157:$D$176,$T16,$H$157:$H$176)+SUMIF($D$181:$D$185,$T16,$H$181:$H$185) -> 0 | AE16: =COUNTIF($D$191:$D$210,$T16)+COUNTIF($D$215:$D$219,$T16) -> 0 | AF16: =SUMIF($D$191:$D$210,$T16,$H$191:$H$210)+SUMIF($D$215:$D$219,$T16,$H$215:$H$219) -> 0 | AG16: =SUM(U16,W16,Y16,AA16,AC16,AE16) -> 0 | AH16: =SUM(V16,X16,Z16,AB16,AD16,AF16) -> 0
A17: 2. 実績内訳 | T17: =対象地域一覧!A17 -> 案田 | U17: =COUNTIF($D$21:$D$40,$T17)+COUNTIF($D$45:$D$49,$T17) -> 0 | V17: =SUMIF($D$21:$D$40,$T17,$H$21:$H$40)+SUMIF($D$45:$D$49,$T17,$H$45:$H$49) -> 0 | W17: =COUNTIF($D$55:$D$74,$T17)+COUNTIF($D$79:$D$83,$T17) -> 0 | X17: =SUMIF($D$55:$D$74,$T17,$H$55:$H$74)+SUMIF($D$79:$D$83,$T17,$H$79:$H$83) -> 0 | Y17: =COUNTIF($D$89:$D$108,$T17)+COUNTIF($D$113:$D$117,$T17) -> 0 | Z17: =SUMIF($D$89:$D$108,$T17,$H$89:$H$108)+SUMIF($D$113:$D$117,$T17,$H$113:$H$117) -> 0 | AA17: =COUNTIF($D$123:$D$142,$T17)+COUNTIF($D$147:$D$151,$T17) -> 0 | AB17: =SUMIF($D$123:$D$142,$T17,$H$123:$H$142)+SUMIF($D$147:$D$151,$T17,$H$147:$H$151) -> 0 | AC17: =COUNTIF($D$157:$D$176,$T17)+COUNTIF($D$181:$D$185,$T17) -> 0 | AD17: =SUMIF($D$157:$D$176,$T17,$H$157:$H$176)+SUMIF($D$181:$D$185,$T17,$H$181:$H$185) -> 0 | AE17: =COUNTIF($D$191:$D$210,$T17)+COUNTIF($D$215:$D$219,$T17) -> 0 | AF17: =SUMIF($D$191:$D$210,$T17,$H$191:$H$210)+SUMIF($D$215:$D$219,$T17,$H$215:$H$219) -> 0 | AG17: =SUM(U17,W17,Y17,AA17,AC17,AE17) -> 0 | AH17: =SUM(V17,X17,Z17,AB17,AD17,AF17) -> 0
A18: （1）所要時間3時間以上4時間未満の場合 | T18: =対象地域一覧!A18 -> 高富 | U18: =COUNTIF($D$21:$D$40,$T18)+COUNTIF($D$45:$D$49,$T18) -> 0 | V18: =SUMIF($D$21:$D$40,$T18,$H$21:$H$40)+SUMIF($D$45:$D$49,$T18,$H$45:$H$49) -> 0 | W18: =COUNTIF($D$55:$D$74,$T18)+COUNTIF($D$79:$D$83,$T18) -> 0 | X18: =SUMIF($D$55:$D$74,$T18,$H$55:$H$74)+SUMIF($D$79:$D$83,$T18,$H$79:$H$83) -> 0 | Y18: =COUNTIF($D$89:$D$108,$T18)+COUNTIF($D$113:$D$117,$T18) -> 0 | Z18: =SUMIF($D$89:$D$108,$T18,$H$89:$H$108)+SUMIF($D$113:$D$117,$T18,$H$113:$H$117) -> 0 | AA18: =COUNTIF($D$123:$D$142,$T18)+COUNTIF($D$147:$D$151,$T18) -> 0 | AB18: =SUMIF($D$123:$D$142,$T18,$H$123:$H$142)+SUMIF($D$147:$D$151,$T18,$H$147:$H$151) -> 0 | AC18: =COUNTIF($D$157:$D$176,$T18)+COUNTIF($D$181:$D$185,$T18) -> 0 | AD18: =SUMIF($D$157:$D$176,$T18,$H$157:$H$176)+SUMIF($D$181:$D$185,$T18,$H$181:$H$185) -> 0 | AE18: =COUNTIF($D$191:$D$210,$T18)+COUNTIF($D$215:$D$219,$T18) -> 0 | AF18: =SUMIF($D$191:$D$210,$T18,$H$191:$H$210)+SUMIF($D$215:$D$219,$T18,$H$215:$H$219) -> 0 | AG18: =SUM(U18,W18,Y18,AA18,AC18,AE18) -> 0 | AH18: =SUM(V18,X18,Z18,AB18,AD18,AF18) -> 0
A19: ※往復の送迎を行った場合 （片道のみ送迎を行った場合は下記別表に入力すること） | T19: =対象地域一覧!A19 -> 神瀬 | U19: =COUNTIF($D$21:$D$40,$T19)+COUNTIF($D$45:$D$49,$T19) -> 0 | V19: =SUMIF($D$21:$D$40,$T19,$H$21:$H$40)+SUMIF($D$45:$D$49,$T19,$H$45:$H$49) -> 0 | W19: =COUNTIF($D$55:$D$74,$T19)+COUNTIF($D$79:$D$83,$T19) -> 0 | X19: =SUMIF($D$55:$D$74,$T19,$H$55:$H$74)+SUMIF($D$79:$D$83,$T19,$H$79:$H$83) -> 0 | Y19: =COUNTIF($D$89:$D$108,$T19)+COUNTIF($D$113:$D$117,$T19) -> 0 | Z19: =SUMIF($D$89:$D$108,$T19,$H$89:$H$108)+SUMIF($D$113:$D$117,$T19,$H$113:$H$117) -> 0 | AA19: =COUNTIF($D$123:$D$142,$T19)+COUNTIF($D$147:$D$151,$T19) -> 0 | AB19: =SUMIF($D$123:$D$142,$T19,$H$123:$H$142)+SUMIF($D$147:$D$151,$T19,$H$147:$H$151) -> 0 | AC19: =COUNTIF($D$157:$D$176,$T19)+COUNTIF($D$181:$D$185,$T19) -> 0 | AD19: =SUMIF($D$157:$D$176,$T19,$H$157:$H$176)+SUMIF($D$181:$D$185,$T19,$H$181:$H$185) -> 0 | AE19: =COUNTIF($D$191:$D$210,$T19)+COUNTIF($D$215:$D$219,$T19) -> 0 | AF19: =SUMIF($D$191:$D$210,$T19,$H$191:$H$210)+SUMIF($D$215:$D$219,$T19,$H$215:$H$219) -> 0 | AG19: =SUM(U19,W19,Y19,AA19,AC19,AE19) -> 0 | AH19: =SUM(V19,X19,Z19,AB19,AD19,AF19) -> 0
A20: 所要時間3時間以上4時間未満の場合 | B20: 被保険者番号 | C20: 被保険者氏名 | D20: 地区名 | E20: 事業所から 利用者宅までの 距離（km） | F20: 事業所から 利用者宅までの 所要時間（分） | G20: 要介護度 | H20: サービス 提供回数 | I20: 基本報酬 （月単位数） | J20: 基準額(月) | T20: =対象地域一覧!A20 -> 小森 | U20: =COUNTIF($D$21:$D$40,$T20)+COUNTIF($D$45:$D$49,$T20) -> 0 | V20: =SUMIF($D$21:$D$40,$T20,$H$21:$H$40)+SUMIF($D$45:$D$49,$T20,$H$45:$H$49) -> 0 | W20: =COUNTIF($D$55:$D$74,$T20)+COUNTIF($D$79:$D$83,$T20) -> 0 | X20: =SUMIF($D$55:$D$74,$T20,$H$55:$H$74)+SUMIF($D$79:$D$83,$T20,$H$79:$H$83) -> 0 | Y20: =COUNTIF($D$89:$D$108,$T20)+COUNTIF($D$113:$D$117,$T20) -> 0 | Z20: =SUMIF($D$89:$D$108,$T20,$H$89:$H$108)+SUMIF($D$113:$D$117,$T20,$H$113:$H$117) -> 0 | AA20: =COUNTIF($D$123:$D$142,$T20)+COUNTIF($D$147:$D$151,$T20) -> 0 | AB20: =SUMIF($D$123:$D$142,$T20,$H$123:$H$142)+SUMIF($D$147:$D$151,$T20,$H$147:$H$151) -> 0 | AC20: =COUNTIF($D$157:$D$176,$T20)+COUNTIF($D$181:$D$185,$T20) -> 0 | AD20: =SUMIF($D$157:$D$176,$T20,$H$157:$H$176)+SUMIF($D$181:$D$185,$T20,$H$181:$H$185) -> 0 | AE20: =COUNTIF($D$191:$D$210,$T20)+COUNTIF($D$215:$D$219,$T20) -> 0 | AF20: =SUMIF($D$191:$D$210,$T20,$H$191:$H$210)+SUMIF($D$215:$D$219,$T20,$H$215:$H$219) -> 0 | AG20: =SUM(U20,W20,Y20,AA20,AC20,AE20) -> 0 | AH20: =SUM(V20,X20,Z20,AB20,AD20,AF20) -> 0
I21: =IF(AND(B21<>"",C21<>"",D21<>"",E21<>"",F21<>"",G21<>"",H21<>""),VLOOKUP(G21,通所介護費!$A$20:$B$24,2,0),0) -> 0 | J21: =(I21*H21)*0.1*10 -> 0 | T21: =対象地域一覧!A21 -> 尾原 | U21: =COUNTIF($D$21:$D$40,$T21)+COUNTIF($D$45:$D$49,$T21) -> 0 | V21: =SUMIF($D$21:$D$40,$T21,$H$21:$H$40)+SUMIF($D$45:$D$49,$T21,$H$45:$H$49) -> 0 | W21: =COUNTIF($D$55:$D$74,$T21)+COUNTIF($D$79:$D$83,$T21) -> 0 | X21: =SUMIF($D$55:$D$74,$T21,$H$55:$H$74)+SUMIF($D$79:$D$83,$T21,$H$79:$H$83) -> 0 | Y21: =COUNTIF($D$89:$D$108,$T21)+COUNTIF($D$113:$D$117,$T21) -> 0 | Z21: =SUMIF($D$89:$D$108,$T21,$H$89:$H$108)+SUMIF($D$113:$D$117,$T21,$H$113:$H$117) -> 0 | AA21: =COUNTIF($D$123:$D$142,$T21)+COUNTIF($D$147:$D$151,$T21) -> 0 | AB21: =SUMIF($D$123:$D$142,$T21,$H$123:$H$142)+SUMIF($D$147:$D$151,$T21,$H$147:$H$151) -> 0 | AC21: =COUNTIF($D$157:$D$176,$T21)+COUNTIF($D$181:$D$185,$T21) -> 0 | AD21: =SUMIF($D$157:$D$176,$T21,$H$157:$H$176)+SUMIF($D$181:$D$185,$T21,$H$181:$H$185) -> 0 | AE21: =COUNTIF($D$191:$D$210,$T21)+COUNTIF($D$215:$D$219,$T21) -> 0 | AF21: =SUMIF($D$191:$D$210,$T21,$H$191:$H$210)+SUMIF($D$215:$D$219,$T21,$H$215:$H$219) -> 0 | AG21: =SUM(U21,W21,Y21,AA21,AC21,AE21) -> 0 | AH21: =SUM(V21,X21,Z21,AB21,AD21,AF21) -> 0
I22: =IF(AND(B22<>"",C22<>"",D22<>"",E22<>"",F22<>"",G22<>"",H22<>""),VLOOKUP(G22,通所介護費!$A$20:$B$24,2,0),0) -> 0 | J22: =(I22*H22)*0.1*10 -> 0 | T22: =対象地域一覧!A22 -> 笹目 | U22: =COUNTIF($D$21:$D$40,$T22)+COUNTIF($D$45:$D$49,$T22) -> 0 | V22: =SUMIF($D$21:$D$40,$T22,$H$21:$H$40)+SUMIF($D$45:$D$49,$T22,$H$45:$H$49) -> 0 | W22: =COUNTIF($D$55:$D$74,$T22)+COUNTIF($D$79:$D$83,$T22) -> 0 | X22: =SUMIF($D$55:$D$74,$T22,$H$55:$H$74)+SUMIF($D$79:$D$83,$T22,$H$79:$H$83) -> 0 | Y22: =COUNTIF($D$89:$D$108,$T22)+COUNTIF($D$113:$D$117,$T22) -> 0 | Z22: =SUMIF($D$89:$D$108,$T22,$H$89:$H$108)+SUMIF($D$113:$D$117,$T22,$H$113:$H$117) -> 0 | AA22: =COUNTIF($D$123:$D$142,$T22)+COUNTIF($D$147:$D$151,$T22) -> 0 | AB22: =SUMIF($D$123:$D$142,$T22,$H$123:$H$142)+SUMIF($D$147:$D$151,$T22,$H$147:$H$151) -> 0 | AC22: =COUNTIF($D$157:$D$176,$T22)+COUNTIF($D$181:$D$185,$T22) -> 0 | AD22: =SUMIF($D$157:$D$176,$T22,$H$157:$H$176)+SUMIF($D$181:$D$185,$T22,$H$181:$H$185) -> 0 | AE22: =COUNTIF($D$191:$D$210,$T22)+COUNTIF($D$215:$D$219,$T22) -> 0 | AF22: =SUMIF($D$191:$D$210,$T22,$H$191:$H$210)+SUMIF($D$215:$D$219,$T22,$H$215:$H$219) -> 0 | AG22: =SUM(U22,W22,Y22,AA22,AC22,AE22) -> 0 | AH22: =SUM(V22,X22,Z22,AB22,AD22,AF22) -> 0
I23: =IF(AND(B23<>"",C23<>"",D23<>"",E23<>"",F23<>"",G23<>"",H23<>""),VLOOKUP(G23,通所介護費!$A$20:$B$24,2,0),0) -> 0 | J23: =(I23*H23)*0.1*10 -> 0 | T23: =対象地域一覧!A23 -> 福沢 | U23: =COUNTIF($D$21:$D$40,$T23)+COUNTIF($D$45:$D$49,$T23) -> 0 | V23: =SUMIF($D$21:$D$40,$T23,$H$21:$H$40)+SUMIF($D$45:$D$49,$T23,$H$45:$H$49) -> 0 | W23: =COUNTIF($D$55:$D$74,$T23)+COUNTIF($D$79:$D$83,$T23) -> 0 | X23: =SUMIF($D$55:$D$74,$T23,$H$55:$H$74)+SUMIF($D$79:$D$83,$T23,$H$79:$H$83) -> 0 | Y23: =COUNTIF($D$89:$D$108,$T23)+COUNTIF($D$113:$D$117,$T23) -> 0 | Z23: =SUMIF($D$89:$D$108,$T23,$H$89:$H$108)+SUMIF($D$113:$D$117,$T23,$H$113:$H$117) -> 0 | AA23: =COUNTIF($D$123:$D$142,$T23)+COUNTIF($D$147:$D$151,$T23) -> 0 | AB23: =SUMIF($D$123:$D$142,$T23,$H$123:$H$142)+SUMIF($D$147:$D$151,$T23,$H$147:$H$151) -> 0 | AC23: =COUNTIF($D$157:$D$176,$T23)+COUNTIF($D$181:$D$185,$T23) -> 0 | AD23: =SUMIF($D$157:$D$176,$T23,$H$157:$H$176)+SUMIF($D$181:$D$185,$T23,$H$181:$H$185) -> 0 | AE23: =COUNTIF($D$191:$D$210,$T23)+COUNTIF($D$215:$D$219,$T23) -> 0 | AF23: =SUMIF($D$191:$D$210,$T23,$H$191:$H$210)+SUMIF($D$215:$D$219,$T23,$H$215:$H$219) -> 0 | AG23: =SUM(U23,W23,Y23,AA23,AC23,AE23) -> 0 | AH23: =SUM(V23,X23,Z23,AB23,AD23,AF23) -> 0
I24: =IF(AND(B24<>"",C24<>"",D24<>"",E24<>"",F24<>"",G24<>"",H24<>""),VLOOKUP(G24,通所介護費!$A$20:$B$24,2,0),0) -> 0 | J24: =(I24*H24)*0.1*10 -> 0 | T24: =対象地域一覧!A24 -> 溝部 | U24: =COUNTIF($D$21:$D$40,$T24)+COUNTIF($D$45:$D$49,$T24) -> 0 | V24: =SUMIF($D$21:$D$40,$T24,$H$21:$H$40)+SUMIF($D$45:$D$49,$T24,$H$45:$H$49) -> 0 | W24: =COUNTIF($D$55:$D$74,$T24)+COUNTIF($D$79:$D$83,$T24) -> 0 | X24: =SUMIF($D$55:$D$74,$T24,$H$55:$H$74)+SUMIF($D$79:$D$83,$T24,$H$79:$H$83) -> 0 | Y24: =COUNTIF($D$89:$D$108,$T24)+COUNTIF($D$113:$D$117,$T24) -> 0 | Z24: =SUMIF($D$89:$D$108,$T24,$H$89:$H$108)+SUMIF($D$113:$D$117,$T24,$H$113:$H$117) -> 0 | AA24: =COUNTIF($D$123:$D$142,$T24)+COUNTIF($D$147:$D$151,$T24) -> 0 | AB24: =SUMIF($D$123:$D$142,$T24,$H$123:$H$142)+SUMIF($D$147:$D$151,$T24,$H$147:$H$151) -> 0 | AC24: =COUNTIF($D$157:$D$176,$T24)+COUNTIF($D$181:$D$185,$T24) -> 0 | AD24: =SUMIF($D$157:$D$176,$T24,$H$157:$H$176)+SUMIF($D$181:$D$185,$T24,$H$181:$H$185) -> 0 | AE24: =COUNTIF($D$191:$D$210,$T24)+COUNTIF($D$215:$D$219,$T24) -> 0 | AF24: =SUMIF($D$191:$D$210,$T24,$H$191:$H$210)+SUMIF($D$215:$D$219,$T24,$H$215:$H$219) -> 0 | AG24: =SUM(U24,W24,Y24,AA24,AC24,AE24) -> 0 | AH24: =SUM(V24,X24,Z24,AB24,AD24,AF24) -> 0
I25: =IF(AND(B25<>"",C25<>"",D25<>"",E25<>"",F25<>"",G25<>"",H25<>""),VLOOKUP(G25,通所介護費!$A$20:$B$24,2,0),0) -> 0 | J25: =(I25*H25)*0.1*10 -> 0 | T25: =対象地域一覧!A25 -> 0 | U25: =COUNTIF($D$21:$D$40,$T25)+COUNTIF($D$45:$D$49,$T25) -> 0 | V25: =SUMIF($D$21:$D$40,$T25,$H$21:$H$40)+SUMIF($D$45:$D$49,$T25,$H$45:$H$49) -> 0 | W25: =COUNTIF($D$55:$D$74,$T25)+COUNTIF($D$79:$D$83,$T25) -> 0 | X25: =SUMIF($D$55:$D$74,$T25,$H$55:$H$74)+SUMIF($D$79:$D$83,$T25,$H$79:$H$83) -> 0 | Y25: =COUNTIF($D$89:$D$108,$T25)+COUNTIF($D$113:$D$117,$T25) -> 0 | Z25: =SUMIF($D$89:$D$108,$T25,$H$89:$H$108)+SUMIF($D$113:$D$117,$T25,$H$113:$H$117) -> 0 | AA25: =COUNTIF($D$123:$D$142,$T25)+COUNTIF($D$147:$D$151,$T25) -> 0 | AB25: =SUMIF($D$123:$D$142,$T25,$H$123:$H$142)+SUMIF($D$147:$D$151,$T25,$H$147:$H$151) -> 0 | AC25: =COUNTIF($D$157:$D$176,$T25)+COUNTIF($D$181:$D$185,$T25) -> 0 | AD25: =SUMIF($D$157:$D$176,$T25,$H$157:$H$176)+SUMIF($D$181:$D$185,$T25,$H$181:$H$185) -> 0 | AE25: =COUNTIF($D$191:$D$210,$T25)+COUNTIF($D$215:$D$219,$T25) -> 0 | AF25: =SUMIF($D$191:$D$210,$T25,$H$191:$H$210)+SUMIF($D$215:$D$219,$T25,$H$215:$H$219) -> 0 | AG25: =SUM(U25,W25,Y25,AA25,AC25,AE25) -> 0 | AH25: =SUM(V25,X25,Z25,AB25,AD25,AF25) -> 0
I26: =IF(AND(B26<>"",C26<>"",D26<>"",E26<>"",F26<>"",G26<>"",H26<>""),VLOOKUP(G26,通所介護費!$A$20:$B$24,2,0),0) -> 0 | J26: =(I26*H26)*0.1*10 -> 0 | T26: =対象地域一覧!A26 -> 0 | U26: =COUNTIF($D$21:$D$40,$T26)+COUNTIF($D$45:$D$49,$T26) -> 0 | V26: =SUMIF($D$21:$D$40,$T26,$H$21:$H$40)+SUMIF($D$45:$D$49,$T26,$H$45:$H$49) -> 0 | W26: =COUNTIF($D$55:$D$74,$T26)+COUNTIF($D$79:$D$83,$T26) -> 0 | X26: =SUMIF($D$55:$D$74,$T26,$H$55:$H$74)+SUMIF($D$79:$D$83,$T26,$H$79:$H$83) -> 0 | Y26: =COUNTIF($D$89:$D$108,$T26)+COUNTIF($D$113:$D$117,$T26) -> 0 | Z26: =SUMIF($D$89:$D$108,$T26,$H$89:$H$108)+SUMIF($D$113:$D$117,$T26,$H$113:$H$117) -> 0 | AA26: =COUNTIF($D$123:$D$142,$T26)+COUNTIF($D$147:$D$151,$T26) -> 0 | AB26: =SUMIF($D$123:$D$142,$T26,$H$123:$H$142)+SUMIF($D$147:$D$151,$T26,$H$147:$H$151) -> 0 | AC26: =COUNTIF($D$157:$D$176,$T26)+COUNTIF($D$181:$D$185,$T26) -> 0 | AD26: =SUMIF($D$157:$D$176,$T26,$H$157:$H$176)+SUMIF($D$181:$D$185,$T26,$H$181:$H$185) -> 0 | AE26: =COUNTIF($D$191:$D$210,$T26)+COUNTIF($D$215:$D$219,$T26) -> 0 | AF26: =SUMIF($D$191:$D$210,$T26,$H$191:$H$210)+SUMIF($D$215:$D$219,$T26,$H$215:$H$219) -> 0 | AG26: =SUM(U26,W26,Y26,AA26,AC26,AE26) -> 0 | AH26: =SUM(V26,X26,Z26,AB26,AD26,AF26) -> 0
I27: =IF(AND(B27<>"",C27<>"",D27<>"",E27<>"",F27<>"",G27<>"",H27<>""),VLOOKUP(G27,通所介護費!$A$20:$B$24,2,0),0) -> 0 | J27: =(I27*H27)*0.1*10 -> 0 | T27: =対象地域一覧!A27 -> 0 | U27: =COUNTIF($D$21:$D$40,$T27)+COUNTIF($D$45:$D$49,$T27) -> 0 | V27: =SUMIF($D$21:$D$40,$T27,$H$21:$H$40)+SUMIF($D$45:$D$49,$T27,$H$45:$H$49) -> 0 | W27: =COUNTIF($D$55:$D$74,$T27)+COUNTIF($D$79:$D$83,$T27) -> 0 | X27: =SUMIF($D$55:$D$74,$T27,$H$55:$H$74)+SUMIF($D$79:$D$83,$T27,$H$79:$H$83) -> 0 | Y27: =COUNTIF($D$89:$D$108,$T27)+COUNTIF($D$113:$D$117,$T27) -> 0 | Z27: =SUMIF($D$89:$D$108,$T27,$H$89:$H$108)+SUMIF($D$113:$D$117,$T27,$H$113:$H$117) -> 0 | AA27: =COUNTIF($D$123:$D$142,$T27)+COUNTIF($D$147:$D$151,$T27) -> 0 | AB27: =SUMIF($D$123:$D$142,$T27,$H$123:$H$142)+SUMIF($D$147:$D$151,$T27,$H$147:$H$151) -> 0 | AC27: =COUNTIF($D$157:$D$176,$T27)+COUNTIF($D$181:$D$185,$T27) -> 0 | AD27: =SUMIF($D$157:$D$176,$T27,$H$157:$H$176)+SUMIF($D$181:$D$185,$T27,$H$181:$H$185) -> 0 | AE27: =COUNTIF($D$191:$D$210,$T27)+COUNTIF($D$215:$D$219,$T27) -> 0 | AF27: =SUMIF($D$191:$D$210,$T27,$H$191:$H$210)+SUMIF($D$215:$D$219,$T27,$H$215:$H$219) -> 0 | AG27: =SUM(U27,W27,Y27,AA27,AC27,AE27) -> 0 | AH27: =SUM(V27,X27,Z27,AB27,AD27,AF27) -> 0
I28: =IF(AND(B28<>"",C28<>"",D28<>"",E28<>"",F28<>"",G28<>"",H28<>""),VLOOKUP(G28,通所介護費!$A$20:$B$24,2,0),0) -> 0 | J28: =(I28*H28)*0.1*10 -> 0 | T28: =対象地域一覧!A28 -> 0 | U28: =COUNTIF($D$21:$D$40,$T28)+COUNTIF($D$45:$D$49,$T28) -> 0 | V28: =SUMIF($D$21:$D$40,$T28,$H$21:$H$40)+SUMIF($D$45:$D$49,$T28,$H$45:$H$49) -> 0 | W28: =COUNTIF($D$55:$D$74,$T28)+COUNTIF($D$79:$D$83,$T28) -> 0 | X28: =SUMIF($D$55:$D$74,$T28,$H$55:$H$74)+SUMIF($D$79:$D$83,$T28,$H$79:$H$83) -> 0 | Y28: =COUNTIF($D$89:$D$108,$T28)+COUNTIF($D$113:$D$117,$T28) -> 0 | Z28: =SUMIF($D$89:$D$108,$T28,$H$89:$H$108)+SUMIF($D$113:$D$117,$T28,$H$113:$H$117) -> 0 | AA28: =COUNTIF($D$123:$D$142,$T28)+COUNTIF($D$147:$D$151,$T28) -> 0 | AB28: =SUMIF($D$123:$D$142,$T28,$H$123:$H$142)+SUMIF($D$147:$D$151,$T28,$H$147:$H$151) -> 0 | AC28: =COUNTIF($D$157:$D$176,$T28)+COUNTIF($D$181:$D$185,$T28) -> 0 | AD28: =SUMIF($D$157:$D$176,$T28,$H$157:$H$176)+SUMIF($D$181:$D$185,$T28,$H$181:$H$185) -> 0 | AE28: =COUNTIF($D$191:$D$210,$T28)+COUNTIF($D$215:$D$219,$T28) -> 0 | AF28: =SUMIF($D$191:$D$210,$T28,$H$191:$H$210)+SUMIF($D$215:$D$219,$T28,$H$215:$H$219) -> 0 | AG28: =SUM(U28,W28,Y28,AA28,AC28,AE28) -> 0 | AH28: =SUM(V28,X28,Z28,AB28,AD28,AF28) -> 0
I29: =IF(AND(B29<>"",C29<>"",D29<>"",E29<>"",F29<>"",G29<>"",H29<>""),VLOOKUP(G29,通所介護費!$A$20:$B$24,2,0),0) -> 0 | J29: =(I29*H29)*0.1*10 -> 0 | T29: =対象地域一覧!A29 -> 0 | U29: =COUNTIF($D$21:$D$40,$T29)+COUNTIF($D$45:$D$49,$T29) -> 0 | V29: =SUMIF($D$21:$D$40,$T29,$H$21:$H$40)+SUMIF($D$45:$D$49,$T29,$H$45:$H$49) -> 0 | W29: =COUNTIF($D$55:$D$74,$T29)+COUNTIF($D$79:$D$83,$T29) -> 0 | X29: =SUMIF($D$55:$D$74,$T29,$H$55:$H$74)+SUMIF($D$79:$D$83,$T29,$H$79:$H$83) -> 0 | Y29: =COUNTIF($D$89:$D$108,$T29)+COUNTIF($D$113:$D$117,$T29) -> 0 | Z29: =SUMIF($D$89:$D$108,$T29,$H$89:$H$108)+SUMIF($D$113:$D$117,$T29,$H$113:$H$117) -> 0 | AA29: =COUNTIF($D$123:$D$142,$T29)+COUNTIF($D$147:$D$151,$T29) -> 0 | AB29: =SUMIF($D$123:$D$142,$T29,$H$123:$H$142)+SUMIF($D$147:$D$151,$T29,$H$147:$H$151) -> 0 | AC29: =COUNTIF($D$157:$D$176,$T29)+COUNTIF($D$181:$D$185,$T29) -> 0 | AD29: =SUMIF($D$157:$D$176,$T29,$H$157:$H$176)+SUMIF($D$181:$D$185,$T29,$H$181:$H$185) -> 0 | AE29: =COUNTIF($D$191:$D$210,$T29)+COUNTIF($D$215:$D$219,$T29) -> 0 | AF29: =SUMIF($D$191:$D$210,$T29,$H$191:$H$210)+SUMIF($D$215:$D$219,$T29,$H$215:$H$219) -> 0 | AG29: =SUM(U29,W29,Y29,AA29,AC29,AE29) -> 0 | AH29: =SUM(V29,X29,Z29,AB29,AD29,AF29) -> 0
I30: =IF(AND(B30<>"",C30<>"",D30<>"",E30<>"",F30<>"",G30<>"",H30<>""),VLOOKUP(G30,通所介護費!$A$20:$B$24,2,0),0) -> 0 | J30: =(I30*H30)*0.1*10 -> 0 | T30: =対象地域一覧!A30 -> 0 | U30: =COUNTIF($D$21:$D$40,$T30)+COUNTIF($D$45:$D$49,$T30) -> 0 | V30: =SUMIF($D$21:$D$40,$T30,$H$21:$H$40)+SUMIF($D$45:$D$49,$T30,$H$45:$H$49) -> 0 | W30: =COUNTIF($D$55:$D$74,$T30)+COUNTIF($D$79:$D$83,$T30) -> 0 | X30: =SUMIF($D$55:$D$74,$T30,$H$55:$H$74)+SUMIF($D$79:$D$83,$T30,$H$79:$H$83) -> 0 | Y30: =COUNTIF($D$89:$D$108,$T30)+COUNTIF($D$113:$D$117,$T30) -> 0 | Z30: =SUMIF($D$89:$D$108,$T30,$H$89:$H$108)+SUMIF($D$113:$D$117,$T30,$H$113:$H$117) -> 0 | AA30: =COUNTIF($D$123:$D$142,$T30)+COUNTIF($D$147:$D$151,$T30) -> 0 | AB30: =SUMIF($D$123:$D$142,$T30,$H$123:$H$142)+SUMIF($D$147:$D$151,$T30,$H$147:$H$151) -> 0 | AC30: =COUNTIF($D$157:$D$176,$T30)+COUNTIF($D$181:$D$185,$T30) -> 0 | AD30: =SUMIF($D$157:$D$176,$T30,$H$157:$H$176)+SUMIF($D$181:$D$185,$T30,$H$181:$H$185) -> 0 | AE30: =COUNTIF($D$191:$D$210,$T30)+COUNTIF($D$215:$D$219,$T30) -> 0 | AF30: =SUMIF($D$191:$D$210,$T30,$H$191:$H$210)+SUMIF($D$215:$D$219,$T30,$H$215:$H$219) -> 0 | AG30: =SUM(U30,W30,Y30,AA30,AC30,AE30) -> 0 | AH30: =SUM(V30,X30,Z30,AB30,AD30,AF30) -> 0
I31: =IF(AND(B31<>"",C31<>"",D31<>"",E31<>"",F31<>"",G31<>"",H31<>""),VLOOKUP(G31,通所介護費!$A$20:$B$24,2,0),0) -> 0 | J31: =(I31*H31)*0.1*10 -> 0 | T31: =対象地域一覧!A31 -> 0 | U31: =COUNTIF($D$21:$D$40,$T31)+COUNTIF($D$45:$D$49,$T31) -> 0 | V31: =SUMIF($D$21:$D$40,$T31,$H$21:$H$40)+SUMIF($D$45:$D$49,$T31,$H$45:$H$49) -> 0 | W31: =COUNTIF($D$55:$D$74,$T31)+COUNTIF($D$79:$D$83,$T31) -> 0 | X31: =SUMIF($D$55:$D$74,$T31,$H$55:$H$74)+SUMIF($D$79:$D$83,$T31,$H$79:$H$83) -> 0 | Y31: =COUNTIF($D$89:$D$108,$T31)+COUNTIF($D$113:$D$117,$T31) -> 0 | Z31: =SUMIF($D$89:$D$108,$T31,$H$89:$H$108)+SUMIF($D$113:$D$117,$T31,$H$113:$H$117) -> 0 | AA31: =COUNTIF($D$123:$D$142,$T31)+COUNTIF($D$147:$D$151,$T31) -> 0 | AB31: =SUMIF($D$123:$D$142,$T31,$H$123:$H$142)+SUMIF($D$147:$D$151,$T31,$H$147:$H$151) -> 0 | AC31: =COUNTIF($D$157:$D$176,$T31)+COUNTIF($D$181:$D$185,$T31) -> 0 | AD31: =SUMIF($D$157:$D$176,$T31,$H$157:$H$176)+SUMIF($D$181:$D$185,$T31,$H$181:$H$185) -> 0 | AE31: =COUNTIF($D$191:$D$210,$T31)+COUNTIF($D$215:$D$219,$T31) -> 0 | AF31: =SUMIF($D$191:$D$210,$T31,$H$191:$H$210)+SUMIF($D$215:$D$219,$T31,$H$215:$H$219) -> 0 | AG31: =SUM(U31,W31,Y31,AA31,AC31,AE31) -> 0 | AH31: =SUM(V31,X31,Z31,AB31,AD31,AF31) -> 0
I32: =IF(AND(B32<>"",C32<>"",D32<>"",E32<>"",F32<>"",G32<>"",H32<>""),VLOOKUP(G32,通所介護費!$A$20:$B$24,2,0),0) -> 0 | J32: =(I32*H32)*0.1*10 -> 0 | T32: =対象地域一覧!A32 -> 0 | U32: =COUNTIF($D$21:$D$40,$T32)+COUNTIF($D$45:$D$49,$T32) -> 0 | V32: =SUMIF($D$21:$D$40,$T32,$H$21:$H$40)+SUMIF($D$45:$D$49,$T32,$H$45:$H$49) -> 0 | W32: =COUNTIF($D$55:$D$74,$T32)+COUNTIF($D$79:$D$83,$T32) -> 0 | X32: =SUMIF($D$55:$D$74,$T32,$H$55:$H$74)+SUMIF($D$79:$D$83,$T32,$H$79:$H$83) -> 0 | Y32: =COUNTIF($D$89:$D$108,$T32)+COUNTIF($D$113:$D$117,$T32) -> 0 | Z32: =SUMIF($D$89:$D$108,$T32,$H$89:$H$108)+SUMIF($D$113:$D$117,$T32,$H$113:$H$117) -> 0 | AA32: =COUNTIF($D$123:$D$142,$T32)+COUNTIF($D$147:$D$151,$T32) -> 0 | AB32: =SUMIF($D$123:$D$142,$T32,$H$123:$H$142)+SUMIF($D$147:$D$151,$T32,$H$147:$H$151) -> 0 | AC32: =COUNTIF($D$157:$D$176,$T32)+COUNTIF($D$181:$D$185,$T32) -> 0 | AD32: =SUMIF($D$157:$D$176,$T32,$H$157:$H$176)+SUMIF($D$181:$D$185,$T32,$H$181:$H$185) -> 0 | AE32: =COUNTIF($D$191:$D$210,$T32)+COUNTIF($D$215:$D$219,$T32) -> 0 | AF32: =SUMIF($D$191:$D$210,$T32,$H$191:$H$210)+SUMIF($D$215:$D$219,$T32,$H$215:$H$219) -> 0 | AG32: =SUM(U32,W32,Y32,AA32,AC32,AE32) -> 0 | AH32: =SUM(V32,X32,Z32,AB32,AD32,AF32) -> 0
... I40: =IF(AND(B40<>"",C40<>"",D40<>"",E40<>"",F40<>"",G40<>"",H40<>""),VLOOKUP(G40,通所介護費!$A$20:$B$24,2,0),0) -> 0 | J40: =(I40*H40)*0.1*10 -> 0 | T40: =対象地域一覧!A40 -> 0 | U40: =COUNTIF($D$21:$D$40,$T40)+COUNTIF($D$45:$D$49,$T40) -> 0 | V40: =SUMIF($D$21:$D$40,$T40,$H$21:$H$40)+SUMIF($D$45:$D$49,$T40,$H$45:$H$49) -> 0 | W40: =COUNTIF($D$55:$D$74,$T40)+COUNTIF($D$79:$D$83,$T40) -> 0 | X40: =SUMIF($D$55:$D$74,$T40,$H$55:$H$74)+SUMIF($D$79:$D$83,$T40,$H$79:$H$83) -> 0 | Y40: =COUNTIF($D$89:$D$108,$T40)+COUNTIF($D$113:$D$117,$T40) -> 0 | Z40: =SUMIF($D$89:$D$108,$T40,$H$89:$H$108)+SUMIF($D$113:$D$117,$T40,$H$113:$H$117) -> 0 | AA40: =COUNTIF($D$123:$D$142,$T40)+COUNTIF($D$147:$D$151,$T40) -> 0 | AB40: =SUMIF($D$123:$D$142,$T40,$H$123:$H$142)+SUMIF($D$147:$D$151,$T40,$H$147:$H$151) -> 0 | AC40: =COUNTIF($D$157:$D$176,$T40)+COUNTIF($D$181:$D$185,$T40) -> 0 | AD40: =SUMIF($D$157:$D$176,$T40,$H$157:$H$176)+SUMIF($D$181:$D$185,$T40,$H$181:$H$185) -> 0 | AE40: =COUNTIF($D$191:$D$210,$T40)+COUNTIF($D$215:$D$219,$T40) -> 0 | AF40: =SUMIF($D$191:$D$210,$T40,$H$191:$H$210)+SUMIF($D$215:$D$219,$T40,$H$215:$H$219) -> 0 | AG40: =SUM(U40,W40,Y40,AA40,AC40,AE40) -> 0 | AH40: =SUM(V40,X40,Z40,AB40,AD40,AF40) -> 0
A41: 合計 | H41: =SUMIF(H21:H40,"<>#N/A") -> 0 | I41: =SUMIF(I21:I40,"<>#N/A") -> 0 | J41: =SUMIF(J21:J40,"<>#N/A") -> 0 | T41: =対象地域一覧!A41 -> 0 | U41: =COUNTIF($D$21:$D$40,$T41)+COUNTIF($D$45:$D$49,$T41) -> 0 | V41: =SUMIF($D$21:$D$40,$T41,$H$21:$H$40)+SUMIF($D$45:$D$49,$T41,$H$45:$H$49) -> 0 | W41: =COUNTIF($D$55:$D$74,$T41)+COUNTIF($D$79:$D$83,$T41) -> 0 | X41: =SUMIF($D$55:$D$74,$T41,$H$55:$H$74)+SUMIF($D$79:$D$83,$T41,$H$79:$H$83) -> 0 | Y41: =COUNTIF($D$89:$D$108,$T41)+COUNTIF($D$113:$D$117,$T41) -> 0 | Z41: =SUMIF($D$89:$D$108,$T41,$H$89:$H$108)+SUMIF($D$113:$D$117,$T41,$H$113:$H$117) -> 0 | AA41: =COUNTIF($D$123:$D$142,$T41)+COUNTIF($D$147:$D$151,$T41) -> 0 | AB41: =SUMIF($D$123:$D$142,$T41,$H$123:$H$142)+SUMIF($D$147:$D$151,$T41,$H$147:$H$151) -> 0 | AC41: =COUNTIF($D$157:$D$176,$T41)+COUNTIF($D$181:$D$185,$T41) -> 0 | AD41: =SUMIF($D$157:$D$176,$T41,$H$157:$H$176)+SUMIF($D$181:$D$185,$T41,$H$181:$H$185) -> 0 | AE41: =COUNTIF($D$191:$D$210,$T41)+COUNTIF($D$215:$D$219,$T41) -> 0 | AF41: =SUMIF($D$191:$D$210,$T41,$H$191:$H$210)+SUMIF($D$215:$D$219,$T41,$H$215:$H$219) -> 0 | AG41: =SUM(U41,W41,Y41,AA41,AC41,AE41) -> 0 | AH41: =SUM(V41,X41,Z41,AB41,AD41,AF41) -> 0
U42: =COUNTIF($D$21:$D$40,$T42)+COUNTIF($D$45:$D$49,$T42) -> 0 | V42: =SUMIF($D$21:$D$40,$T42,$H$21:$H$40)+SUMIF($D$45:$D$49,$T42,$H$45:$H$49) -> 0 | W42: =COUNTIF($D$55:$D$74,$T42)+COUNTIF($D$79:$D$83,$T42) -> 0 | X42: =SUMIF($D$55:$D$74,$T42,$H$55:$H$74)+SUMIF($D$79:$D$83,$T42,$H$79:$H$83) -> 0 | Y42: =COUNTIF($D$89:$D$108,$T42)+COUNTIF($D$113:$D$117,$T42) -> 0 | Z42: =SUMIF($D$89:$D$108,$T42,$H$89:$H$108)+SUMIF($D$113:$D$117,$T42,$H$113:$H$117) -> 0 | AA42: =COUNTIF($D$123:$D$142,$T42)+COUNTIF($D$147:$D$151,$T42) -> 0 | AB42: =SUMIF($D$123:$D$142,$T42,$H$123:$H$142)+SUMIF($D$147:$D$151,$T42,$H$147:$H$151) -> 0 | AC42: =COUNTIF($D$157:$D$176,$T42)+COUNTIF($D$181:$D$185,$T42) -> 0 | AD42: =SUMIF($D$157:$D$176,$T42,$H$157:$H$176)+SUMIF($D$181:$D$185,$T42,$H$181:$H$185) -> 0 | AE42: =COUNTIF($D$191:$D$210,$T42)+COUNTIF($D$215:$D$219,$T42) -> 0 | AF42: =SUMIF($D$191:$D$210,$T42,$H$191:$H$210)+SUMIF($D$215:$D$219,$T42,$H$215:$H$219) -> 0 | AG42: =SUM(U42,W42,Y42,AA42,AC42,AE42) -> 0 | AH42: =SUM(V42,X42,Z42,AB42,AD42,AF42) -> 0
A43: ※片道のみ送迎を行った場合 | U43: =COUNTIF($D$21:$D$40,$T43)+COUNTIF($D$45:$D$49,$T43) -> 0 | V43: =SUMIF($D$21:$D$40,$T43,$H$21:$H$40)+SUMIF($D$45:$D$49,$T43,$H$45:$H$49) -> 0 | W43: =COUNTIF($D$55:$D$74,$T43)+COUNTIF($D$79:$D$83,$T43) -> 0 | X43: =SUMIF($D$55:$D$74,$T43,$H$55:$H$74)+SUMIF($D$79:$D$83,$T43,$H$79:$H$83) -> 0 | Y43: =COUNTIF($D$89:$D$108,$T43)+COUNTIF($D$113:$D$117,$T43) -> 0 | Z43: =SUMIF($D$89:$D$108,$T43,$H$89:$H$108)+SUMIF($D$113:$D$117,$T43,$H$113:$H$117) -> 0 | AA43: =COUNTIF($D$123:$D$142,$T43)+COUNTIF($D$147:$D$151,$T43) -> 0 | AB43: =SUMIF($D$123:$D$142,$T43,$H$123:$H$142)+SUMIF($D$147:$D$151,$T43,$H$147:$H$151) -> 0 | AC43: =COUNTIF($D$157:$D$176,$T43)+COUNTIF($D$181:$D$185,$T43) -> 0 | AD43: =SUMIF($D$157:$D$176,$T43,$H$157:$H$176)+SUMIF($D$181:$D$185,$T43,$H$181:$H$185) -> 0 | AE43: =COUNTIF($D$191:$D$210,$T43)+COUNTIF($D$215:$D$219,$T43) -> 0 | AF43: =SUMIF($D$191:$D$210,$T43,$H$191:$H$210)+SUMIF($D$215:$D$219,$T43,$H$215:$H$219) -> 0 | AG43: =SUM(U43,W43,Y43,AA43,AC43,AE43) -> 0 | AH43: =SUM(V43,X43,Z43,AB43,AD43,AF43) -> 0
A44: 所要時間3時間以上4時間未満の場合 | B44: 被保険者番号 | C44: 被保険者氏名 | D44: 地区名 | E44: 事業所から 利用者宅までの 距離（km） | F44: 事業所から 利用者宅までの 所要時間（分） | G44: 要介護度 | H44: サービス 提供回数 ※片道のみ | I44: 基本報酬 （月単位数） | J44: 基準額(月) | U44: =COUNTIF($D$21:$D$40,$T44)+COUNTIF($D$45:$D$49,$T44) -> 0 | V44: =SUMIF($D$21:$D$40,$T44,$H$21:$H$40)+SUMIF($D$45:$D$49,$T44,$H$45:$H$49) -> 0 | W44: =COUNTIF($D$55:$D$74,$T44)+COUNTIF($D$79:$D$83,$T44) -> 0 | X44: =SUMIF($D$55:$D$74,$T44,$H$55:$H$74)+SUMIF($D$79:$D$83,$T44,$H$79:$H$83) -> 0 | Y44: =COUNTIF($D$89:$D$108,$T44)+COUNTIF($D$113:$D$117,$T44) -> 0 | Z44: =SUMIF($D$89:$D$108,$T44,$H$89:$H$108)+SUMIF($D$113:$D$117,$T44,$H$113:$H$117) -> 0 | AA44: =COUNTIF($D$123:$D$142,$T44)+COUNTIF($D$147:$D$151,$T44) -> 0 | AB44: =SUMIF($D$123:$D$142,$T44,$H$123:$H$142)+SUMIF($D$147:$D$151,$T44,$H$147:$H$151) -> 0 | AC44: =COUNTIF($D$157:$D$176,$T44)+COUNTIF($D$181:$D$185,$T44) -> 0 | AD44: =SUMIF($D$157:$D$176,$T44,$H$157:$H$176)+SUMIF($D$181:$D$185,$T44,$H$181:$H$185) -> 0 | AE44: =COUNTIF($D$191:$D$210,$T44)+COUNTIF($D$215:$D$219,$T44) -> 0 | AF44: =SUMIF($D$191:$D$210,$T44,$H$191:$H$210)+SUMIF($D$215:$D$219,$T44,$H$215:$H$219) -> 0 | AG44: =SUM(U44,W44,Y44,AA44,AC44,AE44) -> 0 | AH44: =SUM(V44,X44,Z44,AB44,AD44,AF44) -> 0
I45: =IF(AND(B45<>"",C45<>"",D45<>"",F45<>"",E45<>"",G45<>"",H45<>""),VLOOKUP(G45,通所介護費!$A$20:$B$24,2,0),0) -> 0 | J45: =((I45*H45)*0.1*10)/2 -> 0 | U45: =COUNTIF($D$21:$D$40,$T45)+COUNTIF($D$45:$D$49,$T45) -> 0 | V45: =SUMIF($D$21:$D$40,$T45,$H$21:$H$40)+SUMIF($D$45:$D$49,$T45,$H$45:$H$49) -> 0 | W45: =COUNTIF($D$55:$D$74,$T45)+COUNTIF($D$79:$D$83,$T45) -> 0 | X45: =SUMIF($D$55:$D$74,$T45,$H$55:$H$74)+SUMIF($D$79:$D$83,$T45,$H$79:$H$83) -> 0 | Y45: =COUNTIF($D$89:$D$108,$T45)+COUNTIF($D$113:$D$117,$T45) -> 0 | Z45: =SUMIF($D$89:$D$108,$T45,$H$89:$H$108)+SUMIF($D$113:$D$117,$T45,$H$113:$H$117) -> 0 | AA45: =COUNTIF($D$123:$D$142,$T45)+COUNTIF($D$147:$D$151,$T45) -> 0 | AB45: =SUMIF($D$123:$D$142,$T45,$H$123:$H$142)+SUMIF($D$147:$D$151,$T45,$H$147:$H$151) -> 0 | AC45: =COUNTIF($D$157:$D$176,$T45)+COUNTIF($D$181:$D$185,$T45) -> 0 | AD45: =SUMIF($D$157:$D$176,$T45,$H$157:$H$176)+SUMIF($D$181:$D$185,$T45,$H$181:$H$185) -> 0 | AE45: =COUNTIF($D$191:$D$210,$T45)+COUNTIF($D$215:$D$219,$T45) -> 0 | AF45: =SUMIF($D$191:$D$210,$T45,$H$191:$H$210)+SUMIF($D$215:$D$219,$T45,$H$215:$H$219) -> 0 | AG45: =SUM(U45,W45,Y45,AA45,AC45,AE45) -> 0 | AH45: =SUM(V45,X45,Z45,AB45,AD45,AF45) -> 0
I46: =IF(AND(B46<>"",C46<>"",D46<>"",F46<>"",E46<>"",G46<>"",H46<>""),VLOOKUP(G46,通所介護費!$A$20:$B$24,2,0),0) -> 0 | J46: =((I46*H46)*0.1*10)/2 -> 0 | AG46: =SUM(AG3:AG45) -> 0 | AH46: =SUM(AH3:AH45) -> 0
I47: =IF(AND(B47<>"",C47<>"",D47<>"",F47<>"",E47<>"",G47<>"",H47<>""),VLOOKUP(G47,通所介護費!$A$20:$B$24,2,0),0) -> 0 | J47: =((I47*H47)*0.1*10)/2 -> 0
I48: =IF(AND(B48<>"",C48<>"",D48<>"",F48<>"",E48<>"",G48<>"",H48<>""),VLOOKUP(G48,通所介護費!$A$20:$B$24,2,0),0) -> 0 | J48: =((I48*H48)*0.1*10)/2 -> 0
I49: =IF(AND(B49<>"",C49<>"",D49<>"",F49<>"",E49<>"",G49<>"",H49<>""),VLOOKUP(G49,通所介護費!$A$20:$B$24,2,0),0) -> 0 | J49: =((I49*H49)*0.1*10)/2 -> 0
A50: 合計 | H50: =SUMIF(H45:H49,"<>#N/A") -> 0 | I50: =SUMIF(I45:I49,"<>#N/A") -> 0 | J50: =SUMIF(J45:J49,"<>#N/A") -> 0
A52: （2）所要時間4時間以上5時間未満の場合
A53: ※往復の送迎を行った場合 （片道のみ送迎を行った場合は下記別表に入力すること）
A54: 所要時間4時間以上5時間未満の場合 | B54: 被保険者番号 | C54: 被保険者氏名 | D54: 地区名 | E54: 事業所から 利用者宅までの 距離（km） | F54: 事業所から 利用者宅までの 所要時間（分） | G54: 要介護度 | H54: サービス 提供回数 | I54: 基本報酬 （月単位数） | J54: 基準額(月)
I55: =IF(AND(B55<>"",C55<>"",D55<>"",E55<>"",F55<>"",G55<>"",H55<>""),VLOOKUP(G55,通所介護費!$A$27:$B$31,2,0),0) -> 0 | J55: =(I55*H55)*0.1*10 -> 0
I56: =IF(AND(B56<>"",C56<>"",D56<>"",E56<>"",F56<>"",G56<>"",H56<>""),VLOOKUP(G56,通所介護費!$A$27:$B$31,2,0),0) -> 0 | J56: =(I56*H56)*0.1*10 -> 0
I57: =IF(AND(B57<>"",C57<>"",D57<>"",E57<>"",F57<>"",G57<>"",H57<>""),VLOOKUP(G57,通所介護費!$A$27:$B$31,2,0),0) -> 0 | J57: =(I57*H57)*0.1*10 -> 0
I58: =IF(AND(B58<>"",C58<>"",D58<>"",E58<>"",F58<>"",G58<>"",H58<>""),VLOOKUP(G58,通所介護費!$A$27:$B$31,2,0),0) -> 0 | J58: =(I58*H58)*0.1*10 -> 0
I59: =IF(AND(B59<>"",C59<>"",D59<>"",E59<>"",F59<>"",G59<>"",H59<>""),VLOOKUP(G59,通所介護費!$A$27:$B$31,2,0),0) -> 0 | J59: =(I59*H59)*0.1*10 -> 0
I60: =IF(AND(B60<>"",C60<>"",D60<>"",E60<>"",F60<>"",G60<>"",H60<>""),VLOOKUP(G60,通所介護費!$A$27:$B$31,2,0),0) -> 0 | J60: =(I60*H60)*0.1*10 -> 0
I61: =IF(AND(B61<>"",C61<>"",D61<>"",E61<>"",F61<>"",G61<>"",H61<>""),VLOOKUP(G61,通所介護費!$A$27:$B$31,2,0),0) -> 0 | J61: =(I61*H61)*0.1*10 -> 0
I62: =IF(AND(B62<>"",C62<>"",D62<>"",E62<>"",F62<>"",G62<>"",H62<>""),VLOOKUP(G62,通所介護費!$A$27:$B$31,2,0),0) -> 0 | J62: =(I62*H62)*0.1*10 -> 0
I63: =IF(AND(B63<>"",C63<>"",D63<>"",E63<>"",F63<>"",G63<>"",H63<>""),VLOOKUP(G63,通所介護費!$A$27:$B$31,2,0),0) -> 0 | J63: =(I63*H63)*0.1*10 -> 0
I64: =IF(AND(B64<>"",C64<>"",D64<>"",E64<>"",F64<>"",G64<>"",H64<>""),VLOOKUP(G64,通所介護費!$A$27:$B$31,2,0),0) -> 0 | J64: =(I64*H64)*0.1*10 -> 0
I65: =IF(AND(B65<>"",C65<>"",D65<>"",E65<>"",F65<>"",G65<>"",H65<>""),VLOOKUP(G65,通所介護費!$A$27:$B$31,2,0),0) -> 0 | J65: =(I65*H65)*0.1*10 -> 0
I66: =IF(AND(B66<>"",C66<>"",D66<>"",E66<>"",F66<>"",G66<>"",H66<>""),VLOOKUP(G66,通所介護費!$A$27:$B$31,2,0),0) -> 0 | J66: =(I66*H66)*0.1*10 -> 0
... I74: =IF(AND(B74<>"",C74<>"",D74<>"",E74<>"",F74<>"",G74<>"",H74<>""),VLOOKUP(G74,通所介護費!$A$27:$B$31,2,0),0) -> 0 | J74: =(I74*H74)*0.1*10 -> 0
A75: 合計 | H75: =SUMIF(H55:H74,"<>#N/A") -> 0 | I75: =SUMIF(I55:I74,"<>#N/A") -> 0 | J75: =SUMIF(J55:J74,"<>#N/A") -> 0
A77: ※片道のみ送迎を行った場合
A78: 所要時間4時間以上5時間未満の場合 | B78: 被保険者番号 | C78: 被保険者氏名 | D78: 地区名 | E78: 事業所から 利用者宅までの 距離（km） | F78: 事業所から 利用者宅までの 所要時間（分） | G78: 要介護度 | H78: サービス 提供回数 ※片道のみ | I78: 基本報酬 （月単位数） | J78: 基準額(月)
I79: =IF(AND(B79<>"",C79<>"",D79<>"",E79<>"",F79<>"",G79<>"",H79<>""),VLOOKUP(G79,通所介護費!$A$27:$B$31,2,0),0) -> 0 | J79: =((I79*H79)*0.1*10)/2 -> 0
I80: =IF(AND(B80<>"",C80<>"",D80<>"",E80<>"",F80<>"",G80<>"",H80<>""),VLOOKUP(G80,通所介護費!$A$27:$B$31,2,0),0) -> 0 | J80: =((I80*H80)*0.1*10)/2 -> 0
I81: =IF(AND(B81<>"",C81<>"",D81<>"",E81<>"",F81<>"",G81<>"",H81<>""),VLOOKUP(G81,通所介護費!$A$27:$B$31,2,0),0) -> 0 | J81: =((I81*H81)*0.1*10)/2 -> 0
I82: =IF(AND(B82<>"",C82<>"",D82<>"",E82<>"",F82<>"",G82<>"",H82<>""),VLOOKUP(G82,通所介護費!$A$27:$B$31,2,0),0) -> 0 | J82: =((I82*H82)*0.1*10)/2 -> 0
I83: =IF(AND(B83<>"",C83<>"",D83<>"",E83<>"",F83<>"",G83<>"",H83<>""),VLOOKUP(G83,通所介護費!$A$27:$B$31,2,0),0) -> 0 | J83: =((I83*H83)*0.1*10)/2 -> 0
A84: 合計 | H84: =SUMIF(H79:H83,"<>#N/A") -> 0 | I84: =SUMIF(I79:I83,"<>#N/A") -> 0 | J84: =SUMIF(J79:J83,"<>#N/A") -> 0
A86: （3）所要時間5時間以上6時間未満の場合
A87: ※往復の送迎を行った場合 （片道のみ送迎を行った場合は下記別表に入力すること）
A88: 所要時間5時間以上6時間未満の場合 | B88: 被保険者番号 | C88: 被保険者氏名 | D88: 地区名 | E88: 事業所から 利用者宅までの 距離（km） | F88: 事業所から 利用者宅までの 所要時間（分） | G88: 要介護度 | H88: サービス 提供回数 | I88: 基本報酬 （月単位数） | J88: 基準額(月)
I89: =IF(AND(B89<>"",C89<>"",D89<>"",E89<>"",F89<>"",G89<>"",H89<>""),VLOOKUP(G89,通所介護費!$A$34:$B$38,2,0),0) -> 0 | J89: =(I89*H89)*0.1*10 -> 0
I90: =IF(AND(B90<>"",C90<>"",D90<>"",E90<>"",F90<>"",G90<>"",H90<>""),VLOOKUP(G90,通所介護費!$A$34:$B$38,2,0),0) -> 0 | J90: =(I90*H90)*0.1*10 -> 0
